Workbook

Sheet Historic - corrected
A1: Saskatoon Christmas Bird Counts, 1955-56 to 2025-26 (count day results corrected for effort: Corrected count = Raw count X Average party hours (all years) / Party hours) - Page 1 of 2
A6: Year | B6: Average All Years | D6: 2025 | E6: ='Historic - uncorrected'!D6 -> 2024 | F6: ='Historic - uncorrected'!E6 -> 2023 | G6: ='Historic - uncorrected'!F6 -> 2022 | H6: ='Historic - uncorrected'!G6 -> 2021 | I6: ='Historic - uncorrected'!H6 -> 2020 | J6: ='Historic - uncorrected'!I6 -> 2019 | K6: ='Historic - uncorrected'!J6 -> 2018 | L6: ='Historic - uncorrected'!K6 -> 2017 | ... BV6: ='Historic - uncorrected'!BU6 -> 1955
A8: Total Species - count day | B8: =SUM(C8:BV8)/(COUNT(C8:BV8)-1) -> 35.928571 | D8: ='Historic - uncorrected'!C8 -> 39 | E8: ='Historic - uncorrected'!D8 -> 40 | F8: ='Historic - uncorrected'!E8 -> 44 | G8: 38 | H8: 36 | I8: 44 | J8: 38 | K8: 39 | L8: 43 | M8: 42 | N8: 45 | O8: 43 | P8: 39 | Q8: 42 | R8: 48 | S8: 47 | T8: 43 | U8: 39 | V8: 44 | W8: 42 | X8: 40 | Y8: 46 | Z8: 41 | AA8: 45 | AB8: 40 | AC8: 43 | AD8: 41 | AE8: 44 | AF8: 41 | AG8: 37 | AH8: 40 | AI8: 37 | AJ8: 30 | AK8: 32 | AL8: 41 | AM8: 40 | AN8: 32 | AO8: 33 | AP8: 42 | AQ8: 40 | AR8: 33 | AS8: 34 | AT8: 30 | AU8: 34 | AV8: 37 | AW8: 36 | AX8: 41 | AY8: 38 | AZ8: 34 | BA8: 27 | BB8: 34 | BC8: 42 | BD8: 39 | BE8: 29 | BF8: 30 | BG8: 28 | BH8: 30 | BI8: 36 | BJ8: 23 | BK8: 24 | BL8: 25 | BM8: 22 | BN8: 28 | BO8: 23 | BP8: 19 | BQ8: 24 | BR8: 16 | BS8: 22 | BT8: 15 | BU8: 19 | BV8: 23
A10: Party Hours (field only) | B10: =SUM(C10:BV10)/(COUNT(C10:BV10)-1) -> 91.288048 | D10: 101.13333 | E10: 116.63333 | F10: 122.16667 | G10: 87.216667 | H10: 92.233333 | I10: 172.83 | J10: 93.5 | K10: 93.5 | L10: 96 | M10: 88.8 | N10: 95.1 | O10: 95 | P10: 100.8 | Q10: 98.3 | R10: 102.2 | S10: 113.3 | T10: 113.1 | U10: 112.6 | V10: 127.1 | W10: 121.4 | X10: 128.5 | Y10: 110.3 | Z10: 130.4 | AA10: 140 | AB10: 133 | AC10: 111 | AD10: 124.8 | AE10: 123 | AF10: 125.1 | AG10: 94.5 | AH10: 111.75 | AI10: 85.6 | AJ10: 84 | AK10: 90.25 | AL10: 122 | AM10: 111 | AN10: 89 | AO10: 126 | AP10: 120 | AQ10: 104 | AR10: 102.5 | AS10: 84.8 | AT10: 69 | AU10: 94 | AV10: 103.5 | AW10: 88 | AX10: 97 | AY10: 84.5 | AZ10: 88.5 | BA10: 98 | BB10: 89.5 | BC10: 106.5 | BD10: 89 | BE10: 72 | BF10: 55 | BG10: 63.5 | BH10: 70.5 | BI10: 61 | BJ10: 47 | BK10: 35.5 | BL10: 40.5 | BM10: 39 | BN10: 44 | BO10: 26 | BP10: 38 | BQ10: 36.5 | BR10: 21.75 | BS10: 37 | BT10: 28.5 | BU10: 35.5 | BV10: 37
A11: Participants (Field + FW) | B11: =SUM(C11:BV11)/(COUNT(C11:BV11)-1) -> 65.985714 | D11: ='Historic - uncorrected'!C11 -> 70 | E11: ='Historic - uncorrected'!D11 -> 71 | F11: ='Historic - uncorrected'!E11 -> 66 | G11: 69 | H11: 73 | I11: 99 | J11: 77 | K11: 61 | L11: 69 | M11: 80 | N11: 81 | O11: 93 | P11: 93 | Q11: 117 | R11: 96 | S11: 100 | T11: 109 | U11: 102 | V11: 114 | W11: 110 | X11: 111 | Y11: 115 | Z11: 115 | AA11: 118 | AB11: 125 | AC11: 110 | AD11: 114 | AE11: 101 | AF11: 82 | AG11: 74 | AH11: 77 | AI11: 60 | AJ11: 43 | AK11: 55 | AL11: 75 | AM11: 76 | AN11: 56 | AO11: 47 | AP11: 74 | AQ11: 49 | AR11: 48 | AS11: 33 | AT11: 36 | AU11: 52 | AV11: 40 | AW11: 45 | AX11: 40 | AY11: 50 | AZ11: 41 | BA11: 65 | BB11: 42 | BC11: 62 | BD11: 58 | BE11: 53 | BF11: 28 | BG11: 44 | BH11: 49 | BI11: 51 | BJ11: 23 | BK11: 32 | BL11: 24 | BM11: 20 | BN11: 32 | BO11: 36 | BP11: 37 | BQ11: 27 | BR11: 23 | BS11: 29 | BT11: 21 | BU11: 27 | BV11: 24
BW13: Filter blank rows
A14: BIRDS
A15: Snow Goose | B15: =SUM(C15:BV15)/(COUNT(C15:BV15)-1) -> 0.034304192 | C15: 0 | D15: =IF('Historic - uncorrected'!C15<0,"",'Historic - uncorrected'!C15*$B$10/D$10) -> 0 | E15: =IF('Historic - uncorrected'!D15<0,"",'Historic - uncorrected'!D15*$B$10/E$10) -> 0 | F15: =IF('Historic - uncorrected'!E15<0,"",'Historic - uncorrected'!E15*$B$10/F$10) -> 1.4944837 | G15: =IF('Historic - uncorrected'!F15<0,"",'Historic - uncorrected'!F15*$B$10/G$10) -> 0 | H15: =IF('Historic - uncorrected'!G15<0,"",'Historic - uncorrected'!G15*$B$10/H$10) -> 0 | I15: =IF('Historic - uncorrected'!H15<0,"",'Historic - uncorrected'!H15*$B$10/I$10) -> 0 | J15: =IF('Historic - uncorrected'!I15<0,"",'Historic - uncorrected'!I15*$B$10/J$10) -> 0 | K15: =IF('Historic - uncorrected'!J15<0,"",'Historic - uncorrected'!J15*$B$10/K$10) -> 0 | ... BV15: =IF('Historic - uncorrected'!BU15<0,"",'Historic - uncorrected'!BU15*$B$10/BV$10) -> 0 | BW15: =COUNTIF(C15:BV15,">0") -> 2
A16: Greater White-fronted Goose | B16: =SUM(C16:BV16)/(COUNT(C16:BV16)-1) -> 0.012072743 | C16: 0 | D16: =IF('Historic - uncorrected'!C16<0,"",'Historic - uncorrected'!C16*$B$10/D$10) -> 0 | E16: =IF('Historic - uncorrected'!D16<0,"",'Historic - uncorrected'!D16*$B$10/E$10) -> 0 | F16: =IF('Historic - uncorrected'!E16<0,"",'Historic - uncorrected'!E16*$B$10/F$10) -> 0 | G16: =IF('Historic - uncorrected'!F16<0,"",'Historic - uncorrected'!F16*$B$10/G$10) -> 0 | H16: =IF('Historic - uncorrected'!G16<0,"",'Historic - uncorrected'!G16*$B$10/H$10) -> 0 | I16: =IF('Historic - uncorrected'!H16<0,"",'Historic - uncorrected'!H16*$B$10/I$10) -> 0 | J16: =IF('Historic - uncorrected'!I16<0,"",'Historic - uncorrected'!I16*$B$10/J$10) -> 0 | K16: =IF('Historic - uncorrected'!J16<0,"",'Historic - uncorrected'!J16*$B$10/K$10) -> 0 | ... BV16: =IF('Historic - uncorrected'!BU16<0,"",'Historic - uncorrected'!BU16*$B$10/BV$10) -> 0 | BW16: =COUNTIF(C16:BV16,">0") -> 1
A17: Cackling Goose | B17: =SUM(C17:BV17)/(COUNT(C17:BV17)-1) -> 2.1428487 | C17: 0 | D17: =IF('Historic - uncorrected'!C17<0,"",'Historic - uncorrected'!C17*$B$10/D$10) -> 0 | E17: =IF('Historic - uncorrected'!D17<0,"",'Historic - uncorrected'!D17*$B$10/E$10) -> 0 | F17: =IF('Historic - uncorrected'!E17<0,"",'Historic - uncorrected'!E17*$B$10/F$10) -> 8.2196605 | G17: =IF('Historic - uncorrected'!F17<0,"",'Historic - uncorrected'!F17*$B$10/G$10) -> 0 | H17: =IF('Historic - uncorrected'!G17<0,"",'Historic - uncorrected'!G17*$B$10/H$10) -> 0 | I17: =IF('Historic - uncorrected'!H17<0,"",'Historic - uncorrected'!H17*$B$10/I$10) -> 0 | J17: =IF('Historic - uncorrected'!I17<0,"",'Historic - uncorrected'!I17*$B$10/J$10) -> 0 | K17: =IF('Historic - uncorrected'!J17<0,"",'Historic - uncorrected'!J17*$B$10/K$10) -> 0 | ... BV17: =IF('Historic - uncorrected'!BU17<0,"",'Historic - uncorrected'!BU17*$B$10/BV$10) -> 0 | BW17: =COUNTIF(C17:BV17,">0") -> 2
A18: Canada Goose | B18: =SUM(C18:BV18)/(COUNT(C18:BV18)-1) -> 260.43885 | C18: 0 | D18: =IF('Historic - uncorrected'!C18<0,"",'Historic - uncorrected'!C18*$B$10/D$10) -> 53.256376 | E18: =IF('Historic - uncorrected'!D18<0,"",'Historic - uncorrected'!D18*$B$10/E$10) -> 465.7021 | F18: =IF('Historic - uncorrected'!E18<0,"",'Historic - uncorrected'!E18*$B$10/F$10) -> 1667.0966 | G18: =IF('Historic - uncorrected'!F18<0,"",'Historic - uncorrected'!F18*$B$10/G$10) -> 11.513493 | H18: =IF('Historic - uncorrected'!G18<0,"",'Historic - uncorrected'!G18*$B$10/H$10) -> 46.518304 | I18: =IF('Historic - uncorrected'!H18<0,"",'Historic - uncorrected'!H18*$B$10/I$10) -> 98.244384 | J18: =IF('Historic - uncorrected'!I18<0,"",'Historic - uncorrected'!I18*$B$10/J$10) -> 1872.6254 | K18: =IF('Historic - uncorrected'!J18<0,"",'Historic - uncorrected'!J18*$B$10/K$10) -> 2050.3198 | ... BV18: =IF('Historic - uncorrected'!BU18<0,"",'Historic - uncorrected'!BU18*$B$10/BV$10) -> 0 | BW18: =COUNTIF(C18:BV18,">0") -> 34
A19: Tundra Swan | B19: =SUM(C19:BV19)/(COUNT(C19:BV19)-1) -> 0.015378714 | C19: 0 | D19: =IF('Historic - uncorrected'!C19<0,"",'Historic - uncorrected'!C19*$B$10/D$10) | E19: =IF('Historic - uncorrected'!D19<0,"",'Historic - uncorrected'!D19*$B$10/E$10) -> 0 | F19: =IF('Historic - uncorrected'!E19<0,"",'Historic - uncorrected'!E19*$B$10/F$10) -> 0 | G19: =IF('Historic - uncorrected'!F19<0,"",'Historic - uncorrected'!F19*$B$10/G$10) -> 0 | H19: =IF('Historic - uncorrected'!G19<0,"",'Historic - uncorrected'!G19*$B$10/H$10) -> 0 | I19: =IF('Historic - uncorrected'!H19<0,"",'Historic - uncorrected'!H19*$B$10/I$10) -> 0 | J19: =IF('Historic - uncorrected'!I19<0,"",'Historic - uncorrected'!I19*$B$10/J$10) -> 0 | K19: =IF('Historic - uncorrected'!J19<0,"",'Historic - uncorrected'!J19*$B$10/K$10) -> 0 | ... BV19: =IF('Historic - uncorrected'!BU19<0,"",'Historic - uncorrected'!BU19*$B$10/BV$10) -> 0 | BW19: =COUNTIF(C19:BV19,">0") -> 1
A20: Duck sp. | B20: =SUM(C20:BV20)/(COUNT(C20:BV20)-1) -> 0.2312505 | C20: 0 | D20: =IF('Historic - uncorrected'!C20<0,"",'Historic - uncorrected'!C20*$B$10/D$10) -> 0 | E20: =IF('Historic - uncorrected'!D20<0,"",'Historic - uncorrected'!D20*$B$10/E$10) -> 0 | F20: =IF('Historic - uncorrected'!E20<0,"",'Historic - uncorrected'!E20*$B$10/F$10) -> 0 | G20: =IF('Historic - uncorrected'!F20<0,"",'Historic - uncorrected'!F20*$B$10/G$10) -> 0 | H20: =IF('Historic - uncorrected'!G20<0,"",'Historic - uncorrected'!G20*$B$10/H$10) -> 0 | I20: =IF('Historic - uncorrected'!H20<0,"",'Historic - uncorrected'!H20*$B$10/I$10) -> 0 | J20: =IF('Historic - uncorrected'!I20<0,"",'Historic - uncorrected'!I20*$B$10/J$10) -> 0 | K20: =IF('Historic - uncorrected'!J20<0,"",'Historic - uncorrected'!J20*$B$10/K$10) -> 0 | ... BV20: =IF('Historic - uncorrected'!BU20<0,"",'Historic - uncorrected'!BU20*$B$10/BV$10) -> 0 | BW20: =COUNTIF(C20:BV20,">0") -> 4
A21: Northern Shoveler | B21: =SUM(C21:BV21)/(COUNT(C21:BV21)-1) -> 0.039429066 | C21: 0 | D21: =IF('Historic - uncorrected'!C21<0,"",'Historic - uncorrected'!C21*$B$10/D$10) -> 0 | E21: =IF('Historic - uncorrected'!D21<0,"",'Historic - uncorrected'!D21*$B$10/E$10) -> 0 | F21: =IF('Historic - uncorrected'!E21<0,"",'Historic - uncorrected'!E21*$B$10/F$10) -> 0 | G21: =IF('Historic - uncorrected'!F21<0,"",'Historic - uncorrected'!F21*$B$10/G$10) -> 0 | H21: =IF('Historic - uncorrected'!G21<0,"",'Historic - uncorrected'!G21*$B$10/H$10) -> 0 | I21: =IF('Historic - uncorrected'!H21<0,"",'Historic - uncorrected'!H21*$B$10/I$10) -> 0 | J21: =IF('Historic - uncorrected'!I21<0,"",'Historic - uncorrected'!I21*$B$10/J$10) -> 0 | K21: =IF('Historic - uncorrected'!J21<0,"",'Historic - uncorrected'!J21*$B$10/K$10) -> 0 | ... BV21: =IF('Historic - uncorrected'!BU21<0,"",'Historic - uncorrected'!BU21*$B$10/BV$10) -> 0 | BW21: =COUNTIF(C21:BV21,">0") -> 2
A22: Gadwall | B22: =SUM(C22:BV22)/(COUNT(C22:BV22)-1) -> 0.034686229 | C22: 0 | D22: =IF('Historic - uncorrected'!C22<0,"",'Historic - uncorrected'!C22*$B$10/D$10) -> 0 | E22: =IF('Historic - uncorrected'!D22<0,"",'Historic - uncorrected'!D22*$B$10/E$10) -> 0 | F22: =IF('Historic - uncorrected'!E22<0,"",'Historic - uncorrected'!E22*$B$10/F$10) -> 0 | G22: =IF('Historic - uncorrected'!F22<0,"",'Historic - uncorrected'!F22*$B$10/G$10) -> 0 | H22: =IF('Historic - uncorrected'!G22<0,"",'Historic - uncorrected'!G22*$B$10/H$10) -> 0 | I22: =IF('Historic - uncorrected'!H22<0,"",'Historic - uncorrected'!H22*$B$10/I$10) -> 0 | J22: =IF('Historic - uncorrected'!I22<0,"",'Historic - uncorrected'!I22*$B$10/J$10) -> 0 | K22: =IF('Historic - uncorrected'!J22<0,"",'Historic - uncorrected'!J22*$B$10/K$10) -> 0 | ... BV22: =IF('Historic - uncorrected'!BU22<0,"",'Historic - uncorrected'!BU22*$B$10/BV$10) -> 0 | BW22: =COUNTIF(C22:BV22,">0") -> 2
A23: American Wigeon | B23: =SUM(C23:BV23)/(COUNT(C23:BV23)-1) -> 0.041325809 | C23: 0 | D23: =IF('Historic - uncorrected'!C23<0,"",'Historic - uncorrected'!C23*$B$10/D$10) -> 0 | E23: =IF('Historic - uncorrected'!D23<0,"",'Historic - uncorrected'!D23*$B$10/E$10) -> 0 | F23: =IF('Historic - uncorrected'!E23<0,"",'Historic - uncorrected'!E23*$B$10/F$10) -> 0 | G23: =IF('Historic - uncorrected'!F23<0,"",'Historic - uncorrected'!F23*$B$10/G$10) -> 0 | H23: =IF('Historic - uncorrected'!G23<0,"",'Historic - uncorrected'!G23*$B$10/H$10) -> 0 | I23: =IF('Historic - uncorrected'!H23<0,"",'Historic - uncorrected'!H23*$B$10/I$10) -> 0 | J23: =IF('Historic - uncorrected'!I23<0,"",'Historic - uncorrected'!I23*$B$10/J$10) -> 0 | K23: =IF('Historic - uncorrected'!J23<0,"",'Historic - uncorrected'!J23*$B$10/K$10) -> 0 | ... BV23: =IF('Historic - uncorrected'!BU23<0,"",'Historic - uncorrected'!BU23*$B$10/BV$10) -> 0 | BW23: =COUNTIF(C23:BV23,">0") -> 2
A24: Mallard | B24: =SUM(C24:BV24)/(COUNT(C24:BV24)-1) -> 44.221655 | C24: 0 | D24: =IF('Historic - uncorrected'!C24<0,"",'Historic - uncorrected'!C24*$B$10/D$10) -> 18.955659 | E24: =IF('Historic - uncorrected'!D24<0,"",'Historic - uncorrected'!D24*$B$10/E$10) -> 156.53852 | F24: =IF('Historic - uncorrected'!E24<0,"",'Historic - uncorrected'!E24*$B$10/F$10) -> 276.47949 | G24: =IF('Historic - uncorrected'!F24<0,"",'Historic - uncorrected'!F24*$B$10/G$10) -> 80.594454 | H24: =IF('Historic - uncorrected'!G24<0,"",'Historic - uncorrected'!G24*$B$10/H$10) -> 184.09371 | I24: =IF('Historic - uncorrected'!H24<0,"",'Historic - uncorrected'!H24*$B$10/I$10) -> 75.003777 | J24: =IF('Historic - uncorrected'!I24<0,"",'Historic - uncorrected'!I24*$B$10/J$10) -> 44.911767 | K24: =IF('Historic - uncorrected'!J24<0,"",'Historic - uncorrected'!J24*$B$10/K$10) -> 82.989134 | ... BV24: =IF('Historic - uncorrected'!BU24<0,"",'Historic - uncorrected'!BU24*$B$10/BV$10) -> 0 | BW24: =COUNTIF(C24:BV24,">0") -> 68
A25: Northern Pintail | B25: =SUM(C25:BV25)/(COUNT(C25:BV25)-1) -> 0.16345336 | C25: 0 | D25: =IF('Historic - uncorrected'!C25<0,"",'Historic - uncorrected'!C25*$B$10/D$10) -> 0 | E25: =IF('Historic - uncorrected'!D25<0,"",'Historic - uncorrected'!D25*$B$10/E$10) -> 0 | F25: =IF('Historic - uncorrected'!E25<0,"",'Historic - uncorrected'!E25*$B$10/F$10) -> 0 | G25: =IF('Historic - uncorrected'!F25<0,"",'Historic - uncorrected'!F25*$B$10/G$10) -> 0 | H25: =IF('Historic - uncorrected'!G25<0,"",'Historic - uncorrected'!G25*$B$10/H$10) -> 0 | I25: =IF('Historic - uncorrected'!H25<0,"",'Historic - uncorrected'!H25*$B$10/I$10) -> 0 | J25: =IF('Historic - uncorrected'!I25<0,"",'Historic - uncorrected'!I25*$B$10/J$10) -> 0 | K25: =IF('Historic - uncorrected'!J25<0,"",'Historic - uncorrected'!J25*$B$10/K$10) -> 0 | ... BV25: =IF('Historic - uncorrected'!BU25<0,"",'Historic - uncorrected'!BU25*$B$10/BV$10) -> 0 | BW25: =COUNTIF(C25:BV25,">0") -> 6
A26: Green-winged Teal | B26: =SUM(C26:BV26)/(COUNT(C26:BV26)-1) -> 0.03972541 | C26: 0 | D26: =IF('Historic - uncorrected'!C26<0,"",'Historic - uncorrected'!C26*$B$10/D$10) -> 0 | E26: =IF('Historic - uncorrected'!D26<0,"",'Historic - uncorrected'!D26*$B$10/E$10) -> 0 | F26: =IF('Historic - uncorrected'!E26<0,"",'Historic - uncorrected'!E26*$B$10/F$10) | G26: =IF('Historic - uncorrected'!F26<0,"",'Historic - uncorrected'!F26*$B$10/G$10) -> 0 | H26: =IF('Historic - uncorrected'!G26<0,"",'Historic - uncorrected'!G26*$B$10/H$10) -> 0 | I26: =IF('Historic - uncorrected'!H26<0,"",'Historic - uncorrected'!H26*$B$10/I$10) -> 0 | J26: =IF('Historic - uncorrected'!I26<0,"",'Historic - uncorrected'!I26*$B$10/J$10) -> 0 | K26: =IF('Historic - uncorrected'!J26<0,"",'Historic - uncorrected'!J26*$B$10/K$10) -> 0 | ... BV26: =IF('Historic - uncorrected'!BU26<0,"",'Historic - uncorrected'!BU26*$B$10/BV$10) -> 0 | BW26: =COUNTIF(C26:BV26,">0") -> 2
... A155: Northern Cardinal | B155: =SUM(C155:BV155)/(COUNT(C155:BV155)-1) -> 0.038094517 | C155: 0 | D155: =IF('Historic - uncorrected'!C155<0,"",'Historic - uncorrected'!C155*$B$10/D$10) -> 0 | E155: =IF('Historic - uncorrected'!D155<0,"",'Historic - uncorrected'!D155*$B$10/E$10) -> 0 | F155: =IF('Historic - uncorrected'!E155<0,"",'Historic - uncorrected'!E155*$B$10/F$10) -> 0.74724186 | G155: =IF('Historic - uncorrected'!F155<0,"",'Historic - uncorrected'!F155*$B$10/G$10) -> 0 | H155: =IF('Historic - uncorrected'!G155<0,"",'Historic - uncorrected'!G155*$B$10/H$10) -> 0 | I155: =IF('Historic - uncorrected'!H155<0,"",'Historic - uncorrected'!H155*$B$10/I$10) -> 0 | J155: =IF('Historic - uncorrected'!I155<0,"",'Historic - uncorrected'!I155*$B$10/J$10) -> 0 | K155: =IF('Historic - uncorrected'!J155<0,"",'Historic - uncorrected'!J155*$B$10/K$10) -> 0 | ... BV155: =IF('Historic - uncorrected'!BU155<0,"",'Historic - uncorrected'!BU155*$B$10/BV$10) -> 0 | BW155: =COUNTIF(C155:BV155,">0") -> 3
A156: Total Birds - count day | B156: =SUM(C156:BV156)/(COUNT(C156:BV156)-1) -> 9805.4545 | C156: 0 | D156: =SUM(D15:D155) -> 7786.2627 | E156: =SUM(E15:E155) -> 7826.9261 | F156: =SUM(F15:F155) -> 10249.917 | G156: =SUM(G15:G155) -> 10256.429 | H156: =SUM(H15:H155) -> 10336.961 | I156: =SUM(I15:I155) -> 7876.453 | J156: =SUM(J15:J155) -> 9901.0919 | K156: =SUM(K15:K155) -> 10307.25 | ... BV156: =SUM(BV15:BV155) -> 8788.325 | BW156: =COUNTIF(C156:BV156,">0") -> 71

Sheet Historic - uncorrected
A1: Saskatoon Christmas Bird Counts, 1955-56 to 2025-26 (uncorrected) Page 2 of 2
A6: Year | C6: 2025 | D6: 2024 | E6: 2023 | F6: 2022 | G6: 2021 | H6: 2020 | I6: 2019 | J6: 2018 | K6: 2017 | L6: 2016 | M6: 2015 | N6: 2014 | O6: 2013 | P6: 2012 | Q6: 2011 | R6: 2010 | S6: 2009 | T6: 2008 | U6: 2007 | V6: 2006 | W6: 2005 | X6: 2004 | Y6: 2003 | Z6: 2002 | AA6: 2001 | AB6: 2000 | AC6: 1999 | AD6: 1998 | AE6: 1997 | AF6: 1996 | AG6: 1995 | AH6: 1994 | AI6: 1993 | AJ6: 1992 | AK6: 1991 | AL6: 1990 | AM6: 1989 | AN6: 1988 | AO6: 1987 | AP6: 1986 | AQ6: 1985 | AR6: 1984 | AS6: 1983 | AT6: 1982 | AU6: 1981 | AV6: 1980 | AW6: 1979 | AX6: 1978 | AY6: 1977 | AZ6: 1976 | BA6: 1975 | BB6: 1974 | BC6: 1973 | BD6: 1972 | BE6: 1971 | BF6: 1970 | BG6: 1969 | BH6: 1968 | BI6: 1967 | BJ6: 1966 | BK6: 1965 | BL6: 1964 | BM6: 1963 | BN6: 1962 | BO6: 1961 | BP6: 1960 | BQ6: 1959 | BR6: 1958 | BS6: 1957 | BT6: 1956 | BU6: 1955
A8: Total Species - count day | C8: 39 | D8: 40 | E8: 44 | F8: 38 | G8: 35 | H8: 44 | I8: 38 | J8: 39 | K8: 42 | L8: 42 | M8: 44 | N8: 42 | O8: 39 | P8: 41 | Q8: 47 | R8: 44 | S8: 42 | T8: 37 | U8: 43 | V8: 41 | W8: 40 | X8: 45 | Y8: 40 | Z8: 45 | AA8: 38 | AB8: 42 | AC8: 40 | AD8: 43 | AE8: 41 | AF8: 37 | AG8: 39 | AH8: 37 | AI8: 29 | AJ8: 32 | AK8: 39 | AL8: 39 | AM8: 31 | AN8: 33 | AO8: 41 | AP8: 39 | AQ8: 31 | AR8: 33 | AS8: 30 | AT8: 34 | AU8: 36 | AV8: 35 | AW8: 41 | AX8: 38 | AY8: 33 | AZ8: 26 | BA8: 33 | BB8: 42 | BC8: 39 | BD8: 29 | BE8: 29 | BF8: 27 | BG8: 29 | BH8: 35 | BI8: 23 | BJ8: 24 | BK8: 24 | BL8: 22 | BM8: 27 | BN8: 22 | BO8: 19 | BP8: 23 | BQ8: 15 | BR8: 22 | BS8: 15 | BT8: 19 | BU8: 23
A9: Total Species - count period | C9: 2 | D9: 2 | E9: 4 | F9: 1 | G9: 4 | I9: 5 | J9: 2 | K9: 1 | L9: 1 | M9: 2 | N9: 2 | O9: 2 | P9: 5 | Q9: 2 | R9: 2 | S9: 3 | T9: 4 | U9: 4 | V9: 2 | W9: 2 | X9: 4 | Y9: 3 | Z9: 3 | AA9: 1 | AB9: 2 | AC9: 4 | AD9: 2 | AE9: 4 | AF9: 3 | AG9: 2 | AH9: 6 | AI9: 3 | AJ9: 2 | AK9: 1 | AL9: 0 | AM9: 3 | AN9: 0 | AO9: 0 | AP9: 2 | AQ9: 2 | AR9: 2 | AS9: 2 | AT9: 1 | AU9: 1 | AV9: 3 | AW9: 1 | AX9: 1 | AY9: 3 | AZ9: 4 | BA9: 1 | BB9: 3 | BC9: 2 | BD9: 6 | BE9: 0 | BF9: 0 | BG9: 2 | BH9: 2 | BI9: 4 | BJ9: 6 | BK9: 0 | BL9: 2 | BM9: 0 | BN9: 4 | BO9: 1 | BP9: 3 | BQ9: 0 | BR9: 2 | BS9: 0 | BT9: 1 | BU9: 0
A10: Party Hours (field) | C10: 101.13333 | D10: 116.63333 | E10: 122.16667 | F10: 87.216667 | G10: 92.233333 | H10: 172.83 | I10: 93.5 | J10: 93.5 | K10: 96 | L10: 88.8 | M10: 95.1 | N10: 95 | O10: 100.8 | P10: 98.3 | Q10: 102.2 | R10: 113.3 | S10: 113.1 | T10: 112.6 | U10: 127.1 | V10: 121.4 | W10: 128.5 | X10: 110.3 | Y10: 130.4 | Z10: 140 | AA10: 133 | AB10: 111 | AC10: 124.8 | AD10: 123 | AE10: 125.1 | AF10: 94.5 | AG10: 111.75 | AH10: 85.6 | AI10: 84 | AJ10: 90.25 | AK10: 122 | AL10: 111 | AM10: 89 | AN10: 126 | AO10: 120 | AP10: 104 | AQ10: 102.5 | AR10: 84.8 | AS10: 69 | AT10: 94 | AU10: 103.5 | AV10: 88 | AW10: 97 | AX10: 84.5 | AY10: 88.5 | AZ10: 98 | BA10: 89.5 | BB10: 106.5 | BC10: 89 | BD10: 72 | BE10: 55 | BF10: 63.5 | BG10: 70.5 | BH10: 61 | BI10: 47 | BJ10: 35.5 | BK10: 40.5 | BL10: 39 | BM10: 44 | BN10: 26 | BO10: 38 | BP10: 36.5 | BQ10: 21.75 | BR10: 37 | BS10: 28.5 | BT10: 35.5 | BU10: 37
A11: Participants (field + FW) | C11: 70 | D11: 71 | E11: 66 | F11: 69 | G11: 73 | H11: 99 | I11: 77 | J11: 61 | K11: 69 | L11: 80 | M11: 81 | N11: 93 | O11: 93 | P11: 117 | Q11: 96 | R11: 100 | S11: 109 | T11: 102 | U11: 114 | V11: 110 | W11: 111 | X11: 115 | Y11: 115 | Z11: 118 | AA11: 125 | AB11: 110 | AC11: 114 | AD11: 101 | AE11: 82 | AF11: 74 | AG11: 77 | AH11: 60 | AI11: 43 | AJ11: 55 | AK11: 75 | AL11: 76 | AM11: 56 | AN11: 47 | AO11: 74 | AP11: 49 | AQ11: 48 | AR11: 33 | AS11: 36 | AT11: 52 | AU11: 40 | AV11: 45 | AW11: 40 | AX11: 50 | AY11: 41 | AZ11: 65 | BA11: 42 | BB11: 62 | BC11: 58 | BD11: 53 | BE11: 28 | BF11: 44 | BG11: 49 | BH11: 51 | BI11: 23 | BJ11: 32 | BK11: 24 | BL11: 20 | BM11: 32 | BN11: 36 | BO11: 37 | BP11: 27 | BQ11: 23 | BR11: 29 | BS11: 21 | BT11: 27 | BU11: 24
BV13: Filter blank rows
A14: BIRDS
A15: Snow Goose | B15: 0 | C15: 0 | D15: 0 | E15: 2 | F15: 0 | G15: 0 | H15: 0 | I15: 0 | J15: 0 | K15: 0 | L15: 0 | M15: 0 | N15: 0 | O15: 0 | P15: 0 | Q15: 0 | R15: 0 | S15: 0 | T15: 0 | U15: 0 | V15: 0 | W15: 0 | X15: 0 | Y15: 0 | Z15: 0 | AA15: 0 | AB15: 0 | AC15: 0 | AD15: 0 | AE15: 0 | AF15: 0 | AG15: 0 | AH15: 0 | AI15: 0 | AJ15: 0 | AK15: 0 | AL15: 0 | AM15: 0 | AN15: 0 | AO15: 0 | AP15: 0 | AQ15: 0 | AR15: 0 | AS15: 0 | AT15: 0 | AU15: 0 | AV15: 0 | AW15: 1 | AX15: 0 | AY15: 0 | AZ15: 0 | BA15: 0 | BB15: 0 | BC15: 0 | BD15: 0 | BE15: 0 | BF15: 0 | BG15: 0 | BH15: 0 | BI15: 0 | BJ15: 0 | BK15: 0 | BL15: 0 | BM15: 0 | BN15: 0 | BO15: 0 | BP15: 0 | BQ15: 0 | BR15: 0 | BS15: 0 | BT15: 0 | BU15: 0 | BV15: =COUNTIF(B15:BU15,"<>0") -> 2 | CB15: =IF(CA15=BZ15,"","X")
A16: Greater White-fronted Goose | B16: 0 | C16: 0 | D16: 0 | E16: 0 | F16: 0 | G16: 0 | H16: 0 | I16: 0 | J16: 0 | K16: 0 | L16: 0 | M16: 0 | N16: 0 | O16: 0 | P16: 0 | Q16: 0 | R16: 0 | S16: 0 | T16: 0 | U16: 0 | V16: 0 | W16: 0 | X16: 0 | Y16: 0 | Z16: 0 | AA16: 0 | AB16: 0 | AC16: 0 | AD16: 0 | AE16: 0 | AF16: 0 | AG16: 0 | AH16: 0 | AI16: 0 | AJ16: 0 | AK16: 0 | AL16: 0 | AM16: 0 | AN16: 0 | AO16: 0 | AP16: 0 | AQ16: 0 | AR16: 0 | AS16: 0 | AT16: 0 | AU16: 0 | AV16: 0 | AW16: 0 | AX16: 0 | AY16: 0 | AZ16: 0 | BA16: 0 | BB16: 1 | BC16: 0 | BD16: 0 | BE16: 0 | BF16: 0 | BG16: 0 | BH16: 0 | BI16: 0 | BJ16: 0 | BK16: 0 | BL16: 0 | BM16: 0 | BN16: 0 | BO16: 0 | BP16: 0 | BQ16: 0 | BR16: 0 | BS16: 0 | BT16: 0 | BU16: 0 | BV16: =COUNTIF(B16:BU16,"<>0") -> 1 | CB16: =IF(CA16=BZ16,"","X")
A17: Cackling Goose | B17: 0 | C17: 0 | D17: 0 | E17: 11 | F17: 0 | G17: 0 | H17: 0 | I17: 0 | J17: 0 | K17: 0 | L17: 140 | M17: 0 | N17: 0 | O17: 0 | P17: 0 | Q17: 0 | R17: 0 | S17: 0 | T17: 0 | U17: 0 | V17: 0 | W17: 0 | X17: 0 | Y17: 0 | Z17: 0 | AA17: 0 | AB17: 0 | AC17: 0 | AD17: 0 | AE17: 0 | AF17: 0 | AG17: 0 | AH17: 0 | AI17: 0 | AJ17: 0 | AK17: 0 | AL17: 0 | AM17: 0 | AN17: 0 | AO17: 0 | AP17: 0 | AQ17: 0 | AR17: 0 | AS17: 0 | AT17: 0 | AU17: 0 | AV17: 0 | AW17: 0 | AX17: 0 | AY17: 0 | AZ17: 0 | BA17: 0 | BB17: 0 | BC17: 0 | BD17: 0 | BE17: 0 | BF17: 0 | BG17: 0 | BH17: 0 | BI17: 0 | BJ17: 0 | BK17: 0 | BL17: 0 | BM17: 0 | BN17: 0 | BO17: 0 | BP17: 0 | BQ17: 0 | BR17: 0 | BS17: 0 | BT17: 0 | BU17: 0 | BV17: =COUNTIF(B17:BU17,"<>0") -> 2 | CB17: =IF(CA17=BZ17,"","X")
A18: Canada Goose | B18: 0 | C18: 59 | D18: 595 | E18: 2231 | F18: 11 | G18: 47 | H18: 186 | I18: 1918 | J18: 2100 | K18: 776 | L18: 680 | M18: 175 | N18: 18 | O18: 0 | P18: 1 | Q18: 421 | R18: 20 | S18: 851 | T18: 14 | U18: 62 | V18: 286 | W18: 2071 | X18: 1303 | Y18: 2792 | Z18: 6194 | AA18: 94 | AB18: 1 | AC18: 5 | AD18: 63 | AE18: -1 | AF18: 6 | AG18: 11 | AH18: 29 | AI18: 0 | AJ18: 0 | AK18: 0 | AL18: 0 | AM18: 0 | AN18: 32 | AO18: 3 | AP18: 0 | AQ18: 0 | AR18: 0 | AS18: 0 | AT18: 0 | AU18: 1 | AV18: -1 | AW18: 1 | AX18: 0 | AY18: 0 | AZ18: 0 | BA18: 0 | BB18: 0 | BC18: 0 | BD18: 0 | BE18: 0 | BF18: 0 | BG18: 0 | BH18: 0 | BI18: 0 | BJ18: 0 | BK18: 0 | BL18: 0 | BM18: 0 | BN18: 0 | BO18: 0 | BP18: 0 | BQ18: 0 | BR18: 0 | BS18: 0 | BT18: 0 | BU18: 0 | BV18: =COUNTIF(B18:BU18,"<>0") -> 36 | CB18: =IF(CA18=BZ18,"","X")
A19: Tundra Swan | B19: 0 | C19: -1 | D19: 0 | E19: 0 | F19: 0 | G19: 0 | H19: 0 | I19: 0 | J19: 0 | K19: 0 | L19: 0 | M19: 0 | N19: 0 | O19: 0 | P19: 0 | Q19: 0 | R19: 0 | S19: 0 | T19: 0 | U19: 0 | V19: 0 | W19: 0 | X19: 0 | Y19: 0 | Z19: 0 | AA19: 0 | AB19: 0 | AC19: 0 | AD19: 0 | AE19: 0 | AF19: 0 | AG19: 0 | AH19: 0 | AI19: 0 | AJ19: 0 | AK19: 0 | AL19: 0 | AM19: 0 | AN19: 0 | AO19: 0 | AP19: 0 | AQ19: 0 | AR19: 1 | AS19: 0 | AT19: 0 | AU19: 0 | AV19: 0 | AW19: 0 | AX19: 0 | AY19: 0 | AZ19: 0 | BA19: 0 | BB19: 0 | BC19: 0 | BD19: 0 | BE19: 0 | BF19: 0 | BG19: 0 | BH19: 0 | BI19: 0 | BJ19: 0 | BK19: 0 | BL19: 0 | BM19: 0 | BN19: 0 | BO19: 0 | BP19: 0 | BQ19: 0 | BR19: 0 | BS19: 0 | BT19: 0 | BU19: 0 | BV19: =COUNTIF(B19:BU19,"<>0") -> 2 | CB19: =IF(CA19=BZ19,"","X")
A20: Duck sp. | B20: 0 | C20: 0 | D20: 0 | E20: 0 | F20: 0 | G20: 0 | H20: 0 | I20: 0 | J20: 0 | K20: 0 | L20: 0 | M20: 0 | N20: 0 | O20: 0 | P20: 0 | Q20: 3 | R20: 2 | S20: 14 | T20: 0 | U20: 0 | V20: 0 | W20: 0 | X20: 1 | Y20: 0 | Z20: 0 | AA20: 0 | AB20: 0 | AC20: 0 | AD20: 0 | AE20: 0 | AF20: 0 | AG20: 0 | AH20: 0 | AI20: 0 | AJ20: 0 | AK20: 0 | AL20: 0 | AM20: 0 | AN20: 0 | AO20: 0 | AP20: 0 | AQ20: 0 | AR20: 0 | AS20: 0 | AT20: 0 | AU20: 0 | AV20: 0 | AW20: 0 | AX20: 0 | AY20: 0 | AZ20: 0 | BA20: 0 | BB20: 0 | BC20: 0 | BD20: 0 | BE20: 0 | BF20: 0 | BG20: 0 | BH20: 0 | BI20: 0 | BJ20: 0 | BK20: 0 | BL20: 0 | BM20: 0 | BN20: 0 | BO20: 0 | BP20: 0 | BQ20: 0 | BR20: 0 | BS20: 0 | BT20: 0 | BU20: 0 | BV20: =COUNTIF(B20:BU20,"<>0") -> 4 | CB20: =IF(CA20=BZ20,"","X")
A21: Northern Shoveler | B21: 0 | C21: 0 | D21: 0 | E21: 0 | F21: 0 | G21: 0 | H21: 0 | I21: 0 | J21: 0 | K21: 0 | L21: 0 | M21: 0 | N21: 0 | O21: 0 | P21: 0 | Q21: 0 | R21: 0 | S21: 0 | T21: 0 | U21: 0 | V21: 0 | W21: 0 | X21: 0 | Y21: 0 | Z21: 0 | AA21: 0 | AB21: 0 | AC21: 0 | AD21: 0 | AE21: 0 | AF21: 0 | AG21: 0 | AH21: 0 | AI21: 0 | AJ21: 0 | AK21: 0 | AL21: 0 | AM21: 0 | AN21: 0 | AO21: 0 | AP21: 0 | AQ21: 0 | AR21: 0 | AS21: 0 | AT21: 0 | AU21: 0 | AV21: 0 | AW21: 0 | AX21: 0 | AY21: 0 | AZ21: 0 | BA21: 0 | BB21: 1 | BC21: 0 | BD21: 0 | BE21: 0 | BF21: 0 | BG21: 0 | BH21: 0 | BI21: 1 | BJ21: 0 | BK21: 0 | BL21: 0 | BM21: 0 | BN21: 0 | BO21: 0 | BP21: 0 | BQ21: 0 | BR21: 0 | BS21: 0 | BT21: 0 | BU21: 0 | BV21: =COUNTIF(B21:BU21,"<>0") -> 2 | CB21: =IF(CA21=BZ21,"","X")
A22: Gadwall | B22: 0 | C22: 0 | D22: 0 | E22: 0 | F22: 0 | G22: 0 | H22: 0 | I22: 0 | J22: 0 | K22: 0 | L22: 0 | M22: 0 | N22: 0 | O22: 0 | P22: 0 | Q22: 0 | R22: 0 | S22: 0 | T22: 0 | U22: 0 | V22: 0 | W22: 0 | X22: 0 | Y22: 0 | Z22: 0 | AA22: 0 | AB22: 0 | AC22: 0 | AD22: 0 | AE22: 0 | AF22: 0 | AG22: 0 | AH22: 0 | AI22: 0 | AJ22: 0 | AK22: 0 | AL22: 0 | AM22: 0 | AN22: 0 | AO22: 0 | AP22: 0 | AQ22: 0 | AR22: 0 | AS22: 0 | AT22: 0 | AU22: 0 | AV22: 0 | AW22: 0 | AX22: 0 | AY22: 0 | AZ22: 1 | BA22: 0 | BB22: -1 | BC22: 0 | BD22: 0 | BE22: 0 | BF22: 0 | BG22: 0 | BH22: 1 | BI22: 0 | BJ22: 0 | BK22: 0 | BL22: 0 | BM22: 0 | BN22: 0 | BO22: 0 | BP22: 0 | BQ22: 0 | BR22: 0 | BS22: 0 | BT22: 0 | BU22: 0 | BV22: =COUNTIF(B22:BU22,"<>0") -> 3 | CB22: =IF(CA22=BZ22,"","X")
A23: American Wigeon | B23: 0 | C23: 0 | D23: 0 | E23: 0 | F23: 0 | G23: 0 | H23: 0 | I23: 0 | J23: 0 | K23: 0 | L23: 0 | M23: 0 | N23: 0 | O23: 0 | P23: 0 | Q23: 0 | R23: 0 | S23: 0 | T23: 0 | U23: 0 | V23: 0 | W23: 0 | X23: 0 | Y23: 0 | Z23: 0 | AA23: 0 | AB23: 0 | AC23: 0 | AD23: 0 | AE23: 0 | AF23: 0 | AG23: 0 | AH23: 0 | AI23: 0 | AJ23: 0 | AK23: 0 | AL23: 0 | AM23: 0 | AN23: 0 | AO23: 0 | AP23: 0 | AQ23: 0 | AR23: 0 | AS23: 0 | AT23: 0 | AU23: 0 | AV23: 0 | AW23: 0 | AX23: 0 | AY23: 0 | AZ23: 0 | BA23: 0 | BB23: 0 | BC23: 0 | BD23: 0 | BE23: 0 | BF23: 1 | BG23: 0 | BH23: 1 | BI23: 0 | BJ23: 0 | BK23: 0 | BL23: 0 | BM23: 0 | BN23: 0 | BO23: 0 | BP23: 0 | BQ23: 0 | BR23: 0 | BS23: 0 | BT23: 0 | BU23: 0 | BV23: =COUNTIF(B23:BU23,"<>0") -> 2 | CB23: =IF(CA23=BZ23,"","X")
A24: Mallard | B24: 0 | C24: 21 | D24: 200 | E24: 370 | F24: 77 | G24: 186 | H24: 142 | I24: 46 | J24: 85 | K24: 9 | L24: 19 | M24: 10 | N24: 44 | O24: 169 | P24: 55 | Q24: 84 | R24: 42 | S24: 19 | T24: 9 | U24: 52 | V24: 177 | W24: 31 | X24: 30 | Y24: 223 | Z24: 460 | AA24: 26 | AB24: 5 | AC24: 20 | AD24: 59 | AE24: 27 | AF24: 3 | AG24: 1 | AH24: 5 | AI24: 0 | AJ24: 1 | AK24: 6 | AL24: 1 | AM24: 8 | AN24: 38 | AO24: 72 | AP24: 4 | AQ24: 36 | AR24: 10 | AS24: 7 | AT24: 10 | AU24: 5 | AV24: 8 | AW24: 16 | AX24: 4 | AY24: 14 | AZ24: 84 | BA24: 38 | BB24: 74 | BC24: 45 | BD24: 35 | BE24: 40 | BF24: 25 | BG24: 18 | BH24: 41 | BI24: 22 | BJ24: 33 | BK24: 15 | BL24: 2 | BM24: 7 | BN24: 3 | BO24: -5 | BP24: 3 | BQ24: 9 | BR24: 9 | BS24: 10 | BT24: 8 | BU24: 0 | BV24: =COUNTIF(B24:BU24,"<>0") -> 69 | CB24: =IF(CA24=BZ24,"","X")
A25: Northern Pintail | B25: 0 | C25: 0 | D25: 0 | E25: 0 | F25: 0 | G25: 0 | H25: 0 | I25: 0 | J25: 0 | K25: 0 | L25: 0 | M25: 0 | N25: 0 | O25: 0 | P25: 0 | Q25: 0 | R25: 0 | S25: 0 | T25: 0 | U25: 0 | V25: 0 | W25: 0 | X25: 0 | Y25: 0 | Z25: 1 | AA25: 0 | AB25: 0 | AC25: 0 | AD25: 0 | AE25: 0 | AF25: 0 | AG25: 0 | AH25: 0 | AI25: 0 | AJ25: 0 | AK25: 0 | AL25: 0 | AM25: 0 | AN25: 0 | AO25: 0 | AP25: 0 | AQ25: 0 | AR25: 0 | AS25: 0 | AT25: 0 | AU25: 0 | AV25: 0 | AW25: 4 | AX25: 0 | AY25: 0 | AZ25: 0 | BA25: 1 | BB25: 3 | BC25: 1 | BD25: 0 | BE25: 0 | BF25: 0 | BG25: 0 | BH25: 0 | BI25: 0 | BJ25: 1 | BK25: 0 | BL25: 0 | BM25: 0 | BN25: 0 | BO25: 0 | BP25: 0 | BQ25: 0 | BR25: 0 | BS25: 0 | BT25: 0 | BU25: 0 | BV25: =COUNTIF(B25:BU25,"<>0") -> 6 | CB25: =IF(CA25=BZ25,"","X")
A26: Green-winged Teal | B26: 0 | C26: 0 | D26: 0 | E26: -2 | F26: 0 | G26: 0 | H26: 0 | I26: 0 | J26: 0 | K26: 0 | L26: 0 | M26: 0 | N26: 0 | O26: 0 | P26: 0 | Q26: 0 | R26: 0 | S26: 0 | T26: 0 | U26: 0 | V26: 0 | W26: 0 | X26: 0 | Y26: 0 | Z26: 0 | AA26: 0 | AB26: 0 | AC26: 0 | AD26: 0 | AE26: 0 | AF26: 0 | AG26: 0 | AH26: 1 | AI26: 0 | AJ26: 0 | AK26: 0 | AL26: 0 | AM26: 0 | AN26: 0 | AO26: 0 | AP26: 0 | AQ26: 0 | AR26: 0 | AS26: 0 | AT26: 0 | AU26: 0 | AV26: 0 | AW26: 0 | AX26: 0 | AY26: 0 | AZ26: 0 | BA26: 0 | BB26: 2 | BC26: 0 | BD26: 0 | BE26: 0 | BF26: 0 | BG26: 0 | BH26: 0 | BI26: 0 | BJ26: 0 | BK26: 0 | BL26: 0 | BM26: 0 | BN26: 0 | BO26: 0 | BP26: 0 | BQ26: 0 | BR26: 0 | BS26: 0 | BT26: 0 | BU26: 0 | BV26: =COUNTIF(B26:BU26,"<>0") -> 3 | CB26: =IF(CA26=BZ26,"","X")
... A29: Ring-necked Duck | B29: 0 | C29: 0 | D29: 0 | E29: 1 | F29: 0 | G29: 0 | H29: 0 | I29: 0 | J29: 2 | K29: 0 | L29: 0 | M29: 0 | N29: 0 | O29: 0 | P29: 0 | Q29: 0 | R29: 0 | S29: 0 | T29: 0 | U29: 0 | V29: 0 | W29: 0 | X29: 0 | Y29: 0 | Z29: 0 | AA29: 1 | AB29: 0 | AC29: 0 | AD29: 0 | AE29: 1 | AF29: 0 | AG29: 0 | AH29: 0 | AI29: 0 | AJ29: 0 | AK29: 0 | AL29: 0 | AM29: 0 | AN29: 0 | AO29: 0 | AP29: 0 | AQ29: 0 | AR29: 0 | AS29: 0 | AT29: 0 | AU29: 0 | AV29: 0 | AW29: 0 | AX29: 0 | AY29: 0 | AZ29: 0 | BA29: 0 | BB29: 0 | BC29: 0 | BD29: 0 | BE29: 0 | BF29: 0 | BG29: 0 | BH29: 0 | BI29: 0 | BJ29: 0 | BK29: 0 | BL29: 0 | BM29: 0 | BN29: 0 | BO29: 0 | BP29: 0 | BQ29: 0 | BR29: 0 | BS29: 0 | BT29: 0 | BU29: 0 | BV29: =COUNTIF(B29:BU29,"<>0") -> 4 | CB29: =IF(CA29=BZ29,"","X")
A30: Greaater Scaup | C30: 1 | BV30: =COUNTIF(B30:BU30,"<>0") -> 72
A31: Lesser Scaup | B31: 0 | C31: 0 | D31: 0 | E31: 3 | F31: 0 | G31: 0 | H31: 1 | I31: 0 | J31: 5 | K31: 2 | L31: 0 | M31: 0 | N31: 0 | O31: 0 | P31: 0 | Q31: 2 | R31: 0 | S31: 0 | T31: 0 | U31: 2 | V31: 0 | W31: 0 | X31: 1 | Y31: 0 | Z31: 6 | AA31: 1 | AB31: 0 | AC31: 0 | AD31: 0 | AE31: 0 | AF31: 0 | AG31: 0 | AH31: 0 | AI31: 0 | AJ31: 0 | AK31: 0 | AL31: 0 | AM31: 0 | AN31: 0 | AO31: 0 | AP31: 0 | AQ31: 0 | AR31: 6 | AS31: 0 | AT31: 0 | AU31: 0 | AV31: 0 | AW31: 2 | AX31: 0 | AY31: 0 | AZ31: 3 | BA31: 3 | BB31: 8 | BC31: 0 | BD31: 0 | BE31: 6 | BF31: 0 | BG31: 0 | BH31: 0 | BI31: 0 | BJ31: 4 | BK31: 0 | BL31: 0 | BM31: 0 | BN31: 3 | BO31: 0 | BP31: 0 | BQ31: 0 | BR31: 0 | BS31: 0 | BT31: 0 | BU31: 2 | BV31: =COUNTIF(B31:BU31,"<>0") -> 18 | CB31: =IF(CA31=BZ31,"","X")
A32: Harlequin Duck | B32: 0 | C32: 0 | D32: 0 | E32: 0 | F32: 0 | G32: 0 | H32: 0 | I32: 0 | J32: 0 | K32: 0 | L32: -1 | M32: 1 | N32: 0 | O32: 0 | P32: 0 | Q32: 0 | R32: 0 | S32: 0 | T32: 0 | U32: 0 | V32: 0 | W32: 0 | X32: 0 | Y32: 0 | Z32: 0 | AA32: 0 | AB32: 0 | AC32: 0 | AD32: 0 | AE32: 0 | AF32: 0 | AG32: 0 | AH32: 0 | AI32: 0 | AJ32: 0 | AK32: 0 | AL32: 0 | AM32: 0 | AN32: 0 | AO32: 0 | AP32: 0 | AQ32: 0 | AR32: 0 | AS32: 0 | AT32: 0 | AU32: 0 | AV32: 0 | AW32: 0 | AX32: 0 | AY32: 0 | AZ32: 0 | BA32: 0 | BB32: 0 | BC32: 0 | BD32: 0 | BE32: 0 | BF32: 0 | BG32: 0 | BH32: 0 | BI32: 0 | BJ32: 0 | BK32: 0 | BL32: 0 | BM32: 0 | BN32: 0 | BO32: 0 | BP32: 0 | BQ32: 0 | BR32: 0 | BS32: 0 | BT32: 0 | BU32: 0 | BV32: =COUNTIF(B32:BU32,"<>0") -> 2 | CB32: =IF(CA32=BZ32,"","X")
A33: White-winged Scoter | B33: 0 | C33: 0 | D33: 0 | E33: 0 | F33: 0 | G33: 0 | H33: 0 | I33: 0 | J33: 0 | K33: 0 | L33: 0 | M33: 0 | N33: 0 | O33: 0 | P33: 0 | Q33: 0 | R33: 0 | S33: 0 | T33: 0 | U33: 0 | V33: 0 | W33: 0 | X33: 0 | Y33: 0 | Z33: 0 | AA33: 0 | AB33: 0 | AC33: 0 | AD33: 0 | AE33: 0 | AF33: 0 | AG33: 0 | AH33: 0 | AI33: 0 | AJ33: 0 | AK33: 0 | AL33: 0 | AM33: 0 | AN33: 0 | AO33: 0 | AP33: 0 | AQ33: 0 | AR33: 0 | AS33: 0 | AT33: 0 | AU33: 0 | AV33: 0 | AW33: 0 | AX33: 0 | AY33: 0 | AZ33: 0 | BA33: 0 | BB33: 0 | BC33: 0 | BD33: 0 | BE33: 0 | BF33: 0 | BG33: 0 | BH33: 0 | BI33: 0 | BJ33: 0 | BK33: 0 | BL33: 0 | BM33: 0 | BN33: 0 | BO33: 0 | BP33: 0 | BQ33: 0 | BR33: 0 | BS33: 0 | BT33: 0 | BU33: 0 | BV33: =COUNTIF(B33:BU33,"<>0") -> 0 | CB33: =IF(CA33=BZ33,"","X")
A34: Long-tailed Duck | B34: 0 | C34: 0 | D34: 1 | E34: 0 | F34: 0 | G34: 0 | H34: 0 | I34: 0 | J34: 0 | K34: 0 | L34: 0 | M34: 0 | N34: 0 | O34: 0 | P34: 0 | Q34: 0 | R34: 0 | S34: 0 | T34: 0 | U34: 0 | V34: 0 | W34: 0 | X34: 0 | Y34: 0 | Z34: 0 | AA34: 0 | AB34: 0 | AC34: 0 | AD34: 0 | AE34: 1 | AF34: 0 | AG34: 0 | AH34: 0 | AI34: 0 | AJ34: 0 | AK34: 0 | AL34: 0 | AM34: 0 | AN34: 0 | AO34: 0 | AP34: 0 | AQ34: 0 | AR34: 0 | AS34: 0 | AT34: 0 | AU34: 0 | AV34: 0 | AW34: 0 | AX34: 0 | AY34: 0 | AZ34: 0 | BA34: 0 | BB34: 0 | BC34: 0 | BD34: 0 | BE34: 0 | BF34: 0 | BG34: 0 | BH34: 0 | BI34: 0 | BJ34: 0 | BK34: 0 | BL34: 0 | BM34: 0 | BN34: 0 | BO34: 0 | BP34: 0 | BQ34: 0 | BR34: 0 | BS34: 0 | BT34: 0 | BU34: 0 | BV34: =COUNTIF(B34:BU34,"<>0") -> 2 | CB34: =IF(CA34=BZ34,"","X")
A35: Bufflehead | B35: 0 | C35: 0 | D35: 0 | E35: 0 | F35: 0 | G35: 0 | H35: 0 | I35: 0 | J35: 0 | K35: 0 | L35: 0 | M35: 0 | N35: 0 | O35: 0 | P35: 0 | Q35: 1 | R35: 1 | S35: 0 | T35: 0 | U35: 0 | V35: 0 | W35: 0 | X35: 0 | Y35: 0 | Z35: 0 | AA35: 0 | AB35: 0 | AC35: 0 | AD35: 0 | AE35: 0 | AF35: 0 | AG35: 0 | AH35: 1 | AI35: 0 | AJ35: 0 | AK35: 0 | AL35: 0 | AM35: 0 | AN35: 0 | AO35: 0 | AP35: 0 | AQ35: 0 | AR35: 0 | AS35: 0 | AT35: 0 | AU35: 0 | AV35: 0 | AW35: 0 | AX35: 0 | AY35: 0 | AZ35: 0 | BA35: 0 | BB35: 0 | BC35: 0 | BD35: 0 | BE35: 0 | BF35: 0 | BG35: 0 | BH35: 0 | BI35: 0 | BJ35: 0 | BK35: 0 | BL35: 0 | BM35: 0 | BN35: 0 | BO35: 0 | BP35: 0 | BQ35: 0 | BR35: 0 | BS35: 0 | BT35: 0 | BU35: 0 | BV35: =COUNTIF(B35:BU35,"<>0") -> 3 | CB35: =IF(CA35=BZ35,"","X")
A36: Common Goldeneye | B36: 0 | C36: 610 | D36: 750 | E36: 456 | F36: 914 | G36: 221 | H36: 1032 | I36: 721 | J36: 178 | K36: 121 | L36: 1050 | M36: 247 | N36: 154 | O36: 160 | P36: 79 | Q36: 181 | R36: 107 | S36: 222 | T36: 381 | U36: 290 | V36: 314 | W36: 309 | X36: 101 | Y36: 440 | Z36: 250 | AA36: 322 | AB36: 234 | AC36: 107 | AD36: 71 | AE36: 485 | AF36: 23 | AG36: 230 | AH36: 630 | AI36: 43 | AJ36: 76 | AK36: 70 | AL36: 68 | AM36: 119 | AN36: 122 | AO36: 291 | AP36: 210 | AQ36: 188 | AR36: 33 | AS36: 75 | AT36: 74 | AU36: 21 | AV36: 102 | AW36: 80 | AX36: 63 | AY36: 134 | AZ36: 207 | BA36: 203 | BB36: 130 | BC36: 55 | BD36: 65 | BE36: 33 | BF36: 10 | BG36: 0 | BH36: 0 | BI36: -1 | BJ36: 10 | BK36: 0 | BL36: -2 | BM36: 5 | BN36: 1 | BO36: 3 | BP36: 2 | BQ36: 0 | BR36: 2 | BS36: 0 | BT36: 0 | BU36: 2 | BV36: =COUNTIF(B36:BU36,"<>0") -> 65 | CB36: =IF(CA36=BZ36,"","X")
A37: Barrow's Goldeneye | B37: 0 | C37: 0 | D37: 0 | E37: 0 | F37: 0 | G37: 0 | H37: 0 | I37: 0 | J37: 0 | K37: 0 | L37: 0 | M37: 0 | N37: 0 | O37: 0 | P37: 0 | Q37: 0 | R37: 0 | S37: 0 | T37: 0 | U37: -1 | V37: 0 | W37: 0 | X37: 0 | Y37: 0 | Z37: 0 | AA37: 0 | AB37: 0 | AC37: 0 | AD37: 0 | AE37: 0 | AF37: 0 | AG37: 0 | AH37: 0 | AI37: 0 | AJ37: 0 | AK37: 0 | AL37: 0 | AM37: 0 | AN37: 0 | AO37: 0 | AP37: 0 | AQ37: 0 | AR37: 0 | AS37: 0 | AT37: 0 | AU37: 0 | AV37: 0 | AW37: 0 | AX37: 0 | AY37: 0 | AZ37: 0 | BA37: 0 | BB37: 0 | BC37: 0 | BD37: 0 | BE37: 0 | BF37: 0 | BG37: 0 | BH37: 0 | BI37: 0 | BJ37: 0 | BK37: 0 | BL37: 0 | BM37: 0 | BN37: 0 | BO37: 0 | BP37: 0 | BQ37: 0 | BR37: 0 | BS37: 0 | BT37: 0 | BU37: 0 | BV37: =COUNTIF(B37:BU37,"<>0") -> 1 | CB37: =IF(CA37=BZ37,"","X")
A38: Merganser sp. | B38: 0 | C38: 0 | D38: 0 | E38: 1 | F38: 0 | G38: 0 | H38: 0 | I38: 0 | J38: 0 | K38: 0 | L38: 0 | M38: 0 | N38: 0 | O38: 0 | P38: 0 | Q38: 0 | R38: 0 | S38: 0 | T38: 0 | U38: 0 | V38: 0 | W38: 0 | X38: 0 | Y38: 0 | Z38: 0 | AA38: 0 | AB38: 0 | AC38: 0 | AD38: 0 | AE38: 0 | AF38: 0 | AG38: 0 | AH38: 0 | AI38: 0 | AJ38: 0 | AK38: 0 | AL38: 0 | AM38: 0 | AN38: 0 | AO38: 0 | AP38: 0 | AQ38: 0 | AR38: 0 | AS38: 0 | AT38: 0 | AU38: 0 | AV38: 0 | AW38: 0 | AX38: 0 | AY38: 0 | AZ38: 0 | BA38: 0 | BB38: 0 | BC38: 0 | BD38: 0 | BE38: 0 | BF38: 0 | BG38: 0 | BH38: 0 | BI38: 0 | BJ38: 0 | BK38: 0 | BL38: 0 | BM38: 0 | BN38: 0 | BO38: 0 | BP38: 0 | BQ38: 0 | BR38: 0 | BS38: 0 | BT38: 0 | BU38: 0 | BV38: =COUNTIF(B38:BU38,"<>0") -> 1
A39: Hooded Merganser | B39: 0 | C39: 0 | D39: 1 | E39: 0 | F39: 0 | G39: 0 | H39: 2 | I39: 0 | J39: 0 | K39: 0 | L39: 0 | M39: 0 | N39: 0 | O39: 0 | P39: 0 | Q39: 0 | R39: 0 | S39: 0 | T39: 0 | U39: 0 | V39: 0 | W39: 0 | X39: 0 | Y39: 0 | Z39: 0 | AA39: 0 | AB39: 0 | AC39: -1 | AD39: 0 | AE39: 0 | AF39: 0 | AG39: 0 | AH39: 0 | AI39: 0 | AJ39: 0 | AK39: 0 | AL39: 0 | AM39: 0 | AN39: 0 | AO39: 0 | AP39: 0 | AQ39: 0 | AR39: 0 | AS39: 0 | AT39: 0 | AU39: 0 | AV39: 0 | AW39: 0 | AX39: 0 | AY39: 0 | AZ39: 0 | BA39: 0 | BB39: 0 | BC39: 0 | BD39: 0 | BE39: 0 | BF39: 0 | BG39: 0 | BH39: 0 | BI39: 0 | BJ39: 0 | BK39: 0 | BL39: 0 | BM39: 0 | BN39: 0 | BO39: 0 | BP39: 0 | BQ39: 0 | BR39: 0 | BS39: 0 | BT39: 0 | BU39: 0 | BV39: =COUNTIF(B39:BU39,"<>0") -> 3 | CB39: =IF(CA39=BZ39,"","X")
A40: Common Merganser | B40: 0 | C40: 1 | D40: 3 | E40: 0 | F40: 0 | G40: 1 | H40: 0 | I40: 0 | J40: 0 | K40: 0 | L40: 0 | M40: 0 | N40: 0 | O40: 0 | P40: 2 | Q40: 2 | R40: 2 | S40: 1 | T40: 3 | U40: 5 | V40: 1 | W40: 0 | X40: -1 | Y40: 3 | Z40: 0 | AA40: 0 | AB40: 0 | AC40: 0 | AD40: 2 | AE40: 2 | AF40: 0 | AG40: 0 | AH40: 1 | AI40: 0 | AJ40: 0 | AK40: 0 | AL40: 0 | AM40: 0 | AN40: 0 | AO40: 0 | AP40: 1 | AQ40: 0 | AR40: 1 | AS40: 0 | AT40: 1 | AU40: 1 | AV40: 1 | AW40: -6 | AX40: 0 | AY40: 1 | AZ40: 1 | BA40: 0 | BB40: 0 | BC40: 0 | BD40: 0 | BE40: 0 | BF40: 0 | BG40: 0 | BH40: 0 | BI40: 0 | BJ40: 0 | BK40: 0 | BL40: 0 | BM40: 0 | BN40: 0 | BO40: 0 | BP40: 0 | BQ40: 0 | BR40: 0 | BS40: 0 | BT40: 0 | BU40: 0 | BV40: =COUNTIF(B40:BU40,"<>0") -> 23 | CB40: =IF(CA40=BZ40,"","X")
A41: Red-breasted Merganser | B41: 0 | C41: 0 | D41: 0 | E41: 0 | F41: 0 | G41: 0 | H41: 0 | I41: 0 | J41: 0 | K41: 0 | L41: 0 | M41: 0 | N41: 0 | O41: 0 | P41: 0 | Q41: 0 | R41: 0 | S41: 0 | T41: 0 | U41: 0 | V41: 0 | W41: 0 | X41: 0 | Y41: 0 | Z41: 0 | AA41: 0 | AB41: 0 | AC41: 0 | AD41: 0 | AE41: 0 | AF41: 0 | AG41: 0 | AH41: 0 | AI41: 0 | AJ41: 0 | AK41: 0 | AL41: 0 | AM41: 0 | AN41: 0 | AO41: 2 | AP41: 0 | AQ41: 0 | AR41: 0 | AS41: 0 | AT41: 0 | AU41: 0 | AV41: 0 | AW41: 0 | AX41: 0 | AY41: 0 | AZ41: 0 | BA41: 0 | BB41: 0 | BC41: 2 | BD41: 0 | BE41: 0 | BF41: 0 | BG41: 0 | BH41: 0 | BI41: 0 | BJ41: 0 | BK41: 0 | BL41: 0 | BM41: 0 | BN41: 0 | BO41: 0 | BP41: 0 | BQ41: 0 | BR41: 0 | BS41: 0 | BT41: 0 | BU41: 0 | BV41: =COUNTIF(B41:BU41,"<>0") -> 2 | CB41: =IF(CA41=BZ41,"","X")
A42: Ruffed Grouse | B42: 0 | C42: 0 | D42: 0 | E42: 1 | F42: 0 | G42: 0 | H42: 0 | I42: 0 | J42: 0 | K42: 1 | L42: 0 | M42: 0 | N42: 0 | O42: 0 | P42: 2 | Q42: 1 | R42: 0 | S42: 1 | T42: 0 | U42: -1 | V42: 0 | W42: 1 | X42: 1 | Y42: 1 | Z42: 1 | AA42: 0 | AB42: 0 | AC42: 0 | AD42: 1 | AE42: 1 | AF42: 1 | AG42: 0 | AH42: 0 | AI42: 0 | AJ42: 0 | AK42: 4 | AL42: 8 | AM42: 0 | AN42: 0 | AO42: 3 | AP42: 5 | AQ42: 2 | AR42: 0 | AS42: 0 | AT42: 3 | AU42: 1 | AV42: 11 | AW42: 4 | AX42: 4 | AY42: 4 | AZ42: 9 | BA42: 10 | BB42: 6 | BC42: 1 | BD42: 6 | BE42: 1 | BF42: 2 | BG42: 4 | BH42: 3 | BI42: 4 | BJ42: 1 | BK42: 1 | BL42: 1 | BM42: 0 | BN42: 0 | BO42: 0 | BP42: 2 | BQ42: 0 | BR42: 2 | BS42: 0 | BT42: 1 | BU42: 0 | BV42: =COUNTIF(B42:BU42,"<>0") -> 40 | CB42: =IF(CA42=BZ42,"","X")
A43: Sharp-tailed Grouse | B43: 0 | C43: 31 | D43: 160 | E43: 13 | F43: 75 | G43: 14 | H43: 32 | I43: 9 | J43: 64 | K43: 35 | L43: 46 | M43: 7 | N43: 28 | O43: 28 | P43: 7 | Q43: 0 | R43: 24 | S43: 3 | T43: 15 | U43: 10 | V43: 18 | W43: 13 | X43: 8 | Y43: 130 | Z43: 14 | AA43: 37 | AB43: 67 | AC43: 43 | AD43: 30 | AE43: 30 | AF43: 22 | AG43: 61 | AH43: 33 | AI43: 29 | AJ43: 64 | AK43: 70 | AL43: 54 | AM43: 30 | AN43: 49 | AO43: 82 | AP43: 18 | AQ43: 58 | AR43: 116 | AS43: 48 | AT43: 59 | AU43: 68 | AV43: 109 | AW43: 101 | AX43: 93 | AY43: 83 | AZ43: 111 | BA43: 44 | BB43: 59 | BC43: 89 | BD43: 177 | BE43: 117 | BF43: 25 | BG43: 100 | BH43: 138 | BI43: 58 | BJ43: 74 | BK43: 53 | BL43: 1 | BM43: 106 | BN43: 30 | BO43: 41 | BP43: 24 | BQ43: 0 | BR43: 46 | BS43: 35 | BT43: 23 | BU43: 10 | BV43: =COUNTIF(B43:BU43,"<>0") -> 69 | CB43: =IF(CA43=BZ43,"","X")
A44: Gray Partridge | B44: 0 | C44: 108 | D44: 495 | E44: 44 | F44: 21 | G44: 0 | H44: 144 | I44: 0 | J44: 0 | K44: 9 | L44: 0 | M44: 28 | N44: 29 | O44: 0 | P44: 12 | Q44: 20 | R44: 23 | S44: 14 | T44: 76 | U44: 16 | V44: 68 | W44: 43 | X44: 61 | Y44: 59 | Z44: 14 | AA44: 27 | AB44: 40 | AC44: 25 | AD44: 39 | AE44: 32 | AF44: 70 | AG44: 45 | AH44: 21 | AI44: 33 | AJ44: 22 | AK44: 75 | AL44: 27 | AM44: 28 | AN44: 9 | AO44: 38 | AP44: 39 | AQ44: 22 | AR44: 21 | AS44: 29 | AT44: 45 | AU44: 35 | AV44: 109 | AW44: 103 | AX44: 6 | AY44: 58 | AZ44: 65 | BA44: 40 | BB44: 57 | BC44: 138 | BD44: 66 | BE44: 87 | BF44: 532 | BG44: 350 | BH44: 183 | BI44: 269 | BJ44: 100 | BK44: 141 | BL44: 163 | BM44: 127 | BN44: 44 | BO44: 42 | BP44: 12 | BQ44: 23 | BR44: 29 | BS44: 23 | BT44: 52 | BU44: 109 | BV44: =COUNTIF(B44:BU44,"<>0") -> 66 | CB44: =IF(CA44=BZ44,"","X")
A45: Ring-necked Pheasant | B45: 0 | C45: 0 | D45: 0 | E45: 1 | F45: 0 | G45: 0 | H45: 0 | I45: 0 | J45: 0 | K45: 0 | L45: 0 | M45: 0 | N45: 0 | O45: 0 | P45: 0 | Q45: 0 | R45: 0 | S45: 0 | T45: 0 | U45: 2 | V45: 2 | W45: 0 | X45: 0 | Y45: 0 | Z45: 0 | AA45: 0 | AB45: -1 | AC45: 0 | AD45: 0 | AE45: -1 | AF45: 0 | AG45: 0 | AH45: 2 | AI45: 0 | AJ45: 0 | AK45: 0 | AL45: 0 | AM45: 0 | AN45: 0 | AO45: 0 | AP45: 0 | AQ45: 0 | AR45: 1 | AS45: 0 | AT45: 0 | AU45: 4 | AV45: 8 | AW45: 4 | AX45: 12 | AY45: 35 | AZ45: 7 | BA45: 8 | BB45: 10 | BC45: 23 | BD45: 15 | BE45: 9 | BF45: 5 | BG45: 6 | BH45: 15 | BI45: 11 | BJ45: 6 | BK45: 5 | BL45: 16 | BM45: 22 | BN45: 21 | BO45: 3 | BP45: 6 | BQ45: 0 | BR45: 17 | BS45: 4 | BT45: 1 | BU45: 1 | BV45: =COUNTIF(B45:BU45,"<>0") -> 33 | CB45: =IF(CA45=BZ45,"","X")
A46: Chukar | B46: 0 | C46: 0 | D46: 0 | E46: 0 | F46: 0 | G46: 0 | H46: 0 | I46: 0 | J46: 0 | K46: 0 | L46: 0 | M46: 0 | N46: 0 | O46: 0 | P46: 0 | Q46: 0 | R46: 0 | S46: 0 | T46: 0 | U46: 0 | V46: 0 | W46: 0 | X46: 0 | Y46: 0 | Z46: 0 | AA46: 0 | AB46: 0 | AC46: 0 | AD46: 0 | AE46: 0 | AF46: 0 | AG46: 0 | AH46: 0 | AI46: 0 | AJ46: 0 | AK46: 0 | AL46: 0 | AM46: 0 | AN46: 0 | AO46: 0 | AP46: 0 | AQ46: 0 | AR46: 0 | AS46: 0 | AT46: 0 | AU46: 0 | AV46: 0 | AW46: 0 | AX46: 0 | AY46: 0 | AZ46: 0 | BA46: 0 | BB46: 0 | BC46: 0 | BD46: 0 | BE46: 0 | BF46: 0 | BG46: 0 | BH46: 0 | BI46: 0 | BJ46: 0 | BK46: 0 | BL46: 0 | BM46: 0 | BN46: 0 | BO46: 0 | BP46: 0 | BQ46: 0 | BR46: 0 | BS46: 0 | BT46: 0 | BU46: 0 | BV46: =COUNTIF(B46:BU46,"<>0") -> 0 | CB46: =IF(CA46=BZ46,"","X")
A47: Horned Grebe | B47: 0 | C47: 0 | D47: 0 | E47: 0 | F47: 0 | G47: 0 | H47: 0 | I47: 0 | J47: 0 | K47: 0 | L47: 0 | M47: 0 | N47: 0 | O47: 0 | P47: 0 | Q47: 0 | R47: 0 | S47: 0 | T47: 0 | U47: 0 | V47: 0 | W47: 0 | X47: 0 | Y47: 0 | Z47: 0 | AA47: 0 | AB47: 0 | AC47: 0 | AD47: 0 | AE47: 0 | AF47: 0 | AG47: 0 | AH47: 0 | AI47: 0 | AJ47: 0 | AK47: 0 | AL47: 0 | AM47: 0 | AN47: 0 | AO47: 0 | AP47: 0 | AQ47: 0 | AR47: 0 | AS47: 1 | AT47: 0 | AU47: 0 | AV47: 0 | AW47: 0 | AX47: 0 | AY47: 0 | AZ47: 0 | BA47: 0 | BB47: 0 | BC47: 0 | BD47: 0 | BE47: 0 | BF47: 0 | BG47: 0 | BH47: 0 | BI47: 0 | BJ47: 0 | BK47: 0 | BL47: 0 | BM47: 0 | BN47: 0 | BO47: 0 | BP47: 0 | BQ47: 0 | BR47: 0 | BS47: 0 | BT47: 0 | BU47: 0 | BV47: =COUNTIF(B47:BU47,"<>0") -> 1 | CB47: =IF(CA47=BZ47,"","X")
A48: Rock Pigeon (feral) | B48: 0 | C48: 1644 | D48: 1704 | E48: 3108 | F48: 1396 | G48: 924 | H48: 2272 | I48: 1410 | J48: 2028 | K48: 1314 | L48: 1565 | M48: 2486 | N48: 2432 | O48: 1962 | P48: 1823 | Q48: 2534 | R48: 2982 | S48: 1749 | T48: 4313 | U48: 3104 | V48: 2032 | W48: 2391 | X48: 1250 | Y48: 2803 | Z48: 3585 | AA48: 2741 | AB48: 2472 | AC48: 2133 | AD48: 2090 | AE48: 2433 | AF48: 940 | AG48: 1625 | AH48: 1856 | AI48: 1081 | AJ48: 1016 | AK48: 2023 | AL48: 1547 | AM48: 1365 | AN48: 2504 | AO48: 2303 | AP48: 3173 | AQ48: 2695 | AR48: 1194 | AS48: 1596 | AT48: 1459 | AU48: 2319 | AV48: 1569 | AW48: 1472 | AX48: 2020 | AY48: 981 | AZ48: 475 | BA48: 1107 | BB48: 805 | BC48: 808 | BD48: 678 | BE48: 1846 | BF48: 1133 | BG48: 510 | BH48: 130 | BI48: 630 | BJ48: 261 | BK48: 315 | BL48: 350 | BM48: 276 | BN48: 256 | BO48: 164 | BP48: 277 | BQ48: 22 | BR48: 0 | BS48: 0 | BT48: 0 | BU48: 0 | BV48: =COUNTIF(B48:BU48,"<>0") -> 67 | CB48: =IF(CA48=BZ48,"","X")
A49: Eurasian Collared-Dove | B49: 0 | C49: 15 | D49: 31 | E49: 20 | F49: 12 | G49: 15 | H49: 32 | I49: 40 | J49: 40 | K49: 30 | L49: 30 | M49: 21 | N49: 12 | O49: 10 | P49: 5 | Q49: 8 | R49: 14 | S49: 4 | T49: 0 | U49: 0 | V49: 0 | W49: 0 | X49: 0 | Y49: 0 | Z49: 0 | AA49: 0 | AB49: 0 | AC49: 0 | AD49: 0 | AE49: 0 | AF49: 0 | AG49: 0 | AH49: 0 | AI49: 0 | AJ49: 0 | AK49: 0 | AL49: 0 | AM49: 0 | AN49: 0 | AO49: 0 | AP49: 0 | AQ49: 0 | AR49: 0 | AS49: 0 | AT49: 0 | AU49: 0 | AV49: 0 | AW49: 0 | AX49: 0 | AY49: 0 | AZ49: 0 | BA49: 0 | BB49: 0 | BC49: 0 | BD49: 0 | BE49: 0 | BF49: 0 | BG49: 0 | BH49: 0 | BI49: 0 | BJ49: 0 | BK49: 0 | BL49: 0 | BM49: 0 | BN49: 0 | BO49: 0 | BP49: 0 | BQ49: 0 | BR49: 0 | BS49: 0 | BT49: 0 | BU49: 0 | BV49: =COUNTIF(B49:BU49,"<>0") -> 17 | CB49: =IF(CA49=BZ49,"","X")
A50: Mourning Dove | B50: 0 | C50: 0 | D50: 0 | E50: 0 | F50: 0 | G50: 0 | H50: 0 | I50: 0 | J50: 0 | K50: 0 | L50: 0 | M50: 1 | N50: 2 | O50: 5 | P50: 1 | Q50: 1 | R50: 1 | S50: 0 | T50: 0 | U50: 0 | V50: 1 | W50: 0 | X50: 0 | Y50: 0 | Z50: 0 | AA50: 0 | AB50: 0 | AC50: 0 | AD50: 0 | AE50: 0 | AF50: 0 | AG50: 0 | AH50: 0 | AI50: 0 | AJ50: 0 | AK50: 0 | AL50: 0 | AM50: 0 | AN50: 0 | AO50: 0 | AP50: 0 | AQ50: 0 | AR50: 0 | AS50: 0 | AT50: 0 | AU50: 0 | AV50: 0 | AW50: 0 | AX50: 0 | AY50: 0 | AZ50: 0 | BA50: 0 | BB50: 1 | BC50: 0 | BD50: 0 | BE50: 0 | BF50: 0 | BG50: 0 | BH50: 0 | BI50: 0 | BJ50: 0 | BK50: 0 | BL50: 0 | BM50: 0 | BN50: 0 | BO50: 0 | BP50: 0 | BQ50: 0 | BR50: 0 | BS50: 0 | BT50: 0 | BU50: 0 | BV50: =COUNTIF(B50:BU50,"<>0") -> 8 | CB50: =IF(CA50=BZ50,"","X")
A51: American Coot | B51: 0 | C51: 0 | D51: 0 | E51: 0 | F51: 0 | G51: 0 | H51: 0 | I51: 0 | J51: 0 | K51: 0 | L51: 0 | M51: 0 | N51: 0 | O51: 0 | P51: 0 | Q51: 0 | R51: 0 | S51: 0 | T51: 0 | U51: 0 | V51: 0 | W51: 0 | X51: 0 | Y51: 0 | Z51: 0 | AA51: 0 | AB51: 0 | AC51: 0 | AD51: 0 | AE51: 0 | AF51: 0 | AG51: 0 | AH51: 0 | AI51: 0 | AJ51: 0 | AK51: 0 | AL51: 0 | AM51: 0 | AN51: 0 | AO51: 0 | AP51: 0 | AQ51: 0 | AR51: 0 | AS51: 0 | AT51: 0 | AU51: 0 | AV51: 0 | AW51: 0 | AX51: 0 | AY51: 0 | AZ51: 0 | BA51: 0 | BB51: 0 | BC51: 0 | BD51: 0 | BE51: 0 | BF51: 0 | BG51: 0 | BH51: 0 | BI51: 0 | BJ51: 0 | BK51: 0 | BL51: 0 | BM51: 0 | BN51: 0 | BO51: 0 | BP51: 0 | BQ51: 0 | BR51: 0 | BS51: 0 | BT51: 0 | BU51: 0 | BV51: =COUNTIF(B51:BU51,"<>0") -> 0
A52: Wilson's Snipe | B52: 0 | C52: 0 | D52: 0 | E52: 0 | F52: 0 | G52: 0 | H52: 0 | I52: 0 | J52: 0 | K52: 0 | L52: 0 | M52: 0 | N52: 0 | O52: 0 | P52: 0 | Q52: 0 | R52: 0 | S52: 0 | T52: 0 | U52: 0 | V52: 0 | W52: 0 | X52: 0 | Y52: 0 | Z52: 0 | AA52: 0 | AB52: 0 | AC52: 0 | AD52: 0 | AE52: 0 | AF52: 0 | AG52: 0 | AH52: 0 | AI52: 0 | AJ52: 0 | AK52: 0 | AL52: 0 | AM52: 0 | AN52: 0 | AO52: 0 | AP52: 0 | AQ52: 0 | AR52: 0 | AS52: 0 | AT52: 0 | AU52: 0 | AV52: 0 | AW52: 0 | AX52: 0 | AY52: 0 | AZ52: 0 | BA52: 0 | BB52: 0 | BC52: 0 | BD52: 0 | BE52: 0 | BF52: 0 | BG52: 0 | BH52: 0 | BI52: 0 | BJ52: 0 | BK52: 0 | BL52: 0 | BM52: 0 | BN52: 0 | BO52: 0 | BP52: 0 | BQ52: 0 | BR52: 0 | BS52: 0 | BT52: 0 | BU52: 0 | BV52: =COUNTIF(B52:BU52,"<>0") -> 0 | CB52: =IF(CA52=BZ52,"","X")
A53: Gull sp. | B53: 0 | C53: 0 | D53: 0 | E53: 0 | F53: 0 | G53: 0 | H53: 0 | I53: 0 | J53: 0 | K53: 0 | L53: 0 | M53: 0 | N53: 0 | O53: 0 | P53: 0 | Q53: 0 | R53: 1 | S53: 0 | T53: 0 | U53: 0 | V53: 0 | W53: 0 | X53: 0 | Y53: 0 | Z53: 0 | AA53: 0 | AB53: 0 | AC53: 0 | AD53: 0 | AE53: 0 | AF53: 0 | AG53: 0 | AH53: 0 | AI53: 0 | AJ53: 0 | AK53: 0 | AL53: 0 | AM53: 0 | AN53: 0 | AO53: 0 | AP53: 0 | AQ53: 0 | AR53: 0 | AS53: 0 | AT53: 0 | AU53: 0 | AV53: 0 | AW53: 0 | AX53: 0 | AY53: 0 | AZ53: 0 | BA53: 0 | BB53: 0 | BC53: 0 | BD53: 0 | BE53: 0 | BF53: 0 | BG53: 0 | BH53: 0 | BI53: 0 | BJ53: 0 | BK53: 0 | BL53: 0 | BM53: 0 | BN53: 0 | BO53: 0 | BP53: 0 | BQ53: 0 | BR53: 0 | BS53: 0 | BT53: 0 | BU53: 0 | BV53: =COUNTIF(B53:BU53,"<>0") -> 1 | CB53: =IF(CA53=BZ53,"","X")
A54: Black-legged Kittiwake | B54: 0 | C54: 0 | D54: 0 | E54: 0 | F54: 0 | G54: 0 | H54: 0 | I54: 0 | J54: 0 | K54: 0 | L54: 0 | M54: 0 | N54: 0 | O54: 0 | P54: 0 | Q54: 0 | R54: 0 | S54: 0 | T54: 0 | U54: 0 | V54: 0 | W54: 0 | X54: 0 | Y54: 0 | Z54: 0 | AA54: 0 | AB54: 0 | AC54: 0 | AD54: 0 | AE54: 0 | AF54: 0 | AG54: 0 | AH54: 0 | AI54: 0 | AJ54: 0 | AK54: 0 | AL54: 0 | AM54: 0 | AN54: 0 | AO54: 0 | AP54: 0 | AQ54: 0 | AR54: 0 | AS54: 0 | AT54: 0 | AU54: 0 | AV54: 0 | AW54: 0 | AX54: 0 | AY54: 0 | AZ54: 0 | BA54: 0 | BB54: 0 | BC54: 0 | BD54: 0 | BE54: 0 | BF54: 0 | BG54: 0 | BH54: 0 | BI54: 0 | BJ54: 0 | BK54: 0 | BL54: 0 | BM54: 0 | BN54: 0 | BO54: 0 | BP54: 0 | BQ54: 0 | BR54: 0 | BS54: 0 | BT54: 0 | BU54: 0 | BV54: =COUNTIF(B54:BU54,"<>0") -> 0
A55: Ring-billed Gull | B55: 0 | C55: 0 | D55: 0 | E55: 0 | F55: 0 | G55: 0 | H55: 0 | I55: 0 | J55: 0 | K55: 0 | L55: 0 | M55: 0 | N55: 0 | O55: 0 | P55: 0 | Q55: 0 | R55: 0 | S55: 0 | T55: 0 | U55: 0 | V55: 0 | W55: 0 | X55: 0 | Y55: 0 | Z55: 0 | AA55: 0 | AB55: 0 | AC55: 0 | AD55: 0 | AE55: 0 | AF55: 0 | AG55: 0 | AH55: 0 | AI55: 0 | AJ55: 0 | AK55: 0 | AL55: 0 | AM55: 0 | AN55: 0 | AO55: 0 | AP55: 0 | AQ55: 0 | AR55: 0 | AS55: 0 | AT55: 0 | AU55: 0 | AV55: 0 | AW55: 0 | AX55: 0 | AY55: 0 | AZ55: 0 | BA55: 0 | BB55: 0 | BC55: 0 | BD55: 0 | BE55: 0 | BF55: 0 | BG55: 0 | BH55: 0 | BI55: 0 | BJ55: 0 | BK55: 0 | BL55: 0 | BM55: 0 | BN55: 0 | BO55: 0 | BP55: 0 | BQ55: 0 | BR55: 1 | BS55: 0 | BT55: 0 | BU55: 0 | BV55: =COUNTIF(B55:BU55,"<>0") -> 1 | CB55: =IF(CA55=BZ55,"","X")
A56: Common Loon | B56: 0 | C56: 0 | D56: 0 | E56: 0 | F56: 0 | G56: 0 | H56: 0 | I56: 0 | J56: 0 | K56: 0 | L56: 0 | M56: 0 | N56: 0 | O56: 0 | P56: 0 | Q56: 0 | R56: 0 | S56: 0 | T56: 0 | U56: 0 | V56: -1 | W56: 0 | X56: 0 | Y56: 0 | Z56: 0 | AA56: 0 | AB56: 0 | AC56: 0 | AD56: 0 | AE56: 0 | AF56: 0 | AG56: 0 | AH56: 0 | AI56: 0 | AJ56: 0 | AK56: 0 | AL56: 0 | AM56: 0 | AN56: 0 | AO56: 0 | AP56: 0 | AQ56: 0 | AR56: 0 | AS56: 0 | AT56: 0 | AU56: 0 | AV56: 0 | AW56: 0 | AX56: 0 | AY56: 0 | AZ56: 0 | BA56: 0 | BB56: 0 | BC56: 0 | BD56: 0 | BE56: 0 | BF56: 0 | BG56: 0 | BH56: 0 | BI56: 0 | BJ56: 0 | BK56: 0 | BL56: 0 | BM56: 0 | BN56: 0 | BO56: 0 | BP56: 0 | BQ56: 0 | BR56: 0 | BS56: 0 | BT56: 0 | BU56: 0 | BV56: =COUNTIF(B56:BU56,"<>0") -> 1 | CB56: =IF(CA56=BZ56,"","X")
A57: Turkey Vulture | B57: 0 | C57: 0 | D57: 0 | E57: 0 | F57: 0 | G57: 0 | H57: 0 | I57: 0 | J57: 0 | K57: 0 | L57: 0 | M57: 0 | N57: 0 | O57: 0 | P57: -1 | Q57: 0 | R57: 0 | S57: 0 | T57: 0 | U57: 0 | V57: 0 | W57: 0 | X57: 0 | Y57: 0 | Z57: 0 | AA57: 0 | AB57: 0 | AC57: 0 | AD57: 0 | AE57: 0 | AF57: 0 | AG57: 0 | AH57: 0 | AI57: 0 | AJ57: 0 | AK57: 0 | AL57: 0 | AM57: 0 | AN57: 0 | AO57: 0 | AP57: 0 | AQ57: 0 | AR57: 0 | AS57: 0 | AT57: 0 | AU57: 0 | AV57: 0 | AW57: 0 | AX57: 0 | AY57: 0 | AZ57: 0 | BA57: 0 | BB57: 0 | BC57: 0 | BD57: 0 | BE57: 0 | BF57: 0 | BG57: 0 | BH57: 0 | BI57: 0 | BJ57: 0 | BK57: 0 | BL57: 0 | BM57: 0 | BN57: 0 | BO57: 0 | BP57: 0 | BQ57: 0 | BR57: 0 | BS57: 0 | BT57: 0 | BU57: 0 | BV57: =COUNTIF(B57:BU57,"<>0") -> 1 | CB57: =IF(CA57=BZ57,"","X")
A58: Eagle sp. | B58: 0 | C58: 0 | D58: 0 | E58: 0 | F58: 0 | G58: 0 | H58: 0 | I58: 0 | J58: 0 | K58: 0 | L58: 0 | M58: 0 | N58: 0 | O58: 0 | P58: 0 | Q58: 0 | R58: 0 | S58: 0 | T58: 0 | U58: 0 | V58: 0 | W58: 0 | X58: 0 | Y58: 0 | Z58: 0 | AA58: 0 | AB58: 0 | AC58: 1 | AD58: 1 | AE58: 0 | AF58: 0 | AG58: 0 | AH58: 0 | AI58: 0 | AJ58: 0 | AK58: 0 | AL58: 0 | AM58: 0 | AN58: 0 | AO58: 0 | AP58: 0 | AQ58: 0 | AR58: 0 | AS58: 0 | AT58: 0 | AU58: 0 | AV58: 0 | AW58: 1 | AX58: 0 | AY58: 0 | AZ58: 0 | BA58: 0 | BB58: 0 | BC58: 0 | BD58: 0 | BE58: 0 | BF58: 0 | BG58: 0 | BH58: 0 | BI58: 0 | BJ58: 0 | BK58: 0 | BL58: 0 | BM58: 0 | BN58: 0 | BO58: 0 | BP58: 0 | BQ58: 0 | BR58: 0 | BS58: 0 | BT58: 0 | BU58: 0 | BV58: =COUNTIF(B58:BU58,"<>0") -> 3 | CB58: =IF(CA58=BZ58,"","X")
A59: Golden Eagle | B59: 0 | C59: 0 | D59: 0 | E59: 0 | F59: 0 | G59: 0 | H59: 0 | I59: 0 | J59: 0 | K59: 0 | L59: 0 | M59: 0 | N59: 0 | O59: 0 | P59: 0 | Q59: 0 | R59: 0 | S59: 0 | T59: 0 | U59: 0 | V59: 0 | W59: 0 | X59: 0 | Y59: 0 | Z59: 0 | AA59: 0 | AB59: 0 | AC59: 0 | AD59: 0 | AE59: 0 | AF59: 0 | AG59: 0 | AH59: 0 | AI59: 0 | AJ59: 0 | AK59: 0 | AL59: 0 | AM59: 0 | AN59: 0 | AO59: 0 | AP59: 0 | AQ59: 0 | AR59: 0 | AS59: 0 | AT59: 0 | AU59: 0 | AV59: 0 | AW59: 0 | AX59: 0 | AY59: 0 | AZ59: 0 | BA59: 0 | BB59: 1 | BC59: 0 | BD59: 0 | BE59: 0 | BF59: 0 | BG59: 0 | BH59: 1 | BI59: 0 | BJ59: 0 | BK59: 0 | BL59: 0 | BM59: 0 | BN59: 0 | BO59: 0 | BP59: 0 | BQ59: 0 | BR59: 0 | BS59: 0 | BT59: 0 | BU59: 0 | BV59: =COUNTIF(B59:BU59,"<>0") -> 2 | CB59: =IF(CA59=BZ59,"","X")
A60: Bald Eagle | B60: 0 | C60: 3 | D60: 1 | E60: 3 | F60: -1 | G60: 3 | H60: 3 | I60: 0 | J60: 0 | K60: -1 | L60: 0 | M60: 2 | N60: 1 | O60: -1 | P60: 0 | Q60: 4 | R60: -1 | S60: 1 | T60: -1 | U60: 1 | V60: 1 | W60: 0 | X60: 0 | Y60: 0 | Z60: 1 | AA60: 0 | AB60: 0 | AC60: 1 | AD60: -1 | AE60: 3 | AF60: 0 | AG60: 0 | AH60: 0 | AI60: 0 | AJ60: 0 | AK60: 0 | AL60: 0 | AM60: 0 | AN60: 0 | AO60: 0 | AP60: 0 | AQ60: 0 | AR60: 0 | AS60: 0 | AT60: 0 | AU60: 0 | AV60: 0 | AW60: 0 | AX60: 0 | AY60: 0 | AZ60: 0 | BA60: 0 | BB60: 0 | BC60: 0 | BD60: 0 | BE60: 0 | BF60: 0 | BG60: 0 | BH60: 0 | BI60: 0 | BJ60: 0 | BK60: 0 | BL60: 0 | BM60: 0 | BN60: 0 | BO60: 0 | BP60: 0 | BQ60: 0 | BR60: 0 | BS60: 0 | BT60: 0 | BU60: 0 | BV60: =COUNTIF(B60:BU60,"<>0") -> 20 | CB60: =IF(CA60=BZ60,"","X")
A61: Hawk sp. | B61: 0 | C61: 0 | D61: 0 | E61: 0 | F61: 0 | G61: 1 | H61: 0 | I61: 0 | J61: 1 | K61: 1 | L61: 0 | M61: 0 | N61: 0 | O61: 0 | P61: 0 | Q61: 0 | R61: 0 | S61: 0 | T61: 0 | U61: 0 | V61: 0 | W61: 0 | X61: 1 | Y61: 0 | Z61: 0 | AA61: 0 | AB61: 0 | AC61: 0 | AD61: 0 | AE61: 0 | AF61: 0 | AG61: 0 | AH61: 0 | AI61: 0 | AJ61: 0 | AK61: 0 | AL61: 0 | AM61: 0 | AN61: 0 | AO61: 0 | AP61: 0 | AQ61: 0 | AR61: 0 | AS61: 0 | AT61: 0 | AU61: 0 | AV61: 0 | AW61: 0 | AX61: 0 | AY61: 0 | AZ61: 0 | BA61: 0 | BB61: 0 | BC61: 0 | BD61: 0 | BE61: 0 | BF61: 0 | BG61: 0 | BH61: 0 | BI61: 0 | BJ61: 0 | BK61: 0 | BL61: 0 | BM61: 0 | BN61: 0 | BO61: 0 | BP61: 0 | BQ61: 0 | BR61: 0 | BS61: 0 | BT61: 0 | BU61: 0 | BV61: =COUNTIF(B61:BU61,"<>0") -> 4 | CB61: =IF(CA61=BZ61,"","X")
A62: Northern Harrier | B62: 0 | C62: 0 | D62: 0 | E62: 0 | F62: 0 | G62: 0 | H62: 0 | I62: 0 | J62: 0 | K62: 0 | L62: 0 | M62: 0 | N62: 0 | O62: 0 | P62: 0 | Q62: 0 | R62: 0 | S62: 0 | T62: 0 | U62: 0 | V62: 0 | W62: 0 | X62: 0 | Y62: 0 | Z62: 0 | AA62: 0 | AB62: 0 | AC62: 0 | AD62: 0 | AE62: 0 | AF62: 0 | AG62: 0 | AH62: 0 | AI62: 0 | AJ62: 0 | AK62: 0 | AL62: 0 | AM62: 0 | AN62: 0 | AO62: 0 | AP62: 0 | AQ62: 0 | AR62: 0 | AS62: 0 | AT62: 0 | AU62: 0 | AV62: 0 | AW62: 0 | AX62: 0 | AY62: 0 | AZ62: 0 | BA62: 0 | BB62: 0 | BC62: 0 | BD62: 0 | BE62: 0 | BF62: 0 | BG62: 0 | BH62: 0 | BI62: 0 | BJ62: 0 | BK62: 0 | BL62: 0 | BM62: 0 | BN62: 0 | BO62: 0 | BP62: 0 | BQ62: 0 | BR62: 0 | BS62: 0 | BT62: 0 | BU62: 0 | BV62: =COUNTIF(B62:BU62,"<>0") -> 0 | CB62: =IF(CA62=BZ62,"","X")
A63: Accipiter sp. | B63: 0 | C63: 0 | D63: 0 | E63: 0 | F63: 0 | G63: 1 | H63: 0 | I63: 0 | J63: 0 | K63: 0 | L63: 0 | M63: 0 | N63: 0 | O63: 0 | P63: 0 | Q63: 0 | R63: 0 | S63: 0 | T63: 1 | U63: 0 | V63: 0 | W63: 0 | X63: 0 | Y63: 0 | Z63: 0 | AA63: 0 | AB63: 0 | AC63: 0 | AD63: 0 | AE63: 0 | AF63: 0 | AG63: 0 | AH63: 0 | AI63: 0 | AJ63: 0 | AK63: 0 | AL63: 0 | AM63: 0 | AN63: 0 | AO63: 0 | AP63: 0 | AQ63: 0 | AR63: 0 | AS63: 0 | AT63: 0 | AU63: 0 | AV63: 0 | AW63: 0 | AX63: 0 | AY63: 0 | AZ63: 0 | BA63: 0 | BB63: 0 | BC63: 0 | BD63: 0 | BE63: 0 | BF63: 0 | BG63: 0 | BH63: 0 | BI63: 0 | BJ63: 0 | BK63: 0 | BL63: 0 | BM63: 0 | BN63: 0 | BO63: 0 | BP63: 0 | BQ63: 0 | BR63: 0 | BS63: 0 | BT63: 0 | BU63: 0 | BV63: =COUNTIF(B63:BU63,"<>0") -> 2 | CB63: =IF(CA63=BZ63,"","X")
A64: Small Accipiter sp. | B64: 0 | C64: 0 | D64: 0 | E64: 0 | F64: 0 | G64: 0 | H64: 0 | I64: 0 | J64: 0 | K64: 0 | L64: 0 | M64: 0 | N64: 0 | O64: 0 | P64: 0 | Q64: 0 | R64: 0 | S64: 1 | T64: 0 | U64: 0 | V64: 0 | W64: 0 | X64: 0 | Y64: 0 | Z64: 0 | AA64: 0 | AB64: 0 | AC64: 1 | AD64: 0 | AE64: 0 | AF64: 0 | AG64: 0 | AH64: 0 | AI64: 0 | AJ64: 0 | AK64: 0 | AL64: 0 | AM64: 0 | AN64: 0 | AO64: 0 | AP64: 0 | AQ64: 0 | AR64: 0 | AS64: 0 | AT64: 0 | AU64: 0 | AV64: 0 | AW64: 0 | AX64: 0 | AY64: 0 | AZ64: 0 | BA64: 0 | BB64: 0 | BC64: 0 | BD64: 0 | BE64: 0 | BF64: 0 | BG64: 0 | BH64: 0 | BI64: 0 | BJ64: 0 | BK64: 0 | BL64: 0 | BM64: 0 | BN64: 0 | BO64: 0 | BP64: 0 | BQ64: 0 | BR64: 0 | BS64: 0 | BT64: 0 | BU64: 0 | BV64: =COUNTIF(B64:BU64,"<>0") -> 2 | CB64: =IF(CA64=BZ64,"","X")
A65: Sharp-shinned Hawk | B65: 0 | C65: 1 | D65: 2 | E65: 6 | F65: 3 | G65: 1 | H65: 3 | I65: 1 | J65: -1 | K65: 2 | L65: 3 | M65: 0 | N65: 0 | O65: 1 | P65: -2 | Q65: 2 | R65: 4 | S65: 0 | T65: 0 | U65: 1 | V65: 1 | W65: 1 | X65: 0 | Y65: 0 | Z65: 0 | AA65: 0 | AB65: 0 | AC65: 0 | AD65: 0 | AE65: -1 | AF65: 0 | AG65: 0 | AH65: 0 | AI65: 0 | AJ65: 0 | AK65: 0 | AL65: 0 | AM65: 0 | AN65: 0 | AO65: 0 | AP65: 0 | AQ65: 0 | AR65: 0 | AS65: 0 | AT65: 0 | AU65: 0 | AV65: 0 | AW65: 1 | AX65: 1 | AY65: 0 | AZ65: 0 | BA65: 0 | BB65: 0 | BC65: 0 | BD65: 0 | BE65: 0 | BF65: 0 | BG65: 0 | BH65: 0 | BI65: 0 | BJ65: 0 | BK65: 0 | BL65: 0 | BM65: 0 | BN65: 0 | BO65: 0 | BP65: 0 | BQ65: 0 | BR65: 0 | BS65: 0 | BT65: 0 | BU65: 0 | BV65: =COUNTIF(B65:BU65,"<>0") -> 20 | CB65: =IF(CA65=BZ65,"","X")
A66: Cooper's Hawk | B66: 0 | C66: 0 | D66: 0 | E66: 0 | F66: 0 | G66: 0 | H66: 0 | I66: 0 | J66: 0 | K66: 0 | L66: 0 | M66: 0 | N66: 0 | O66: 0 | P66: 0 | Q66: 0 | R66: 0 | S66: -1 | T66: 1 | U66: -1 | V66: 1 | W66: 1 | X66: 1 | Y66: 0 | Z66: 0 | AA66: 0 | AB66: 2 | AC66: 0 | AD66: 0 | AE66: 0 | AF66: 0 | AG66: -1 | AH66: 0 | AI66: 0 | AJ66: 0 | AK66: 0 | AL66: 0 | AM66: 0 | AN66: 0 | AO66: 0 | AP66: 0 | AQ66: 0 | AR66: 0 | AS66: 0 | AT66: 0 | AU66: 0 | AV66: 1 | AW66: 0 | AX66: 0 | AY66: 0 | AZ66: 0 | BA66: 0 | BB66: 0 | BC66: 0 | BD66: 0 | BE66: 0 | BF66: 0 | BG66: 0 | BH66: 0 | BI66: 0 | BJ66: 0 | BK66: 0 | BL66: 0 | BM66: 0 | BN66: 0 | BO66: 0 | BP66: 0 | BQ66: 0 | BR66: 0 | BS66: 0 | BT66: 0 | BU66: 0 | BV66: =COUNTIF(B66:BU66,"<>0") -> 9 | CB66: =IF(CA66=BZ66,"","X")
... A118: Bohemian Waxwing | B118: 0 | C118: 139 | D118: 202 | E118: 530 | F118: 596 | G118: 1970 | H118: 852 | I118: 476 | J118: 270 | K118: 397 | L118: 460 | M118: 1021 | N118: 1130 | O118: 173 | P118: 2696 | Q118: 298 | R118: 4038 | S118: 34 | T118: 200 | U118: 638 | V118: 4683 | W118: 3914 | X118: 3663 | Y118: 1034 | Z118: 381 | AA118: 131 | AB118: 311 | AC118: 172 | AD118: 9974 | AE118: 362 | AF118: 124 | AG118: 954 | AH118: 604 | AI118: 137 | AJ118: 479 | AK118: 1932 | AL118: 2319 | AM118: 1054 | AN118: 79 | AO118: 10604 | AP118: 1167 | AQ118: 2103 | AR118: 2106 | AS118: 6047 | AT118: 969 | AU118: 3614 | AV118: 4630 | AW118: 1401 | AX118: 4106 | AY118: 4980 | AZ118: 5166 | BA118: 12442 | BB118: 887 | BC118: 1756 | BD118: 1116 | BE118: 2543 | BF118: 257 | BG118: 577 | BH118: 2846 | BI118: 4299 | BJ118: 923 | BK118: 381 | BL118: 1805 | BM118: 444 | BN118: 409 | BO118: 663 | BP118: 2812 | BQ118: 148 | BR118: 296 | BS118: 1550 | BT118: 136 | BU118: 116 | BV118: =COUNTIF(B118:BU118,"<>0") -> 71 | CB118: =IF(CA118=BZ118,"","X")
A119: Cedar Waxwing | B119: 0 | C119: 0 | E119: 0 | F119: 57 | G119: 4 | H119: 0 | I119: 0 | J119: 30 | K119: 0 | L119: 5 | M119: 101 | N119: 0 | O119: 50 | P119: 11 | Q119: 9 | R119: 0 | S119: 93 | T119: 101 | U119: 251 | V119: 12 | W119: 2 | X119: 46 | Y119: 57 | Z119: 25 | AA119: 111 | AB119: 114 | AC119: 105 | AD119: 35 | AE119: 129 | AF119: 97 | AG119: 125 | AH119: 111 | AI119: 431 | AJ119: 38 | AK119: 22 | AL119: 44 | AM119: 36 | AN119: 3 | AO119: 7 | AP119: 69 | AQ119: 1 | AR119: 1 | AS119: 19 | AT119: 75 | AU119: 8 | AV119: 27 | AW119: 17 | AX119: 4 | AY119: 3 | AZ119: 0 | BA119: 90 | BB119: 59 | BC119: 20 | BD119: 0 | BE119: 2 | BF119: 50 | BG119: 0 | BH119: 6 | BI119: 15 | BJ119: -1 | BK119: 6 | BL119: -10 | BM119: 0 | BN119: 34 | BO119: 0 | BP119: 13 | BQ119: 0 | BR119: 0 | BS119: 0 | BT119: 20 | BU119: 40 | BV119: =COUNTIF(B119:BU119,"<>0") -> 56 | CB119: =IF(CA119=BZ119,"","X")
A120: House Sparrow | B120: 0 | C120: 1683 | D120: 3303 | E120: 4632 | F120: 4207 | G120: 3403 | H120: 6292 | I120: 3515 | J120: 3379 | K120: 2668 | L120: 2512 | M120: 1976 | N120: 1861 | O120: 2778 | P120: 1617 | Q120: 2513 | R120: 3723 | S120: 3206 | T120: 3746 | U120: 3834 | V120: 2744 | W120: 3840 | X120: 3410 | Y120: 7102 | Z120: 6589 | AA120: 5365 | AB120: 4110 | AC120: 4019 | AD120: 3567 | AE120: 2934 | AF120: 1296 | AG120: 2346 | AH120: 1591 | AI120: 1144 | AJ120: 1642 | AK120: 3759 | AL120: 4693 | AM120: 1315 | AN120: 2374 | AO120: 5038 | AP120: 2649 | AQ120: 1759 | AR120: 1623 | AS120: 2957 | AT120: 2496 | AU120: 2589 | AV120: 3052 | AW120: 6204 | AX120: 2447 | AY120: 1945 | AZ120: 2059 | BA120: 3717 | BB120: 2796 | BC120: 3263 | BD120: 2820 | BE120: 1187 | BF120: 4333 | BG120: 4028 | BH120: 1493 | BI120: 2010 | BJ120: 4027 | BK120: 1836 | BL120: 2170 | BM120: 2467 | BN120: 2258 | BO120: 1791 | BP120: 2474 | BQ120: 775 | BR120: 2765 | BS120: 1206 | BT120: 2315 | BU120: 1187 | BV120: =COUNTIF(B120:BU120,"<>0") -> 71 | CB120: =IF(CA120=BZ120,"","X")
A121: Finch sp. | B121: 0 | C121: 0 | D121: 0 | E121: 0 | F121: 0 | G121: 40 | H121: 0 | I121: 0 | J121: 0 | K121: 0 | L121: 0 | M121: 0 | N121: 0 | O121: 0 | P121: 0 | Q121: 11 | R121: 0 | S121: 0 | T121: 0 | U121: 0 | V121: 0 | W121: 0 | X121: 0 | Y121: 0 | Z121: 0 | AA121: 0 | AB121: 0 | AC121: 0 | AD121: 0 | AE121: 0 | AF121: 0 | AG121: 0 | AH121: 0 | AI121: 0 | AJ121: 0 | AK121: 0 | AL121: 0 | AM121: 0 | AN121: 0 | AO121: 0 | AP121: 0 | AQ121: 0 | AR121: 0 | AS121: 0 | AT121: 0 | AU121: 0 | AV121: 0 | AW121: 0 | AX121: 0 | AY121: 0 | AZ121: 0 | BA121: 0 | BB121: 0 | BC121: 0 | BD121: 0 | BE121: 0 | BF121: 0 | BG121: 0 | BH121: 0 | BI121: 0 | BJ121: 0 | BK121: 0 | BL121: 0 | BM121: 0 | BN121: 0 | BO121: 0 | BP121: 0 | BQ121: 0 | BR121: 0 | BS121: 0 | BT121: 0 | BU121: 0 | BV121: =COUNTIF(B121:BU121,"<>0") -> 2 | CB121: =IF(CA121=BZ121,"","X")
A122: Evening Grosbeak | B122: 0 | C122: 0 | D122: 0 | E122: 0 | F122: 0 | G122: 0 | H122: 0 | I122: 0 | J122: 0 | K122: 0 | L122: 0 | M122: 0 | N122: 0 | O122: 0 | P122: 0 | Q122: 2 | R122: 0 | S122: 0 | T122: 0 | U122: 0 | V122: 0 | W122: 0 | X122: 0 | Y122: 0 | Z122: 0 | AA122: 0 | AB122: 0 | AC122: 0 | AD122: 0 | AE122: 0 | AF122: 0 | AG122: 0 | AH122: 2 | AI122: 0 | AJ122: 0 | AK122: 0 | AL122: 1 | AM122: 2 | AN122: 0 | AO122: 2 | AP122: 1 | AQ122: 25 | AR122: 0 | AS122: 44 | AT122: 0 | AU122: 8 | AV122: 26 | AW122: 8 | AX122: 9 | AY122: 65 | AZ122: 23 | BA122: 109 | BB122: 1 | BC122: 24 | BD122: 116 | BE122: 6 | BF122: 0 | BG122: 8 | BH122: 17 | BI122: -1 | BJ122: 0 | BK122: 11 | BL122: 0 | BM122: 10 | BN122: 0 | BO122: 12 | BP122: 0 | BQ122: 0 | BR122: 14 | BS122: 24 | BT122: 0 | BU122: 0 | BV122: =COUNTIF(B122:BU122,"<>0") -> 27 | CB122: =IF(CA122=BZ122,"","X")
A123: Pine Grosbeak | B123: 0 | C123: 2 | D123: -8 | E123: 31 | F123: 0 | G123: 6 | H123: 48 | I123: 15 | J123: 0 | K123: 59 | L123: 2 | M123: 66 | N123: 15 | O123: 5 | P123: 271 | Q123: 12 | R123: 0 | S123: 0 | T123: 7 | U123: 21 | V123: 150 | W123: 2 | X123: 43 | Y123: 17 | Z123: 22 | AA123: 34 | AB123: 22 | AC123: 6 | AD123: 14 | AE123: 62 | AF123: 73 | AG123: 45 | AH123: 74 | AI123: 2 | AJ123: 3 | AK123: 110 | AL123: 19 | AM123: 99 | AN123: 2 | AO123: 40 | AP123: 3 | AQ123: 179 | AR123: 52 | AS123: 12 | AT123: 1 | AU123: 12 | AV123: 27 | AW123: 1 | AX123: 124 | AY123: 247 | AZ123: 7 | BA123: 32 | BB123: 1 | BC123: 186 | BD123: 250 | BE123: 95 | BF123: 0 | BG123: 422 | BH123: 23 | BI123: 141 | BJ123: 64 | BK123: 204 | BL123: 41 | BM123: 61 | BN123: 123 | BO123: 54 | BP123: 113 | BQ123: 19 | BR123: 55 | BS123: 58 | BT123: 73 | BU123: 118 | BV123: =COUNTIF(B123:BU123,"<>0") -> 66 | CB123: =IF(CA123=BZ123,"","X")
A124: Gray-crowned Rosy-Finch | B124: 0 | C124: 0 | D124: 0 | E124: 0 | F124: 0 | G124: 0 | H124: 0 | I124: 0 | J124: 0 | K124: 0 | L124: 0 | M124: 0 | N124: 0 | O124: 0 | P124: 0 | Q124: 0 | R124: 0 | S124: 0 | T124: 0 | U124: 0 | V124: 0 | W124: 0 | X124: 0 | Y124: 0 | Z124: 0 | AA124: 0 | AB124: 0 | AC124: 0 | AD124: 0 | AE124: 1 | AF124: 0 | AG124: 0 | AH124: 0 | AI124: 0 | AJ124: 0 | AK124: 0 | AL124: 1 | AM124: 0 | AN124: 0 | AO124: 0 | AP124: 0 | AQ124: 0 | AR124: 0 | AS124: 0 | AT124: 0 | AU124: 0 | AV124: 0 | AW124: 0 | AX124: 0 | AY124: 0 | AZ124: 0 | BA124: 0 | BB124: 0 | BC124: 0 | BD124: 0 | BE124: 0 | BF124: 0 | BG124: 0 | BH124: 0 | BI124: 0 | BJ124: 0 | BK124: 0 | BL124: 0 | BM124: 0 | BN124: 0 | BO124: 0 | BP124: 0 | BQ124: 0 | BR124: 0 | BS124: 0 | BT124: 0 | BU124: 0 | BV124: =COUNTIF(B124:BU124,"<>0") -> 2 | CB124: =IF(CA124=BZ124,"","X")
A125: House Finch | B125: 0 | C125: 217 | D125: 292 | E125: 205 | F125: 191 | G125: 350 | H125: 468 | I125: 213 | J125: 353 | K125: 454 | L125: 323 | M125: 525 | N125: 409 | O125: 480 | P125: 492 | Q125: 430 | R125: 540 | S125: 383 | T125: 686 | U125: 619 | V125: 628 | W125: 466 | X125: 426 | Y125: 667 | Z125: 466 | AA125: 386 | AB125: 192 | AC125: 247 | AD125: 76 | AE125: 40 | AF125: 14 | AG125: 42 | AH125: -1 | AI125: 0 | AJ125: 0 | AK125: 0 | AL125: 0 | AM125: 0 | AN125: 0 | AO125: 0 | AP125: 0 | AQ125: 0 | AR125: 0 | AS125: 0 | AT125: 0 | AU125: 0 | AV125: 0 | AW125: 0 | AX125: 0 | AY125: 0 | AZ125: 0 | BA125: 0 | BB125: 0 | BC125: 0 | BD125: 0 | BE125: 0 | BF125: 0 | BG125: 0 | BH125: 0 | BI125: 0 | BJ125: 0 | BK125: 0 | BL125: 0 | BM125: 0 | BN125: 0 | BO125: 0 | BP125: 0 | BQ125: 0 | BR125: 0 | BS125: 0 | BT125: 0 | BU125: 0 | BV125: =COUNTIF(B125:BU125,"<>0") -> 32 | CB125: =IF(CA125=BZ125,"","X")
A126: Purple Finch | B126: 0 | C126: 0 | D126: 1 | E126: 0 | F126: 0 | G126: 0 | H126: 0 | I126: 1 | J126: 0 | K126: 2 | L126: 0 | M126: 0 | N126: 1 | O126: 1 | P126: 0 | Q126: 0 | R126: 0 | S126: 0 | T126: 0 | U126: 0 | V126: 0 | W126: 0 | X126: 0 | Y126: 11 | Z126: 0 | AA126: 0 | AB126: 0 | AC126: 2 | AD126: 0 | AE126: 0 | AF126: 0 | AG126: 7 | AH126: 0 | AI126: 1 | AJ126: 0 | AK126: 0 | AL126: 0 | AM126: 0 | AN126: 0 | AO126: 0 | AP126: -1 | AQ126: 0 | AR126: 0 | AS126: -1 | AT126: 1 | AU126: 0 | AV126: 0 | AW126: 0 | AX126: 0 | AY126: 0 | AZ126: 0 | BA126: 0 | BB126: 0 | BC126: 4 | BD126: 0 | BE126: 0 | BF126: 0 | BG126: 14 | BH126: 0 | BI126: 0 | BJ126: 0 | BK126: 0 | BL126: 0 | BM126: 0 | BN126: 0 | BO126: 0 | BP126: 0 | BQ126: 0 | BR126: 0 | BS126: 0 | BT126: 0 | BU126: 0 | BV126: =COUNTIF(B126:BU126,"<>0") -> 14 | CB126: =IF(CA126=BZ126,"","X")
A127: Cassin's Finch | B127: 0 | C127: 0 | D127: 0 | E127: 0 | F127: 0 | G127: 0 | H127: 0 | I127: 0 | J127: 0 | K127: 0 | L127: 0 | M127: 0 | N127: -1 | O127: 1 | P127: 0 | Q127: 0 | R127: 0 | S127: 0 | T127: 0 | U127: 0 | V127: 0 | W127: 0 | X127: 0 | Y127: 0 | Z127: 0 | AA127: 0 | AB127: 0 | AC127: 0 | AD127: 0 | AE127: 0 | AF127: 0 | AG127: 0 | AH127: 0 | AI127: 0 | AJ127: 0 | AK127: 0 | AL127: 0 | AM127: 0 | AN127: 0 | AO127: 0 | AP127: 0 | AQ127: 0 | AR127: 0 | AS127: 0 | AT127: 0 | AU127: 0 | AV127: 0 | AW127: 0 | AX127: 0 | AY127: 0 | AZ127: 0 | BA127: 0 | BB127: 0 | BC127: 0 | BD127: 0 | BE127: 0 | BF127: 0 | BG127: 0 | BH127: 0 | BI127: 0 | BJ127: 0 | BK127: 0 | BL127: 0 | BM127: 0 | BN127: 0 | BO127: 0 | BP127: 0 | BQ127: 0 | BR127: 0 | BS127: 0 | BT127: 0 | BU127: 0 | BV127: =COUNTIF(B127:BU127,"<>0") -> 2 | CB127: =IF(CA127=BZ127,"","X")
A128: Redpoll | C128: 591 | D128: 41 | E128: 74 | F128: 0 | G128: 1054 | H128: 43 | I128: 5 | J128: 46 | K128: 255 | L128: 110 | M128: 504 | N128: 63 | O128: 5 | P128: 1068 | Q128: 442 | R128: 139 | S128: 105 | T128: 88 | U128: 410 | V128: 1025 | W128: 0 | X128: 484 | Y128: 735 | Z128: 17 | AA128: 1574 | AB128: 15 | AC128: 2268 | AD128: 200 | AE128: 117 | AF128: 202 | AG128: 873 | AH128: 31 | AI128: 213 | AJ128: 150 | AK128: 689 | AL128: 458 | AM128: 417 | AN128: 283 | AO128: 143 | AP128: 209 | AQ128: 857 | AR128: 21 | AS128: 18 | AT128: 87 | AU128: 2343 | AV128: 699 | AW128: 26 | AX128: 290 | AY128: 2469 | AZ128: 491 | BA128: 819 | BB128: 285 | BC128: 318 | BD128: 185 | BE128: 1688 | BF128: 4 | BG128: 1626 | BH128: 1509 | BI128: 22 | BJ128: 50 | BK128: 829 | BL128: 93 | BM128: 1689 | BN128: 165 | BO128: 556 | BP128: 231 | BQ128: 525 | BR128: 440 | BS128: 1260 | BT128: 26 | BU128: 1072 | BV128: =COUNTIF(B128:BU128,"<>0") -> 70
A129: Crossbill sp. | B129: 0 | C129: 0 | D129: 0 | E129: 0 | F129: 0 | G129: 0 | H129: 0 | I129: 0 | J129: 0 | K129: 0 | L129: 0 | M129: 0 | N129: 0 | O129: 0 | P129: 0 | Q129: 0 | R129: 0 | S129: 0 | T129: 0 | U129: 0 | V129: 0 | W129: 0 | X129: 0 | Y129: 0 | Z129: 0 | AA129: 0 | AB129: 2 | AC129: 0 | AD129: 0 | AE129: 0 | AF129: 0 | AG129: 0 | AH129: 0 | AI129: 0 | AJ129: 0 | AK129: 7 | AL129: 0 | AM129: 0 | AN129: 0 | AO129: 0 | AP129: 0 | AQ129: 0 | AR129: 0 | AS129: 0 | AT129: 0 | AU129: 0 | AV129: 0 | AW129: 0 | AX129: 0 | AY129: 0 | AZ129: 0 | BA129: 0 | BB129: 0 | BC129: 0 | BD129: 0 | BE129: 0 | BF129: 0 | BG129: 0 | BH129: 0 | BI129: 0 | BJ129: 0 | BK129: 0 | BL129: 0 | BM129: 0 | BN129: 0 | BO129: 0 | BP129: 0 | BQ129: 0 | BR129: 0 | BS129: 0 | BT129: 0 | BU129: 0 | BV129: =COUNTIF(B129:BU129,"<>0") -> 2 | CB129: =IF(CA129=BZ129,"","X")
A130: Red Crossbill | B130: 0 | C130: 0 | D130: 0 | E130: 16 | F130: 20 | G130: 0 | H130: 0 | I130: 36 | J130: 7 | K130: 0 | L130: 10 | M130: 137 | N130: 1 | O130: 7 | P130: 98 | Q130: 22 | R130: 5 | S130: 42 | T130: 0 | U130: 0 | V130: 12 | W130: -4 | X130: 10 | Y130: 1 | Z130: 8 | AA130: 0 | AB130: 0 | AC130: 0 | AD130: 67 | AE130: 9 | AF130: 91 | AG130: 6 | AH130: 4 | AI130: 0 | AJ130: 0 | AK130: 5 | AL130: 14 | AM130: 3 | AN130: 0 | AO130: 58 | AP130: 0 | AQ130: 0 | AR130: 4 | AS130: 2 | AT130: 48 | AU130: 0 | AV130: 25 | AW130: 31 | AX130: 24 | AY130: 0 | AZ130: 0 | BA130: 23 | BB130: 4 | BC130: -1 | BD130: -15 | BE130: 0 | BF130: 0 | BG130: 32 | BH130: 0 | BI130: 0 | BJ130: 0 | BK130: 0 | BL130: 0 | BM130: 8 | BN130: 0 | BO130: 0 | BP130: 0 | BQ130: 0 | BR130: 0 | BS130: 0 | BT130: 0 | BU130: 0 | BV130: =COUNTIF(B130:BU130,"<>0") -> 38 | CB130: =IF(CA130=BZ130,"","X")
A131: White-winged Crossbill | B131: 0 | C131: 0 | D131: 198 | E131: 0 | F131: 2 | G131: 0 | H131: 132 | I131: 6 | J131: 1 | K131: 12 | L131: 255 | M131: 115 | N131: 24 | O131: 0 | P131: 559 | Q131: 11 | R131: 53 | S131: 21 | T131: 40 | U131: 50 | V131: -1 | W131: 0 | X131: 30 | Y131: 50 | Z131: 15 | AA131: 91 | AB131: 7 | AC131: 10 | AD131: 25 | AE131: 50 | AF131: 53 | AG131: 447 | AH131: 0 | AI131: 0 | AJ131: 0 | AK131: 168 | AL131: 35 | AM131: 25 | AN131: 0 | AO131: 166 | AP131: 21 | AQ131: 41 | AR131: 13 | AS131: 0 | AT131: 9 | AU131: 0 | AV131: 1 | AW131: 1 | AX131: 35 | AY131: 0 | AZ131: 0 | BA131: 19 | BB131: -3 | BC131: -1 | BD131: -2 | BE131: 17 | BF131: 0 | BG131: 2 | BH131: 0 | BI131: 0 | BJ131: 0 | BK131: 0 | BL131: 0 | BM131: 0 | BN131: 0 | BO131: 0 | BP131: 0 | BQ131: 0 | BR131: 0 | BS131: 0 | BT131: 0 | BU131: 0 | BV131: =COUNTIF(B131:BU131,"<>0") -> 43 | CB131: =IF(CA131=BZ131,"","X")
A132: Pine Siskin | B132: 0 | C132: 0 | D132: 2 | E132: 8 | F132: 0 | G132: 11 | H132: 36 | I132: 9 | J132: 159 | K132: 4 | L132: 35 | M132: 0 | N132: 3 | O132: 0 | P132: 0 | Q132: 3 | R132: 12 | S132: 292 | T132: 46 | U132: 0 | V132: 5 | W132: 0 | X132: 88 | Y132: 2 | Z132: 15 | AA132: 69 | AB132: 123 | AC132: 11 | AD132: 78 | AE132: 6 | AF132: 33 | AG132: 114 | AH132: 94 | AI132: 25 | AJ132: 0 | AK132: 16 | AL132: 1 | AM132: 4 | AN132: 11 | AO132: 21 | AP132: 3 | AQ132: 0 | AR132: 6 | AS132: 0 | AT132: 0 | AU132: 70 | AV132: 50 | AW132: 5 | AX132: -1 | AY132: 0 | AZ132: 0 | BA132: 0 | BB132: 0 | BC132: 20 | BD132: -7 | BE132: 0 | BF132: 0 | BG132: 0 | BH132: 0 | BI132: 0 | BJ132: 0 | BK132: 0 | BL132: 0 | BM132: 0 | BN132: 0 | BO132: 0 | BP132: 0 | BQ132: 0 | BR132: 0 | BS132: 0 | BT132: 0 | BU132: 4 | BV132: =COUNTIF(B132:BU132,"<>0") -> 40 | CB132: =IF(CA132=BZ132,"","X")
A133: American Goldfinch | B133: 0 | C133: 20 | D133: -12 | E133: 0 | F133: 6 | G133: 2 | H133: 2 | I133: 3 | J133: 1 | K133: 0 | L133: 3 | M133: 0 | N133: 11 | O133: 9 | P133: 2 | Q133: -1 | R133: 2 | S133: -2 | T133: 0 | U133: 0 | V133: 0 | W133: 2 | X133: 1 | Y133: 0 | Z133: 2 | AA133: 6 | AB133: 1 | AC133: 0 | AD133: 1 | AE133: 0 | AF133: 0 | AG133: 0 | AH133: -1 | AI133: 0 | AJ133: 0 | AK133: 0 | AL133: 0 | AM133: 0 | AN133: 0 | AO133: 0 | AP133: 0 | AQ133: 0 | AR133: 0 | AS133: 0 | AT133: 0 | AU133: 0 | AV133: 0 | AW133: 1 | AX133: 0 | AY133: 0 | AZ133: 0 | BA133: 0 | BB133: 0 | BC133: 0 | BD133: 0 | BE133: 0 | BF133: 0 | BG133: 0 | BH133: 0 | BI133: 0 | BJ133: 0 | BK133: 0 | BL133: 0 | BM133: 0 | BN133: 0 | BO133: 0 | BP133: 0 | BQ133: 0 | BR133: 0 | BS133: 0 | BT133: 0 | BU133: 0 | BV133: =COUNTIF(B133:BU133,"<>0") -> 22 | CB133: =IF(CA133=BZ133,"","X")
A134: Lapland Longspur | B134: 0 | C134: 0 | D134: 0 | E134: 0 | F134: 0 | G134: 0 | H134: 0 | I134: 0 | J134: 0 | K134: 0 | L134: 0 | M134: 0 | N134: 0 | O134: 0 | P134: 0 | Q134: 0 | R134: 0 | S134: 0 | T134: 0 | U134: 0 | V134: 0 | W134: 0 | X134: 0 | Y134: 0 | Z134: 0 | AA134: 0 | AB134: 0 | AC134: 0 | AD134: 0 | AE134: 0 | AF134: 0 | AG134: 0 | AH134: 0 | AI134: 0 | AJ134: 0 | AK134: 0 | AL134: 0 | AM134: 0 | AN134: 2 | AO134: 0 | AP134: 0 | AQ134: 0 | AR134: 0 | AS134: 0 | AT134: 0 | AU134: 0 | AV134: 0 | AW134: 0 | AX134: 0 | AY134: 0 | AZ134: 0 | BA134: 0 | BB134: 0 | BC134: 0 | BD134: 6 | BE134: 0 | BF134: 0 | BG134: 0 | BH134: 0 | BI134: 0 | BJ134: 0 | BK134: 0 | BL134: 0 | BM134: 0 | BN134: 0 | BO134: 0 | BP134: 0 | BQ134: 0 | BR134: 0 | BS134: 0 | BT134: 0 | BU134: 0 | BV134: =COUNTIF(B134:BU134,"<>0") -> 2 | CB134: =IF(CA134=BZ134,"","X")
A135: Snow Bunting | B135: 0 | C135: 1999 | D135: 45 | E135: 0 | F135: 20 | G135: 350 | H135: 66 | I135: 56 | J135: 5 | K135: 3 | L135: 200 | M135: 22 | N135: 31 | O135: 396 | P135: 31 | Q135: 0 | R135: 47 | S135: 348 | T135: 1099 | U135: 241 | V135: 0 | W135: 0 | X135: 90 | Y135: 9 | Z135: 300 | AA135: 254 | AB135: 450 | AC135: 6 | AD135: 137 | AE135: 36 | AF135: 460 | AG135: 226 | AH135: 950 | AI135: 284 | AJ135: 326 | AK135: 5 | AL135: 1076 | AM135: 50 | AN135: 1166 | AO135: 215 | AP135: 27 | AQ135: 153 | AR135: 64 | AS135: 921 | AT135: 775 | AU135: 20 | AV135: 8 | AW135: 5 | AX135: 0 | AY135: 154 | AZ135: 78 | BA135: 3 | BB135: 160 | BC135: 39 | BD135: 87 | BE135: 425 | BF135: 90 | BG135: 664 | BH135: 81 | BI135: 31 | BJ135: -27 | BK135: 307 | BL135: 71 | BM135: 781 | BN135: 836 | BO135: 172 | BP135: 1000 | BQ135: 1 | BR135: 15 | BS135: 348 | BT135: 50 | BU135: 792 | BV135: =COUNTIF(B135:BU135,"<>0") -> 66 | CB135: =IF(CA135=BZ135,"","X")
A136: Field Sparrow | B136: 0 | C136: 0 | D136: 0 | E136: 0 | F136: 0 | G136: 0 | H136: 0 | I136: 0 | J136: 0 | K136: 0 | L136: 0 | M136: 0 | N136: 0 | O136: 0 | P136: 0 | Q136: 0 | R136: 0 | S136: 0 | T136: 0 | U136: 0 | V136: 0 | W136: 0 | X136: 0 | Y136: 0 | Z136: 0 | AA136: 0 | AB136: 0 | AC136: 0 | AD136: 0 | AE136: 0 | AF136: 0 | AG136: 0 | AH136: 0 | AI136: 0 | AJ136: 0 | AK136: 0 | AL136: 0 | AM136: 0 | AN136: 0 | AO136: 0 | AP136: 0 | AQ136: -1 | AR136: 0 | AS136: 0 | AT136: 0 | AU136: 0 | AV136: 0 | AW136: 0 | AX136: 0 | AY136: 0 | AZ136: 0 | BA136: 0 | BB136: 0 | BC136: 0 | BD136: 0 | BE136: 0 | BF136: 0 | BG136: 0 | BH136: 0 | BI136: 0 | BJ136: 0 | BK136: 0 | BL136: 0 | BM136: 0 | BN136: 0 | BO136: 0 | BP136: 0 | BQ136: 0 | BR136: 0 | BS136: 0 | BT136: 0 | BU136: 0 | BV136: =COUNTIF(B136:BU136,"<>0") -> 1 | CB136: =IF(CA136=BZ136,"","X")
A137: American Tree Sparrow | B137: 0 | C137: 0 | D137: 0 | E137: 0 | F137: 0 | G137: 0 | H137: 0 | I137: 0 | J137: 0 | K137: 0 | L137: 0 | M137: 0 | N137: 0 | O137: 0 | P137: 0 | Q137: 0 | R137: 0 | S137: 0 | T137: 0 | U137: 0 | V137: 0 | W137: 0 | X137: 0 | Y137: 0 | Z137: 0 | AA137: 0 | AB137: 0 | AC137: 0 | AD137: 0 | AE137: 0 | AF137: 0 | AG137: 0 | AH137: 0 | AI137: 0 | AJ137: 0 | AK137: 1 | AL137: 2 | AM137: 0 | AN137: 1 | AO137: 0 | AP137: 1 | AQ137: 2 | AR137: 0 | AS137: 0 | AT137: 0 | AU137: 2 | AV137: 0 | AW137: 0 | AX137: 1 | AY137: 2 | AZ137: 0 | BA137: 0 | BB137: 2 | BC137: 2 | BD137: 0 | BE137: 0 | BF137: 0 | BG137: 0 | BH137: 0 | BI137: 0 | BJ137: 0 | BK137: 0 | BL137: 0 | BM137: 0 | BN137: 0 | BO137: 0 | BP137: 0 | BQ137: 0 | BR137: 0 | BS137: 0 | BT137: 0 | BU137: 0 | BV137: =COUNTIF(B137:BU137,"<>0") -> 10 | CB137: =IF(CA137=BZ137,"","X")
A138: Fox Sparrow | B138: 0 | C138: 0 | D138: 0 | E138: 0 | F138: 0 | G138: 0 | H138: 0 | I138: 0 | J138: 0 | K138: 0 | L138: 0 | M138: 0 | N138: 0 | O138: 0 | P138: 0 | Q138: 0 | R138: 0 | S138: 0 | T138: 0 | U138: 0 | V138: 0 | W138: 0 | X138: 0 | Y138: 0 | Z138: 0 | AA138: 0 | AB138: 0 | AC138: 0 | AD138: 0 | AE138: 1 | AF138: 0 | AG138: 0 | AH138: 0 | AI138: 0 | AJ138: 0 | AK138: 1 | AL138: 0 | AM138: 0 | AN138: 0 | AO138: 0 | AP138: 0 | AQ138: 0 | AR138: 0 | AS138: 0 | AT138: 0 | AU138: 0 | AV138: 0 | AW138: 0 | AX138: 0 | AY138: 0 | AZ138: 0 | BA138: 0 | BB138: 0 | BC138: 0 | BD138: 0 | BE138: 0 | BF138: 0 | BG138: 0 | BH138: 0 | BI138: 0 | BJ138: 0 | BK138: 0 | BL138: 0 | BM138: 0 | BN138: 0 | BO138: 0 | BP138: 0 | BQ138: 0 | BR138: 0 | BS138: 0 | BT138: 0 | BU138: 0 | BV138: =COUNTIF(B138:BU138,"<>0") -> 2 | CB138: =IF(CA138=BZ138,"","X")
A139: Dark-eyed Junco | B139: 0 | C139: 8 | D139: 6 | E139: 1 | F139: 25 | G139: 18 | H139: 10 | I139: 2 | J139: 19 | K139: 3 | L139: 14 | M139: 7 | N139: 18 | O139: 9 | P139: 21 | Q139: 13 | R139: 5 | S139: 14 | T139: 2 | U139: 15 | V139: 8 | W139: 1 | X139: 3 | Y139: 33 | Z139: 8 | AA139: 15 | AB139: 9 | AC139: 12 | AD139: 41 | AE139: 5 | AF139: 13 | AG139: 18 | AH139: 3 | AI139: 1 | AJ139: 1 | AK139: 7 | AL139: 3 | AM139: 0 | AN139: 1 | AO139: 2 | AP139: 1 | AQ139: 7 | AR139: -1 | AS139: 0 | AT139: 1 | AU139: 0 | AV139: 0 | AW139: 0 | AX139: 1 | AY139: -1 | AZ139: -1 | BA139: 0 | BB139: 3 | BC139: 3 | BD139: 0 | BE139: 0 | BF139: 0 | BG139: 1 | BH139: 2 | BI139: 0 | BJ139: -1 | BK139: 0 | BL139: 0 | BM139: 0 | BN139: 0 | BO139: 0 | BP139: 0 | BQ139: 0 | BR139: 3 | BS139: 0 | BT139: 0 | BU139: 0 | BV139: =COUNTIF(B139:BU139,"<>0") -> 51 | CB139: =IF(CA139=BZ139,"","X")
A140: White-crowned Sparrow | B140: 0 | C140: 0 | D140: 0 | E140: 0 | F140: 0 | G140: 0 | H140: 0 | I140: 0 | J140: 0 | K140: 0 | L140: 0 | M140: 0 | N140: 0 | O140: 0 | P140: -1 | Q140: 0 | R140: 0 | S140: 0 | T140: 0 | U140: 0 | V140: 0 | W140: 0 | X140: -1 | Y140: 0 | Z140: 1 | AA140: 0 | AB140: 0 | AC140: 0 | AD140: 0 | AE140: 0 | AF140: 0 | AG140: 0 | AH140: 0 | AI140: 0 | AJ140: 0 | AK140: 0 | AL140: 0 | AM140: 0 | AN140: 0 | AO140: 0 | AP140: 0 | AQ140: 0 | AR140: 0 | AS140: 0 | AT140: 0 | AU140: 0 | AV140: 0 | AW140: 0 | AX140: 0 | AY140: 0 | AZ140: 0 | BA140: 0 | BB140: 1 | BC140: 0 | BD140: 0 | BE140: 0 | BF140: 0 | BG140: 0 | BH140: 0 | BI140: 0 | BJ140: 0 | BK140: 0 | BL140: 0 | BM140: 0 | BN140: 0 | BO140: 0 | BP140: 0 | BQ140: 0 | BR140: 0 | BS140: 0 | BT140: 0 | BU140: 0 | BV140: =COUNTIF(B140:BU140,"<>0") -> 4 | CB140: =IF(CA140=BZ140,"","X")
... A146: Western Meadowlark | B146: 0 | C146: 0 | D146: 0 | E146: 0 | F146: 0 | G146: 0 | H146: 0 | I146: 0 | J146: 0 | K146: 0 | L146: 0 | M146: 0 | N146: 0 | O146: 0 | P146: 0 | Q146: 0 | R146: 0 | S146: 0 | T146: 0 | U146: 0 | V146: 0 | W146: 0 | X146: 0 | Y146: 0 | Z146: 0 | AA146: 0 | AB146: 0 | AC146: 0 | AD146: 0 | AE146: 0 | AF146: 0 | AG146: 0 | AH146: 0 | AI146: 0 | AJ146: 0 | AK146: 0 | AL146: 0 | AM146: 0 | AN146: 0 | AO146: 0 | AP146: 0 | AQ146: 0 | AR146: 0 | AS146: 0 | AT146: 0 | AU146: 0 | AV146: 0 | AW146: 0 | AX146: 0 | AY146: 0 | AZ146: 0 | BA146: 0 | BB146: 0 | BC146: 0 | BD146: 0 | BE146: 0 | BF146: 0 | BG146: 0 | BH146: 0 | BI146: 0 | BJ146: 0 | BK146: 0 | BL146: 0 | BM146: 0 | BN146: 0 | BO146: 0 | BP146: 0 | BQ146: 0 | BR146: 0 | BS146: 0 | BT146: 0 | BU146: 0 | BV146: =COUNTIF(B146:BU146,"<>0") -> 0 | CB146: =IF(CA146=BZ146,"","X")
A147: Blackbird sp. | B147: 0 | C147: 0 | D147: 0 | E147: 0 | F147: 0 | G147: 0 | H147: 0 | I147: 0 | J147: 0 | K147: 0 | L147: 0 | M147: 0 | N147: 0 | O147: 0 | P147: 0 | Q147: 0 | R147: 0 | S147: 0 | T147: 0 | U147: 0 | V147: 0 | W147: 0 | X147: 0 | Y147: 0 | Z147: 0 | AA147: 0 | AB147: 0 | AC147: 0 | AD147: 0 | AE147: 0 | AF147: 0 | AG147: 0 | AH147: 0 | AI147: 0 | AJ147: 0 | AK147: 0 | AL147: 0 | AM147: 0 | AN147: 0 | AO147: 0 | AP147: 0 | AQ147: 0 | AR147: 0 | AS147: 0 | AT147: 0 | AU147: 0 | AV147: 0 | AW147: 0 | AX147: 0 | AY147: 0 | AZ147: 0 | BA147: 0 | BB147: 0 | BC147: 0 | BD147: 0 | BE147: 0 | BF147: 0 | BG147: 0 | BH147: 0 | BI147: 0 | BJ147: 0 | BK147: 0 | BL147: 0 | BM147: 0 | BN147: 0 | BO147: 0 | BP147: 0 | BQ147: 0 | BR147: 0 | BS147: 0 | BT147: 0 | BU147: 0 | BV147: =COUNTIF(B147:BU147,"<>0") -> 0
A148: Red-winged Blackbird | B148: 0 | C148: 0 | D148: 0 | E148: 0 | F148: 0 | G148: 0 | H148: 0 | I148: 0 | J148: 0 | K148: 0 | L148: 0 | M148: 0 | N148: 0 | O148: 0 | P148: 0 | Q148: 0 | R148: 0 | S148: 0 | T148: 0 | U148: 0 | V148: 0 | W148: 0 | X148: 0 | Y148: 0 | Z148: 0 | AA148: 0 | AB148: 0 | AC148: 0 | AD148: 0 | AE148: 0 | AF148: 0 | AG148: 0 | AH148: 0 | AI148: 0 | AJ148: 0 | AK148: 0 | AL148: 0 | AM148: 0 | AN148: 0 | AO148: 0 | AP148: 0 | AQ148: 0 | AR148: 0 | AS148: 0 | AT148: 1 | AU148: 0 | AV148: 0 | AW148: 0 | AX148: 0 | AY148: 0 | AZ148: 0 | BA148: 0 | BB148: 0 | BC148: 0 | BD148: 0 | BE148: 0 | BF148: 0 | BG148: 0 | BH148: -10 | BI148: 0 | BJ148: 0 | BK148: 0 | BL148: 0 | BM148: 0 | BN148: 0 | BO148: 0 | BP148: 0 | BQ148: 0 | BR148: 0 | BS148: 0 | BT148: 0 | BU148: 0 | BV148: =COUNTIF(B148:BU148,"<>0") -> 2 | CB148: =IF(CA148=BZ148,"","X")
A149: Brown-headed Cowbird | B149: 0 | C149: 0 | D149: 0 | E149: 0 | F149: 0 | G149: 0 | H149: 0 | I149: 0 | J149: 0 | K149: 0 | L149: 0 | M149: 0 | N149: 0 | O149: 0 | P149: 0 | Q149: 0 | R149: -1 | S149: 0 | T149: 0 | U149: 1 | V149: 0 | W149: 0 | X149: 0 | Y149: -1 | Z149: -3 | AA149: 1 | AB149: 1 | AC149: 1 | AD149: 0 | AE149: 0 | AF149: 0 | AG149: 0 | AH149: 0 | AI149: 0 | AJ149: 0 | AK149: 0 | AL149: 0 | AM149: 0 | AN149: 0 | AO149: 0 | AP149: 0 | AQ149: 0 | AR149: 0 | AS149: 0 | AT149: 0 | AU149: 0 | AV149: 0 | AW149: 0 | AX149: 0 | AY149: 0 | AZ149: 0 | BA149: 0 | BB149: 0 | BC149: 0 | BD149: 0 | BE149: 0 | BF149: 0 | BG149: 0 | BH149: 0 | BI149: 0 | BJ149: 0 | BK149: 0 | BL149: 0 | BM149: 0 | BN149: 0 | BO149: 0 | BP149: 0 | BQ149: 0 | BR149: 0 | BS149: 0 | BT149: 0 | BU149: 0 | BV149: =COUNTIF(B149:BU149,"<>0") -> 7 | CB149: =IF(CA149=BZ149,"","X")
A150: Rusty Blackbird | B150: 0 | C150: 0 | D150: 0 | E150: 0 | F150: 1 | G150: 0 | H150: 0 | I150: 0 | J150: 0 | K150: 0 | L150: 0 | M150: 0 | N150: 0 | O150: 0 | P150: 0 | Q150: 0 | R150: 0 | S150: 0 | T150: 0 | U150: 0 | V150: 0 | W150: 0 | X150: 0 | Y150: 0 | Z150: 0 | AA150: 0 | AB150: 0 | AC150: 0 | AD150: 0 | AE150: 0 | AF150: 0 | AG150: 0 | AH150: 0 | AI150: 0 | AJ150: -1 | AK150: 1 | AL150: 0 | AM150: 0 | AN150: 0 | AO150: 0 | AP150: 0 | AQ150: 0 | AR150: 0 | AS150: 0 | AT150: 0 | AU150: 0 | AV150: 0 | AW150: 0 | AX150: 2 | AY150: 0 | AZ150: 0 | BA150: 1 | BB150: 0 | BC150: 5 | BD150: 6 | BE150: 0 | BF150: 0 | BG150: 0 | BH150: 1 | BI150: 0 | BJ150: 0 | BK150: 0 | BL150: 0 | BM150: 0 | BN150: 0 | BO150: 0 | BP150: 0 | BQ150: 0 | BR150: 0 | BS150: 0 | BT150: 0 | BU150: 0 | BV150: =COUNTIF(B150:BU150,"<>0") -> 8 | CB150: =IF(CA150=BZ150,"","X")
A151: Brewer's Blackbird | B151: 0 | C151: 0 | D151: 0 | E151: 0 | F151: 0 | G151: 0 | H151: 0 | I151: 0 | J151: 0 | K151: 0 | L151: 0 | M151: 1 | N151: 3 | O151: 0 | P151: 0 | Q151: 0 | R151: 0 | S151: 0 | T151: 0 | U151: 0 | V151: 0 | W151: 0 | X151: 0 | Y151: 0 | Z151: 0 | AA151: 0 | AB151: 0 | AC151: 0 | AD151: 0 | AE151: 0 | AF151: 0 | AG151: 1 | AH151: 0 | AI151: 0 | AJ151: 0 | AK151: 0 | AL151: 0 | AM151: 0 | AN151: 0 | AO151: 0 | AP151: 0 | AQ151: 0 | AR151: 0 | AS151: 0 | AT151: 3 | AU151: 0 | AV151: 0 | AW151: 0 | AX151: 0 | AY151: 0 | AZ151: 0 | BA151: 0 | BB151: 0 | BC151: 0 | BD151: 0 | BE151: 0 | BF151: 0 | BG151: 0 | BH151: 0 | BI151: 0 | BJ151: 0 | BK151: 0 | BL151: 0 | BM151: 0 | BN151: 0 | BO151: 0 | BP151: 0 | BQ151: 1 | BR151: -1 | BS151: 0 | BT151: 0 | BU151: 0 | BV151: =COUNTIF(B151:BU151,"<>0") -> 6 | CB151: =IF(CA151=BZ151,"","X")
A152: Common Grackle | B152: 0 | C152: -1 | D152: 0 | E152: -1 | F152: 1 | G152: 0 | H152: 2 | I152: 0 | J152: 1 | K152: 0 | L152: 0 | M152: 0 | N152: 0 | O152: -1 | P152: 0 | Q152: -1 | R152: 0 | S152: 0 | T152: 0 | U152: 0 | V152: 0 | W152: 1 | X152: 1 | Y152: 0 | Z152: 0 | AA152: 0 | AB152: 1 | AC152: 0 | AD152: 3 | AE152: 1 | AF152: 0 | AG152: 0 | AH152: 0 | AI152: 0 | AJ152: 0 | AK152: 0 | AL152: 1 | AM152: 0 | AN152: 0 | AO152: 0 | AP152: 0 | AQ152: 0 | AR152: 1 | AS152: 0 | AT152: 0 | AU152: 0 | AV152: 0 | AW152: 0 | AX152: 0 | AY152: 0 | AZ152: 0 | BA152: 0 | BB152: 0 | BC152: 0 | BD152: 0 | BE152: 0 | BF152: 0 | BG152: 0 | BH152: 0 | BI152: 0 | BJ152: 0 | BK152: 0 | BL152: 0 | BM152: 0 | BN152: 2 | BO152: 0 | BP152: -1 | BQ152: 0 | BR152: 0 | BS152: 0 | BT152: 0 | BU152: 0 | BV152: =COUNTIF(B152:BU152,"<>0") -> 16 | CB152: =IF(CA152=BZ152,"","X")
A153: Orange-crowned Warbler | B153: 0 | C153: 0 | D153: 0 | E153: 0 | F153: 0 | G153: 0 | H153: 0 | I153: 0 | J153: 0 | K153: 0 | L153: 0 | M153: 0 | N153: 0 | O153: 0 | P153: 0 | Q153: 0 | R153: 0 | S153: 0 | T153: 0 | U153: 0 | V153: 0 | W153: 0 | X153: 0 | Y153: 0 | Z153: 0 | AA153: 0 | AB153: 0 | AC153: 0 | AD153: 0 | AE153: -1 | AF153: 0 | AG153: 0 | AH153: 0 | AI153: 0 | AJ153: 0 | AK153: 0 | AL153: 0 | AM153: 0 | AN153: 0 | AO153: 0 | AP153: 0 | AQ153: 0 | AR153: 0 | AS153: 0 | AT153: 0 | AU153: 0 | AV153: 0 | AW153: 0 | AX153: 0 | AY153: 0 | AZ153: 0 | BA153: 0 | BB153: 0 | BC153: 0 | BD153: 0 | BE153: 0 | BF153: 0 | BG153: 0 | BH153: 0 | BI153: 0 | BJ153: 0 | BK153: 0 | BL153: 0 | BM153: 0 | BN153: 0 | BO153: 0 | BP153: 0 | BQ153: 0 | BR153: 0 | BS153: 0 | BT153: 0 | BU153: 0 | BV153: =COUNTIF(B153:BU153,"<>0") -> 1 | CB153: =IF(CA153=BZ153,"","X")
A154: Pine Warbler | B154: 0 | C154: 0 | D154: 0 | E154: 0 | F154: 0 | G154: 0 | H154: 0 | I154: 0 | J154: 0 | K154: 0 | L154: 0 | M154: 1 | N154: 0 | O154: 0 | P154: 0 | Q154: 0 | R154: 0 | S154: 0 | T154: 0 | U154: 0 | V154: 0 | W154: 0 | X154: 0 | Y154: 0 | Z154: 0 | AA154: 0 | AB154: 0 | AC154: 0 | AD154: 0 | AE154: 0 | AF154: 0 | AG154: 0 | AH154: 0 | AI154: 0 | AJ154: 0 | AK154: 0 | AL154: 0 | AM154: 0 | AN154: 0 | AO154: 0 | AP154: 0 | AQ154: 0 | AR154: 0 | AS154: 0 | AT154: 0 | AU154: 0 | AV154: 0 | AW154: 0 | AX154: 0 | AY154: 0 | AZ154: 0 | BA154: 0 | BB154: 0 | BC154: 0 | BD154: 0 | BE154: 0 | BF154: 0 | BG154: 0 | BH154: 0 | BI154: 0 | BJ154: 0 | BK154: 0 | BL154: 0 | BM154: 0 | BN154: 0 | BO154: 0 | BP154: 0 | BQ154: 0 | BR154: 0 | BS154: 0 | BT154: 0 | BU154: 0 | BV154: =COUNTIF(B154:BU154,"<>0") -> 1 | CB154: =IF(CA154=BZ154,"","X")
A155: Northern Cardinal | B155: 0 | C155: 0 | D155: 0 | E155: 1 | F155: 0 | G155: 0 | H155: 0 | I155: 0 | J155: 0 | K155: 0 | L155: 0 | M155: 0 | N155: 0 | O155: 0 | P155: 0 | Q155: 0 | R155: 0 | S155: 0 | T155: 0 | U155: 0 | V155: 0 | W155: 0 | X155: 0 | Y155: -1 | Z155: 0 | AA155: 0 | AB155: 0 | AC155: 0 | AD155: 0 | AE155: 0 | AF155: 0 | AG155: 0 | AH155: 0 | AI155: 0 | AJ155: 0 | AK155: 0 | AL155: 0 | AM155: 0 | AN155: 0 | AO155: 0 | AP155: 0 | AQ155: 0 | AR155: 0 | AS155: 0 | AT155: 0 | AU155: 1 | AV155: 1 | AW155: 0 | AX155: 0 | AY155: 0 | AZ155: 0 | BA155: 0 | BB155: 0 | BC155: 0 | BD155: 0 | BE155: 0 | BF155: 0 | BG155: 0 | BH155: 0 | BI155: 0 | BJ155: 0 | BK155: 0 | BL155: 0 | BM155: 0 | BN155: 0 | BO155: 0 | BP155: 0 | BQ155: 0 | BR155: 0 | BS155: 0 | BT155: 0 | BU155: 0 | BV155: =COUNTIF(B155:BU155,"<>0") -> 4 | CB155: =IF(CA155=BZ155,"","X")
A156: Total Birds - count day | C156: 8626 | D156: 10000 | E156: 13717 | F156: 9799 | G156: 10444 | H156: 14912 | I156: 10141 | J156: 10557 | K156: 7862 | L156: 9560 | M156: 9262 | N156: 8226 | O156: 8750 | P156: 10949 | Q156: 8774 | R156: 13680 | S156: 9191 | T156: 12519 | U156: 11577 | V156: 13905 | W156: 14708 | X156: 12277 | Y156: 18202 | Z156: 20953 | AA156: 13387 | AB156: 9951 | AC156: 11208 | AD156: 18598 | AE156: 8387 | AF156: 4617 | AG156: 8935 | AH156: 7206 | AI156: 4058 | AJ156: 4626 | AK156: 10288 | AL156: 11450 | AM156: 5438 | AN156: 7567 | AO156: 20301 | AP156: 8577 | AQ156: 8602 | AR156: 5776 | AS156: 13421 | AT156: 6821 | AU156: 11723 | AV156: 11108 | AW156: 10381 | AX156: 10316 | AY156: 11843 | AZ156: 9446 | BA156: 19371 | BB156: 5982 | BC156: 7474 | BD156: 6161 | BE156: 8525 | BF156: 6891 | BG156: 8662 | BH156: 6859 | BI156: 7863 | BJ156: 5929 | BK156: 4395 | BL156: 4962 | BM156: 6222 | BN156: 4348 | BO156: 3619 | BP156: 7174 | BQ156: 1582 | BR156: 3921 | BS156: 4662 | BT156: 2811 | BU156: 3562 | BV156: =COUNTIF(B156:BU156,"<>0") -> 72 | CB156: =IF(CA156=BZ156,"","X")
A157: Total Birds - count period | C157: 2 | D157: 20 | E157: 4 | F157: 1 | G157: 6 | H157: 0 | I157: 6 | J157: 2 | K157: 1 | L157: 1 | M157: 2 | N157: 2 | O157: 2 | P157: 6 | Q157: 2 | R157: 2 | S157: 5 | T157: 4 | U157: 4 | V157: 2 | W157: 5 | X157: 4 | Y157: 3 | Z157: 5 | AA157: 1 | AB157: 2 | AC157: 4 | AD157: 2 | AE157: 4 | AF157: 3 | AG157: 2 | AH157: 6 | AI157: 3 | AJ157: 2 | AK157: 1 | AL157: 0 | AM157: 6 | AN157: 0 | AO157: 0 | AP157: 2 | AQ157: 2 | AR157: 2 | AS157: 2 | AT157: 1 | AU157: 1 | AV157: 3 | AW157: 6 | AX157: 1 | AY157: 3 | AZ157: 7 | BA157: 1 | BB157: 5 | BC157: 2 | BD157: 29 | BE157: 0 | BF157: 0 | BG157: 2 | BH157: 11 | BI157: 4 | BJ157: 33 | BK157: 0 | BL157: 12 | BM157: 0 | BN157: 4 | BO157: 5 | BP157: 3 | BQ157: 0 | BR157: 2 | BS157: 0 | BT157: 1 | BU157: 0 | BV157: =COUNTIF(B157:BU157,"<>0") -> 61 | CB157: =IF(CA157=BZ157,"","X")
A158: - a negative number is a count period observation | BV158: =COUNTIF(B158:BU158,"<>0") -> 72
