Workbook

Sheet Historic - corrected
A1: Saskatoon Christmas Bird Counts, 1955-56 to 2025-26 (count day results corrected for effort: Corrected count = Raw count X Average party hours (all years) / Party hours) - Page 1 of 2
A6: Year | B6: Average All Years | D6: 2025 | E6: ='Historic - uncorrected'!D6 -> 2024 | F6: ='Historic - uncorrected'!E6 -> 2023 | G6: ='Historic - uncorrected'!F6 -> 2022 | H6: ='Historic - uncorrected'!G6 -> 2021 | I6: ='Historic - uncorrected'!H6 -> 2020 | J6: ='Historic - uncorrected'!I6 -> 2019 | K6: ='Historic - uncorrected'!J6 -> 2018 | L6: ='Historic - uncorrected'!K6 -> 2017 | ... BV6: ='Historic - uncorrected'!BU6 -> 1955
A8: Total Species - count day | B8: =SUM(C8:BV8)/(COUNT(C8:BV8)-1) -> 35.928571 | D8: ='Historic - uncorrected'!C8 -> 39 | E8: ='Historic - uncorrected'!D8 -> 40 | F8: ='Historic - uncorrected'!E8 -> 44 | G8: 38 | H8: 36 | I8: 44 | J8: 38 | K8: 39 | L8: 43 | M8: 42 | N8: 45 | O8: 43 | P8: 39 | Q8: 42 | R8: 48 | S8: 47 | T8: 43 | U8: 39 | V8: 44 | W8: 42 | X8: 40 | Y8: 46 | Z8: 41 | AA8: 45 | AB8: 40 | AC8: 43 | AD8: 41 | AE8: 44 | AF8: 41 | AG8: 37 | AH8: 40 | AI8: 37 | AJ8: 30 | AK8: 32 | AL8: 41 | AM8: 40 | AN8: 32 | AO8: 33 | AP8: 42 | AQ8: 40 | AR8: 33 | AS8: 34 | AT8: 30 | AU8: 34 | AV8: 37 | AW8: 36 | AX8: 41 | AY8: 38 | AZ8: 34 | BA8: 27 | BB8: 34 | BC8: 42 | BD8: 39 | BE8: 29 | BF8: 30 | BG8: 28 | BH8: 30 | BI8: 36 | BJ8: 23 | BK8: 24 | BL8: 25 | BM8: 22 | BN8: 28 | BO8: 23 | BP8: 19 | BQ8: 24 | BR8: 16 | BS8: 22 | BT8: 15 | BU8: 19 | BV8: 23
A10: Party Hours (field only) | B10: =SUM(C10:BV10)/(COUNT(C10:BV10)-1) -> 91.288048 | D10: 101.13333 | E10: 116.63333 | F10: 122.16667 | G10: 87.216667 | H10: 92.233333 | I10: 172.83 | J10: 93.5 | K10: 93.5 | L10: 96 | M10: 88.8 | N10: 95.1 | O10: 95 | P10: 100.8 | Q10: 98.3 | R10: 102.2 | S10: 113.3 | T10: 113.1 | U10: 112.6 | V10: 127.1 | W10: 121.4 | X10: 128.5 | Y10: 110.3 | Z10: 130.4 | AA10: 140 | AB10: 133 | AC10: 111 | AD10: 124.8 | AE10: 123 | AF10: 125.1 | AG10: 94.5 | AH10: 111.75 | AI10: 85.6 | AJ10: 84 | AK10: 90.25 | AL10: 122 | AM10: 111 | AN10: 89 | AO10: 126 | AP10: 120 | AQ10: 104 | AR10: 102.5 | AS10: 84.8 | AT10: 69 | AU10: 94 | AV10: 103.5 | AW10: 88 | AX10: 97 | AY10: 84.5 | AZ10: 88.5 | BA10: 98 | BB10: 89.5 | BC10: 106.5 | BD10: 89 | BE10: 72 | BF10: 55 | BG10: 63.5 | BH10: 70.5 | BI10: 61 | BJ10: 47 | BK10: 35.5 | BL10: 40.5 | BM10: 39 | BN10: 44 | BO10: 26 | BP10: 38 | BQ10: 36.5 | BR10: 21.75 | BS10: 37 | BT10: 28.5 | BU10: 35.5 | BV10: 37
A11: Participants (Field + FW) | B11: =SUM(C11:BV11)/(COUNT(C11:BV11)-1) -> 65.985714 | D11: ='Historic - uncorrected'!C11 -> 70 | E11: ='Historic - uncorrected'!D11 -> 71 | F11: ='Historic - uncorrected'!E11 -> 66 | G11: 69 | H11: 73 | I11: 99 | J11: 77 | K11: 61 | L11: 69 | M11: 80 | N11: 81 | O11: 93 | P11: 93 | Q11: 117 | R11: 96 | S11: 100 | T11: 109 | U11: 102 | V11: 114 | W11: 110 | X11: 111 | Y11: 115 | Z11: 115 | AA11: 118 | AB11: 125 | AC11: 110 | AD11: 114 | AE11: 101 | AF11: 82 | AG11: 74 | AH11: 77 | AI11: 60 | AJ11: 43 | AK11: 55 | AL11: 75 | AM11: 76 | AN11: 56 | AO11: 47 | AP11: 74 | AQ11: 49 | AR11: 48 | AS11: 33 | AT11: 36 | AU11: 52 | AV11: 40 | AW11: 45 | AX11: 40 | AY11: 50 | AZ11: 41 | BA11: 65 | BB11: 42 | BC11: 62 | BD11: 58 | BE11: 53 | BF11: 28 | BG11: 44 | BH11: 49 | BI11: 51 | BJ11: 23 | BK11: 32 | BL11: 24 | BM11: 20 | BN11: 32 | BO11: 36 | BP11: 37 | BQ11: 27 | BR11: 23 | BS11: 29 | BT11: 21 | BU11: 27 | BV11: 24
BW13: Filter blank rows
A14: BIRDS
A15: Snow Goose | B15: =SUM(C15:BV15)/(COUNT(C15:BV15)-1) -> 0.034304192 | C15: 0 | D15: =IF('Historic - uncorrected'!C15<0,"",'Historic - uncorrected'!C15*$B$10/D$10) -> 0 | E15: =IF('Historic - uncorrected'!D15<0,"",'Historic - uncorrected'!D15*$B$10/E$10) -> 0 | F15: =IF('Historic - uncorrected'!E15<0,"",'Historic - uncorrected'!E15*$B$10/F$10) -> 1.4944837 | G15: =IF('Historic - uncorrected'!F15<0,"",'Historic - uncorrected'!F15*$B$10/G$10) -> 0 | H15: =IF('Historic - uncorrected'!G15<0,"",'Historic - uncorrected'!G15*$B$10/H$10) -> 0 | I15: =IF('Historic - uncorrected'!H15<0,"",'Historic - uncorrected'!H15*$B$10/I$10) -> 0 | J15: =IF('Historic - uncorrected'!I15<0,"",'Historic - uncorrected'!I15*$B$10/J$10) -> 0 | K15: =IF('Historic - uncorrected'!J15<0,"",'Historic - uncorrected'!J15*$B$10/K$10) -> 0 | ... BV15: =IF('Historic - uncorrected'!BU15<0,"",'Historic - uncorrected'!BU15*$B$10/BV$10) -> 0 | BW15: =COUNTIF(C15:BV15,">0") -> 2
A16: Greater White-fronted Goose | B16: =SUM(C16:BV16)/(COUNT(C16:BV16)-1) -> 0.012072743 | C16: 0 | D16: =IF('Historic - uncorrected'!C16<0,"",'Historic - uncorrected'!C16*$B$10/D$10) -> 0 | E16: =IF('Historic - uncorrected'!D16<0,"",'Historic - uncorrected'!D16*$B$10/E$10) -> 0 | F16: =IF('Historic - uncorrected'!E16<0,"",'Historic - uncorrected'!E16*$B$10/F$10) -> 0 | G16: =IF('Historic - uncorrected'!F16<0,"",'Historic - uncorrected'!F16*$B$10/G$10) -> 0 | H16: =IF('Historic - uncorrected'!G16<0,"",'Historic - uncorrected'!G16*$B$10/H$10) -> 0 | I16: =IF('Historic - uncorrected'!H16<0,"",'Historic - uncorrected'!H16*$B$10/I$10) -> 0 | J16: =IF('Historic - uncorrected'!I16<0,"",'Historic - uncorrected'!I16*$B$10/J$10) -> 0 | K16: =IF('Historic - uncorrected'!J16<0,"",'Historic - uncorrected'!J16*$B$10/K$10) -> 0 | ... BV16: =IF('Historic - uncorrected'!BU16<0,"",'Historic - uncorrected'!BU16*$B$10/BV$10) -> 0 | BW16: =COUNTIF(C16:BV16,">0") -> 1
A17: Cackling Goose | B17: =SUM(C17:BV17)/(COUNT(C17:BV17)-1) -> 2.1428487 | C17: 0 | D17: =IF('Historic - uncorrected'!C17<0,"",'Historic - uncorrected'!C17*$B$10/D$10) -> 0 | E17: =IF('Historic - uncorrected'!D17<0,"",'Historic - uncorrected'!D17*$B$10/E$10) -> 0 | F17: =IF('Historic - uncorrected'!E17<0,"",'Historic - uncorrected'!E17*$B$10/F$10) -> 8.2196605 | G17: =IF('Historic - uncorrected'!F17<0,"",'Historic - uncorrected'!F17*$B$10/G$10) -> 0 | H17: =IF('Historic - uncorrected'!G17<0,"",'Historic - uncorrected'!G17*$B$10/H$10) -> 0 | I17: =IF('Historic - uncorrected'!H17<0,"",'Historic - uncorrected'!H17*$B$10/I$10) -> 0 | J17: =IF('Historic - uncorrected'!I17<0,"",'Historic - uncorrected'!I17*$B$10/J$10) -> 0 | K17: =IF('Historic - uncorrected'!J17<0,"",'Historic - uncorrected'!J17*$B$10/K$10) -> 0 | ... BV17: =IF('Historic - uncorrected'!BU17<0,"",'Historic - uncorrected'!BU17*$B$10/BV$10) -> 0 | BW17: =COUNTIF(C17:BV17,">0") -> 2
A18: Canada Goose | B18: =SUM(C18:BV18)/(COUNT(C18:BV18)-1) -> 260.43885 | C18: 0 | D18: =IF('Historic - uncorrected'!C18<0,"",'Historic - uncorrected'!C18*$B$10/D$10) -> 53.256376 | E18: =IF('Historic - uncorrected'!D18<0,"",'Historic - uncorrected'!D18*$B$10/E$10) -> 465.7021 | F18: =IF('Historic - uncorrected'!E18<0,"",'Historic - uncorrected'!E18*$B$10/F$10) -> 1667.0966 | G18: =IF('Historic - uncorrected'!F18<0,"",'Historic - uncorrected'!F18*$B$10/G$10) -> 11.513493 | H18: =IF('Historic - uncorrected'!G18<0,"",'Historic - uncorrected'!G18*$B$10/H$10) -> 46.518304 | I18: =IF('Historic - uncorrected'!H18<0,"",'Historic - uncorrected'!H18*$B$10/I$10) -> 98.244384 | J18: =IF('Historic - uncorrected'!I18<0,"",'Historic - uncorrected'!I18*$B$10/J$10) -> 1872.6254 | K18: =IF('Historic - uncorrected'!J18<0,"",'Historic - uncorrected'!J18*$B$10/K$10) -> 2050.3198 | ... BV18: =IF('Historic - uncorrected'!BU18<0,"",'Historic - uncorrected'!BU18*$B$10/BV$10) -> 0 | BW18: =COUNTIF(C18:BV18,">0") -> 34
A19: Tundra Swan | B19: =SUM(C19:BV19)/(COUNT(C19:BV19)-1) -> 0.015378714 | C19: 0 | D19: =IF('Historic - uncorrected'!C19<0,"",'Historic - uncorrected'!C19*$B$10/D$10) | E19: =IF('Historic - uncorrected'!D19<0,"",'Historic - uncorrected'!D19*$B$10/E$10) -> 0 | F19: =IF('Historic - uncorrected'!E19<0,"",'Historic - uncorrected'!E19*$B$10/F$10) -> 0 | G19: =IF('Historic - uncorrected'!F19<0,"",'Historic - uncorrected'!F19*$B$10/G$10) -> 0 | H19: =IF('Historic - uncorrected'!G19<0,"",'Historic - uncorrected'!G19*$B$10/H$10) -> 0 | I19: =IF('Historic - uncorrected'!H19<0,"",'Historic - uncorrected'!H19*$B$10/I$10) -> 0 | J19: =IF('Historic - uncorrected'!I19<0,"",'Historic - uncorrected'!I19*$B$10/J$10) -> 0 | K19: =IF('Historic - uncorrected'!J19<0,"",'Historic - uncorrected'!J19*$B$10/K$10) -> 0 | ... BV19: =IF('Historic - uncorrected'!BU19<0,"",'Historic - uncorrected'!BU19*$B$10/BV$10) -> 0 | BW19: =COUNTIF(C19:BV19,">0") -> 1
A20: Duck sp. | B20: =SUM(C20:BV20)/(COUNT(C20:BV20)-1) -> 0.2312505 | C20: 0 | D20: =IF('Historic - uncorrected'!C20<0,"",'Historic - uncorrected'!C20*$B$10/D$10) -> 0 | E20: =IF('Historic - uncorrected'!D20<0,"",'Historic - uncorrected'!D20*$B$10/E$10) -> 0 | F20: =IF('Historic - uncorrected'!E20<0,"",'Historic - uncorrected'!E20*$B$10/F$10) -> 0 | G20: =IF('Historic - uncorrected'!F20<0,"",'Historic - uncorrected'!F20*$B$10/G$10) -> 0 | H20: =IF('Historic - uncorrected'!G20<0,"",'Historic - uncorrected'!G20*$B$10/H$10) -> 0 | I20: =IF('Historic - uncorrected'!H20<0,"",'Historic - uncorrected'!H20*$B$10/I$10) -> 0 | J20: =IF('Historic - uncorrected'!I20<0,"",'Historic - uncorrected'!I20*$B$10/J$10) -> 0 | K20: =IF('Historic - uncorrected'!J20<0,"",'Historic - uncorrected'!J20*$B$10/K$10) -> 0 | ... BV20: =IF('Historic - uncorrected'!BU20<0,"",'Historic - uncorrected'!BU20*$B$10/BV$10) -> 0 | BW20: =COUNTIF(C20:BV20,">0") -> 4
A21: Northern Shoveler | B21: =SUM(C21:BV21)/(COUNT(C21:BV21)-1) -> 0.039429066 | C21: 0 | D21: =IF('Historic - uncorrected'!C21<0,"",'Historic - uncorrected'!C21*$B$10/D$10) -> 0 | E21: =IF('Historic - uncorrected'!D21<0,"",'Historic - uncorrected'!D21*$B$10/E$10) -> 0 | F21: =IF('Historic - uncorrected'!E21<0,"",'Historic - uncorrected'!E21*$B$10/F$10) -> 0 | G21: =IF('Historic - uncorrected'!F21<0,"",'Historic - uncorrected'!F21*$B$10/G$10) -> 0 | H21: =IF('Historic - uncorrected'!G21<0,"",'Historic - uncorrected'!G21*$B$10/H$10) -> 0 | I21: =IF('Historic - uncorrected'!H21<0,"",'Historic - uncorrected'!H21*$B$10/I$10) -> 0 | J21: =IF('Historic - uncorrected'!I21<0,"",'Historic - uncorrected'!I21*$B$10/J$10) -> 0 | K21: =IF('Historic - uncorrected'!J21<0,"",'Historic - uncorrected'!J21*$B$10/K$10) -> 0 | ... BV21: =IF('Historic - uncorrected'!BU21<0,"",'Historic - uncorrected'!BU21*$B$10/BV$10) -> 0 | BW21: =COUNTIF(C21:BV21,">0") -> 2
A22: Gadwall | B22: =SUM(C22:BV22)/(COUNT(C22:BV22)-1) -> 0.034686229 | C22: 0 | D22: =IF('Historic - uncorrected'!C22<0,"",'Historic - uncorrected'!C22*$B$10/D$10) -> 0 | E22: =IF('Historic - uncorrected'!D22<0,"",'Historic - uncorrected'!D22*$B$10/E$10) -> 0 | F22: =IF('Historic - uncorrected'!E22<0,"",'Historic - uncorrected'!E22*$B$10/F$10) -> 0 | G22: =IF('Historic - uncorrected'!F22<0,"",'Historic - uncorrected'!F22*$B$10/G$10) -> 0 | H22: =IF('Historic - uncorrected'!G22<0,"",'Historic - uncorrected'!G22*$B$10/H$10) -> 0 | I22: =IF('Historic - uncorrected'!H22<0,"",'Historic - uncorrected'!H22*$B$10/I$10) -> 0 | J22: =IF('Historic - uncorrected'!I22<0,"",'Historic - uncorrected'!I22*$B$10/J$10) -> 0 | K22: =IF('Historic - uncorrected'!J22<0,"",'Historic - uncorrected'!J22*$B$10/K$10) -> 0 | ... BV22: =IF('Historic - uncorrected'!BU22<0,"",'Historic - uncorrected'!BU22*$B$10/BV$10) -> 0 | BW22: =COUNTIF(C22:BV22,">0") -> 2
A23: American Wigeon | B23: =SUM(C23:BV23)/(COUNT(C23:BV23)-1) -> 0.041325809 | C23: 0 | D23: =IF('Historic - uncorrected'!C23<0,"",'Historic - uncorrected'!C23*$B$10/D$10) -> 0 | E23: =IF('Historic - uncorrected'!D23<0,"",'Historic - uncorrected'!D23*$B$10/E$10) -> 0 | F23: =IF('Historic - uncorrected'!E23<0,"",'Historic - uncorrected'!E23*$B$10/F$10) -> 0 | G23: =IF('Historic - uncorrected'!F23<0,"",'Historic - uncorrected'!F23*$B$10/G$10) -> 0 | H23: =IF('Historic - uncorrected'!G23<0,"",'Historic - uncorrected'!G23*$B$10/H$10) -> 0 | I23: =IF('Historic - uncorrected'!H23<0,"",'Historic - uncorrected'!H23*$B$10/I$10) -> 0 | J23: =IF('Historic - uncorrected'!I23<0,"",'Historic - uncorrected'!I23*$B$10/J$10) -> 0 | K23: =IF('Historic - uncorrected'!J23<0,"",'Historic - uncorrected'!J23*$B$10/K$10) -> 0 | ... BV23: =IF('Historic - uncorrected'!BU23<0,"",'Historic - uncorrected'!BU23*$B$10/BV$10) -> 0 | BW23: =COUNTIF(C23:BV23,">0") -> 2
A24: Mallard | B24: =SUM(C24:BV24)/(COUNT(C24:BV24)-1) -> 44.221655 | C24: 0 | D24: =IF('Historic - uncorrected'!C24<0,"",'Historic - uncorrected'!C24*$B$10/D$10) -> 18.955659 | E24: =IF('Historic - uncorrected'!D24<0,"",'Historic - uncorrected'!D24*$B$10/E$10) -> 156.53852 | F24: =IF('Historic - uncorrected'!E24<0,"",'Historic - uncorrected'!E24*$B$10/F$10) -> 276.47949 | G24: =IF('Historic - uncorrected'!F24<0,"",'Historic - uncorrected'!F24*$B$10/G$10) -> 80.594454 | H24: =IF('Historic - uncorrected'!G24<0,"",'Historic - uncorrected'!G24*$B$10/H$10) -> 184.09371 | I24: =IF('Historic - uncorrected'!H24<0,"",'Historic - uncorrected'!H24*$B$10/I$10) -> 75.003777 | J24: =IF('Historic - uncorrected'!I24<0,"",'Historic - uncorrected'!I24*$B$10/J$10) -> 44.911767 | K24: =IF('Historic - uncorrected'!J24<0,"",'Historic - uncorrected'!J24*$B$10/K$10) -> 82.989134 | ... BV24: =IF('Historic - uncorrected'!BU24<0,"",'Historic - uncorrected'!BU24*$B$10/BV$10) -> 0 | BW24: =COUNTIF(C24:BV24,">0") -> 68
A25: Northern Pintail | B25: =SUM(C25:BV25)/(COUNT(C25:BV25)-1) -> 0.16345336 | C25: 0 | D25: =IF('Historic - uncorrected'!C25<0,"",'Historic - uncorrected'!C25*$B$10/D$10) -> 0 | E25: =IF('Historic - uncorrected'!D25<0,"",'Historic - uncorrected'!D25*$B$10/E$10) -> 0 | F25: =IF('Historic - uncorrected'!E25<0,"",'Historic - uncorrected'!E25*$B$10/F$10) -> 0 | G25: =IF('Historic - uncorrected'!F25<0,"",'Historic - uncorrected'!F25*$B$10/G$10) -> 0 | H25: =IF('Historic - uncorrected'!G25<0,"",'Historic - uncorrected'!G25*$B$10/H$10) -> 0 | I25: =IF('Historic - uncorrected'!H25<0,"",'Historic - uncorrected'!H25*$B$10/I$10) -> 0 | J25: =IF('Historic - uncorrected'!I25<0,"",'Historic - uncorrected'!I25*$B$10/J$10) -> 0 | K25: =IF('Historic - uncorrected'!J25<0,"",'Historic - uncorrected'!J25*$B$10/K$10) -> 0 | ... BV25: =IF('Historic - uncorrected'!BU25<0,"",'Historic - uncorrected'!BU25*$B$10/BV$10) -> 0 | BW25: =COUNTIF(C25:BV25,">0") -> 6
A26: Green-winged Teal | B26: =SUM(C26:BV26)/(COUNT(C26:BV26)-1) -> 0.03972541 | C26: 0 | D26: =IF('Historic - uncorrected'!C26<0,"",'Historic - uncorrected'!C26*$B$10/D$10) -> 0 | E26: =IF('Historic - uncorrected'!D26<0,"",'Historic - uncorrected'!D26*$B$10/E$10) -> 0 | F26: =IF('Historic - uncorrected'!E26<0,"",'Historic - uncorrected'!E26*$B$10/F$10) | G26: =IF('Historic - uncorrected'!F26<0,"",'Historic - uncorrected'!F26*$B$10/G$10) -> 0 | H26: =IF('Historic - uncorrected'!G26<0,"",'Historic - uncorrected'!G26*$B$10/H$10) -> 0 | I26: =IF('Historic - uncorrected'!H26<0,"",'Historic - uncorrected'!H26*$B$10/I$10) -> 0 | J26: =IF('Historic - uncorrected'!I26<0,"",'Historic - uncorrected'!I26*$B$10/J$10) -> 0 | K26: =IF('Historic - uncorrected'!J26<0,"",'Historic - uncorrected'!J26*$B$10/K$10) -> 0 | ... BV26: =IF('Historic - uncorrected'!BU26<0,"",'Historic - uncorrected'!BU26*$B$10/BV$10) -> 0 | BW26: =COUNTIF(C26:BV26,">0") -> 2
... A155: Northern Cardinal | B155: =SUM(C155:BV155)/(COUNT(C155:BV155)-1) -> 0.038094517 | C155: 0 | D155: =IF('Historic - uncorrected'!C155<0,"",'Historic - uncorrected'!C155*$B$10/D$10) -> 0 | E155: =IF('Historic - uncorrected'!D155<0,"",'Historic - uncorrected'!D155*$B$10/E$10) -> 0 | F155: =IF('Historic - uncorrected'!E155<0,"",'Historic - uncorrected'!E155*$B$10/F$10) -> 0.74724186 | G155: =IF('Historic - uncorrected'!F155<0,"",'Historic - uncorrected'!F155*$B$10/G$10) -> 0 | H155: =IF('Historic - uncorrected'!G155<0,"",'Historic - uncorrected'!G155*$B$10/H$10) -> 0 | I155: =IF('Historic - uncorrected'!H155<0,"",'Historic - uncorrected'!H155*$B$10/I$10) -> 0 | J155: =IF('Historic - uncorrected'!I155<0,"",'Historic - uncorrected'!I155*$B$10/J$10) -> 0 | K155: =IF('Historic - uncorrected'!J155<0,"",'Historic - uncorrected'!J155*$B$10/K$10) -> 0 | ... BV155: =IF('Historic - uncorrected'!BU155<0,"",'Historic - uncorrected'!BU155*$B$10/BV$10) -> 0 | BW155: =COUNTIF(C155:BV155,">0") -> 3
A156: Total Birds - count day | B156: =SUM(C156:BV156)/(COUNT(C156:BV156)-1) -> 9805.4545 | C156: 0 | D156: =SUM(D15:D155) -> 7786.2627 | E156: =SUM(E15:E155) -> 7826.9261 | F156: =SUM(F15:F155) -> 10249.917 | G156: =SUM(G15:G155) -> 10256.429 | H156: =SUM(H15:H155) -> 10336.961 | I156: =SUM(I15:I155) -> 7876.453 | J156: =SUM(J15:J155) -> 9901.0919 | K156: =SUM(K15:K155) -> 10307.25 | ... BV156: =SUM(BV15:BV155) -> 8788.325 | BW156: =COUNTIF(C156:BV156,">0") -> 71

Sheet Historic - uncorrected
A1: Saskatoon Christmas Bird Counts, 1955-56 to 2025-26 (uncorrected) Page 2 of 2
A6: Year | C6: 2025 | D6: 2024 | E6: 2023 | F6: 2022 | G6: 2021 | H6: 2020 | I6: 2019 | J6: 2018 | K6: 2017 | L6: 2016 | M6: 2015 | N6: 2014 | O6: 2013 | P6: 2012 | Q6: 2011 | R6: 2010 | S6: 2009 | T6: 2008 | U6: 2007 | V6: 2006 | W6: 2005 | X6: 2004 | Y6: 2003 | Z6: 2002 | AA6: 2001 | AB6: 2000 | AC6: 1999 | AD6: 1998 | AE6: 1997 | AF6: 1996 | AG6: 1995 | AH6: 1994 | AI6: 1993 | AJ6: 1992 | AK6: 1991 | AL6: 1990 | AM6: 1989 | AN6: 1988 | AO6: 1987 | AP6: 1986 | AQ6: 1985 | AR6: 1984 | AS6: 1983 | AT6: 1982 | AU6: 1981 | AV6: 1980 | AW6: 1979 | AX6: 1978 | AY6: 1977 | AZ6: 1976 | BA6: 1975 | BB6: 1974 | BC6: 1973 | BD6: 1972 | BE6: 1971 | BF6: 1970 | BG6: 1969 | BH6: 1968 | BI6: 1967 | BJ6: 1966 | BK6: 1965 | BL6: 1964 | BM6: 1963 | BN6: 1962 | BO6: 1961 | BP6: 1960 | BQ6: 1959 | BR6: 1958 | BS6: 1957 | BT6: 1956 | BU6: 1955
A8: Total Species - count day | C8: 39 | D8: 40 | E8: 44 | F8: 38 | G8: 35 | H8: 44 | I8: 38 | J8: 39 | K8: 42 | L8: 42 | M8: 44 | N8: 42 | O8: 39 | P8: 41 | Q8: 47 | R8: 44 | S8: 42 | T8: 37 | U8: 43 | V8: 41 | W8: 40 | X8: 45 | Y8: 40 | Z8: 45 | AA8: 38 | AB8: 42 | AC8: 40 | AD8: 43 | AE8: 41 | AF8: 37 | AG8: 39 | AH8: 37 | AI8: 29 | AJ8: 32 | AK8: 39 | AL8: 39 | AM8: 31 | AN8: 33 | AO8: 41 | AP8: 39 | AQ8: 31 | AR8: 33 | AS8: 30 | AT8: 34 | AU8: 36 | AV8: 35 | AW8: 41 | AX8: 38 | AY8: 33 | AZ8: 26 | BA8: 33 | BB8: 42 | BC8: 39 | BD8: 29 | BE8: 29 | BF8: 27 | BG8: 29 | BH8: 35 | BI8: 23 | BJ8: 24 | BK8: 24 | BL8: 22 | BM8: 27 | BN8: 22 | BO8: 19 | BP8: 23 | BQ8: 15 | BR8: 22 | BS8: 15 | BT8: 19 | BU8: 23
A9: Total Species - count period | C9: 2 | D9: 2 | E9: 4 | F9: 1 | G9: 4 | I9: 5 | J9: 2 | K9: 1 | L9: 1 | M9: 2 | N9: 2 | O9: 2 | P9: 5 | Q9: 2 | R9: 2 | S9: 3 | T9: 4 | U9: 4 | V9: 2 | W9: 2 | X9: 4 | Y9: 3 | Z9: 3 | AA9: 1 | AB9: 2 | AC9: 4 | AD9: 2 | AE9: 4 | AF9: 3 | AG9: 2 | AH9: 6 | AI9: 3 | AJ9: 2 | AK9: 1 | AL9: 0 | AM9: 3 | AN9: 0 | AO9: 0 | AP9: 2 | AQ9: 2 | AR9: 2 | AS9: 2 | AT9: 1 | AU9: 1 | AV9: 3 | AW9: 1 | AX9: 1 | AY9: 3 | AZ9: 4 | BA9: 1 | BB9: 3 | BC9: 2 | BD9: 6 | BE9: 0 | BF9: 0 | BG9: 2 | BH9: 2 | BI9: 4 | BJ9: 6 | BK9: 0 | BL9: 2 | BM9: 0 | BN9: 4 | BO9: 1 | BP9: 3 | BQ9: 0 | BR9: 2 | BS9: 0 | BT9: 1 | BU9: 0
A10: Party Hours (field) | C10: 101.13333 | D10: 116.63333 | E10: 122.16667 | F10: 87.216667 | G10: 92.233333 | H10: 172.83 | I10: 93.5 | J10: 93.5 | K10: 96 | L10: 88.8 | M10: 95.1 | N10: 95 | O10: 100.8 | P10: 98.3 | Q10: 102.2 | R10: 113.3 | S10: 113.1 | T10: 112.6 | U10: 127.1 | V10: 121.4 | W10: 128.5 | X10: 110.3 | Y10: 130.4 | Z10: 140 | AA10: 133 | AB10: 111 | AC10: 124.8 | AD10: 123 | AE10: 125.1 | AF10: 94.5 | AG10: 111.75 | AH10: 85.6 | AI10: 84 | AJ10: 90.25 | AK10: 122 | AL10: 111 | AM10: 89 | AN10: 126 | AO10: 120 | AP10: 104 | AQ10: 102.5 | AR10: 84.8 | AS10: 69 | AT10: 94 | AU10: 103.5 | AV10: 88 | AW10: 97 | AX10: 84.5 | AY10: 88.5 | AZ10: 98 | BA10: 89.5 | BB10: 106.5 | BC10: 89 | BD10: 72 | BE10: 55 | BF10: 63.5 | BG10: 70.5 | BH10: 61 | BI10: 47 | BJ10: 35.5 | BK10: 40.5 | BL10: 39 | BM10: 44 | BN10: 26 | BO10: 38 | BP10: 36.5 | BQ10: 21.75 | BR10: 37 | BS10: 28.5 | BT10: 35.5 | BU10: 37
A11: Participants (field + FW) | C11: 70 | D11: 71 | E11: 66 | F11: 69 | G11: 73 | H11: 99 | I11: 77 | J11: 61 | K11: 69 | L11: 80 | M11: 81 | N11: 93 | O11: 93 | P11: 117 | Q11: 96 | R11: 100 | S11: 109 | T11: 102 | U11: 114 | V11: 110 | W11: 111 | X11: 115 | Y11: 115 | Z11: 118 | AA11: 125 | AB11: 110 | AC11: 114 | AD11: 101 | AE11: 82 | AF11: 74 | AG11: 77 | AH11: 60 | AI11: 43 | AJ11: 55 | AK11: 75 | AL11: 76 | AM11: 56 | AN11: 47 | AO11: 74 | AP11: 49 | AQ11: 48 | AR11: 33 | AS11: 36 | AT11: 52 | AU11: 40 | AV11: 45 | AW11: 40 | AX11: 50 | AY11: 41 | AZ11: 65 | BA11: 42 | BB11: 62 | BC11: 58 | BD11: 53 | BE11: 28 | BF11: 44 | BG11: 49 | BH11: 51 | BI11: 23 | BJ11: 32 | BK11: 24 | BL11: 20 | BM11: 32 | BN11: 36 | BO11: 37 | BP11: 27 | BQ11: 23 | BR11: 29 | BS11: 21 | BT11: 27 | BU11: 24
BV13: Filter blank rows
A14: BIRDS
A15: Snow Goose | B15: 0 | C15: 0 | D15: 0 | E15: 2 | F15: 0 | G15: 0 | H15: 0 | I15: 0 | J15: 0 | K15: 0 | L15: 0 | M15: 0 | N15: 0 | O15: 0 | P15: 0 | Q15: 0 | R15: 0 | S15: 0 | T15: 0 | U15: 0 | V15: 0 | W15: 0 | X15: 0 | Y15: 0 | Z15: 0 | AA15: 0 | AB15: 0 | AC15: 0 | AD15: 0 | AE15: 0 | AF15: 0 | AG15: 0 | AH15: 0 | AI15: 0 | AJ15: 0 | AK15: 0 | AL15: 0 | AM15: 0 | AN15: 0 | AO15: 0 | AP15: 0 | AQ15: 0 | AR15: 0 | AS15: 0 | AT15: 0 | AU15: 0 | AV15: 0 | AW15: 1 | AX15: 0 | AY15: 0 | AZ15: 0 | BA15: 0 | BB15: 0 | BC15: 0 | BD15: 0 | BE15: 0 | BF15: 0 | BG15: 0 | BH15: 0 | BI15: 0 | BJ15: 0 | BK15: 0 | BL15: 0 | BM15: 0 | BN15: 0 | BO15: 0 | BP15: 0 | BQ15: 0 | BR15: 0 | BS15: 0 | BT15: 0 | BU15: 0 | BV15: =COUNTIF(B15:BU15,"<>0") -> 2 | CB15: =IF(CA15=BZ15,"","X")
A16: Greater White-fronted Goose | B16: 0 | C16: 0 | D16: 0 | E16: 0 | F16: 0 | G16: 0 | H16: 0 | I16: 0 | J16: 0 | K16: 0 | L16: 0 | M16: 0 | N16: 0 | O16: 0 | P16: 0 | Q16: 0 | R16: 0 | S16: 0 | T16: 0 | U16: 0 | V16: 0 | W16: 0 | X16: 0 | Y16: 0 | Z16: 0 | AA16: 0 | AB16: 0 | AC16: 0 | AD16: 0 | AE16: 0 | AF16: 0 | AG16: 0 | AH16: 0 | AI16: 0 | AJ16: 0 | AK16: 0 | AL16: 0 | AM16: 0 | AN16: 0 | AO16: 0 | AP16: 0 | AQ16: 0 | AR16: 0 | AS16: 0 | AT16: 0 | AU16: 0 | AV16: 0 | AW16: 0 | AX16: 0 | AY16: 0 | AZ16: 0 | BA16: 0 | BB16: 1 | BC16: 0 | BD16: 0 | BE16: 0 | BF16: 0 | BG16: 0 | BH16: 0 | BI16: 0 | BJ16: 0 | BK16: 0 | BL16: 0 | BM16: 0 | BN16: 0 | BO16: 0 | BP16: 0 | BQ16: 0 | BR16: 0 | BS16: 0 | BT16: 0 | BU16: 0 | BV16: =COUNTIF(B16:BU16,"<>0") -> 1 | CB16: =IF(CA16=BZ16,"","X")
A17: Cackling Goose | B17: 0 | C17: 0 | D17: 0 | E17: 11 | F17: 0 | G17: 0 | H17: 0 | I17: 0 | J17: 0 | K17: 0 | L17: 140 | M17: 0 | N17: 0 | O17: 0 | P17: 0 | Q17: 0 | R17: 0 | S17: 0 | T17: 0 | U17: 0 | V17: 0 | W17: 0 | X17: 0 | Y17: 0 | Z17: 0 | AA17: 0 | AB17: 0 | AC17: 0 | AD17: 0 | AE17: 0 | AF17: 0 | AG17: 0 | AH17: 0 | AI17: 0 | AJ17: 0 | AK17: 0 | AL17: 0 | AM17: 0 | AN17: 0 | AO17: 0 | AP17: 0 | AQ17: 0 | AR17: 0 | AS17: 0 | AT17: 0 | AU17: 0 | AV17: 0 | AW17: 0 | AX17: 0 | AY17: 0 | AZ17: 0 | BA17: 0 | BB17: 0 | BC17: 0 | BD17: 0 | BE17: 0 | BF17: 0 | BG17: 0 | BH17: 0 | BI17: 0 | BJ17: 0 | BK17: 0 | BL17: 0 | BM17: 0 | BN17: 0 | BO17: 0 | BP17: 0 | BQ17: 0 | BR17: 0 | BS17: 0 | BT17: 0 | BU17: 0 | BV17: =COUNTIF(B17:BU17,"<>0") -> 2 | CB17: =IF(CA17=BZ17,"","X")
A18: Canada Goose | B18: 0 | C18: 59 | D18: 595 | E18: 2231 | F18: 11 | G18: 47 | H18: 186 | I18: 1918 | J18: 2100 | K18: 776 | L18: 680 | M18: 175 | N18: 18 | O18: 0 | P18: 1 | Q18: 421 | R18: 20 | S18: 851 | T18: 14 | U18: 62 | V18: 286 | W18: 2071 | X18: 1303 | Y18: 2792 | Z18: 6194 | AA18: 94 | AB18: 1 | AC18: 5 | AD18: 63 | AE18: -1 | AF18: 6 | AG18: 11 | AH18: 29 | AI18: 0 | AJ18: 0 | AK18: 0 | AL18: 0 | AM18: 0 | AN18: 32 | AO18: 3 | AP18: 0 | AQ18: 0 | AR18: 0 | AS18: 0 | AT18: 0 | AU18: 1 | AV18: -1 | AW18: 1 | AX18: 0 | AY18: 0 | AZ18: 0 | BA18: 0 | BB18: 0 | BC18: 0 | BD18: 0 | BE18: 0 | BF18: 0 | BG18: 0 | BH18: 0 | BI18: 0 | BJ18: 0 | BK18: 0 | BL18: 0 | BM18: 0 | BN18: 0 | BO18: 0 | BP18: 0 | BQ18: 0 | BR18: 0 | BS18: 0 | BT18: 0 | BU18: 0 | BV18: =COUNTIF(B18:BU18,"<>0") -> 36 | CB18: =IF(CA18=BZ18,"","X")
A19: Tundra Swan | B19: 0 | C19: -1 | D19: 0 | E19: 0 | F19: 0 | G19: 0 | H19: 0 | I19: 0 | J19: 0 | K19: 0 | L19: 0 | M19: 0 | N19: 0 | O19: 0 | P19: 0 | Q19: 0 | R19: 0 | S19: 0 | T19: 0 | U19: 0 | V19: 0 | W19: 0 | X19: 0 | Y19: 0 | Z19: 0 | AA19: 0 | AB19: 0 | AC19: 0 | AD19: 0 | AE19: 0 | AF19: 0 | AG19: 0 | AH19: 0 | AI19: 0 | AJ19: 0 | AK19: 0 | AL19: 0 | AM19: 0 | AN19: 0 | AO19: 0 | AP19: 0 | AQ19: 0 | AR19: 1 | AS19: 0 | AT19: 0 | AU19: 0 | AV19: 0 | AW19: 0 | AX19: 0 | AY19: 0 | AZ19: 0 | BA19: 0 | BB19: 0 | BC19: 0 | BD19: 0 | BE19: 0 | BF19: 0 | BG19: 0 | BH19: 0 | BI19: 0 | BJ19: 0 | BK19: 0 | BL19: 0 | BM19: 0 | BN19: 0 | BO19: 0 | BP19: 0 | BQ19: 0 | BR19: 0 | BS19: 0 | BT19: 0 | BU19: 0 | BV19: =COUNTIF(B19:BU19,"<>0") -> 2 | CB19: =IF(CA19=BZ19,"","X")
A20: Duck sp. | B20: 0 | C20: 0 | D20: 0 | E20: 0 | F20: 0 | G20: 0 | H20: 0 | I20: 0 | J20: 0 | K20: 0 | L20: 0 | M20: 0 | N20: 0 | O20: 0 | P20: 0 | Q20: 3 | R20: 2 | S20: 14 | T20: 0 | U20: 0 | V20: 0 | W20: 0 | X20: 1 | Y20: 0 | Z20: 0 | AA20: 0 | AB20: 0 | AC20: 0 | AD20: 0 | AE20: 0 | AF20: 0 | AG20: 0 | AH20: 0 | AI20: 0 | AJ20: 0 | AK20: 0 | AL20: 0 | AM20: 0 | AN20: 0 | AO20: 0 | AP20: 0 | AQ20: 0 | AR20: 0 | AS20: 0 | AT20: 0 | AU20: 0 | AV20: 0 | AW20: 0 | AX20: 0 | AY20: 0 | AZ20: 0 | BA20: 0 | BB20: 0 | BC20: 0 | BD20: 0 | BE20: 0 | BF20: 0 | BG20: 0 | BH20: 0 | BI20: 0 | BJ20: 0 | BK20: 0 | BL20: 0 | BM20: 0 | BN20: 0 | BO20: 0 | BP20: 0 | BQ20: 0 | BR20: 0 | BS20: 0 | BT20: 0 | BU20: 0 | BV20: =COUNTIF(B20:BU20,"<>0") -> 4 | CB20: =IF(CA20=BZ20,"","X")
A21: Northern Shoveler | B21: 0 | C21: 0 | D21: 0 | E21: 0 | F21: 0 | G21: 0 | H21: 0 | I21: 0 | J21: 0 | K21: 0 | L21: 0 | M21: 0 | N21: 0 | O21: 0 | P21: 0 | Q21: 0 | R21: 0 | S21: 0 | T21: 0 | U21: 0 | V21: 0 | W21: 0 | X21: 0 | Y21: 0 | Z21: 0 | AA21: 0 | AB21: 0 | AC21: 0 | AD21: 0 | AE21: 0 | AF21: 0 | AG21: 0 | AH21: 0 | AI21: 0 | AJ21: 0 | AK21: 0 | AL21: 0 | AM21: 0 | AN21: 0 | AO21: 0 | AP21: 0 | AQ21: 0 | AR21: 0 | AS21: 0 | AT21: 0 | AU21: 0 | AV21: 0 | AW21: 0 | AX21: 0 | AY21: 0 | AZ21: 0 | BA21: 0 | BB21: 1 | BC21: 0 | BD21: 0 | BE21: 0 | BF21: 0 | BG21: 0 | BH21: 0 | BI21: 1 | BJ21: 0 | BK21: 0 | BL21: 0 | BM21: 0 | BN21: 0 | BO21: 0 | BP21: 0 | BQ21: 0 | BR21: 0 | BS21: 0 | BT21: 0 | BU21: 0 | BV21: =COUNTIF(B21:BU21,"<>0") -> 2 | CB21: =IF(CA21=BZ21,"","X")
A22: Gadwall | B22: 0 | C22: 0 | D22: 0 | E22: 0 | F22: 0 | G22: 0 | H22: 0 | I22: 0 | J22: 0 | K22: 0 | L22: 0 | M22: 0 | N22: 0 | O22: 0 | P22: 0 | Q22: 0 | R22: 0 | S22: 0 | T22: 0 | U22: 0 | V22: 0 | W22: 0 | X22: 0 | Y22: 0 | Z22: 0 | AA22: 0 | AB22: 0 | AC22: 0 | AD22: 0 | AE22: 0 | AF22: 0 | AG22: 0 | AH22: 0 | AI22: 0 | AJ22: 0 | AK22: 0 | AL22: 0 | AM22: 0 | AN22: 0 | AO22: 0 | AP22: 0 | AQ22: 0 | AR22: 0 | AS22: 0 | AT22: 0 | AU22: 0 | AV22: 0 | AW22: 0 | AX22: 0 | AY22: 0 | AZ22: 1 | BA22: 0 | BB22: -1 | BC22: 0 | BD22: 0 | BE22: 0 | BF22: 0 | BG22: 0 | BH22: 1 | BI22: 0 | BJ22: 0 | BK22: 0 | BL22: 0 | BM22: 0 | BN22: 0 | BO22: 0 | BP22: 0 | BQ22: 0 | BR22: 0 | BS22: 0 | BT22: 0 | BU22: 0 | BV22: =COUNTIF(B22:BU22,"<>0") -> 3 | CB22: =IF(CA22=BZ22,"","X")
A23: American Wigeon | B23: 0 | C23: 0 | D23: 0 | E23: 0 | F23: 0 | G23: 0 | H23: 0 | I23: 0 | J23: 0 | K23: 0 | L23: 0 | M23: 0 | N23: 0 | O23: 0 | P23: 0 | Q23: 0 | R23: 0 | S23: 0 | T23: 0 | U23: 0 | V23: 0 | W23: 0 | X23: 0 | Y23: 0 | Z23: 0 | AA23: 0 | AB23: 0 | AC23: 0 | AD23: 0 | AE23: 0 | AF23: 0 | AG23: 0 | AH23: 0 | AI23: 0 | AJ23: 0 | AK23: 0 | AL23: 0 | AM23: 0 | AN23: 0 | AO23: 0 | AP23: 0 | AQ23: 0 | AR23: 0 | AS23: 0 | AT23: 0 | AU23: 0 | AV23: 0 | AW23: 0 | AX23: 0 | AY23: 0 | AZ23: 0 | BA23: 0 | BB23: 0 | BC23: 0 | BD23: 0 | BE23: 0 | BF23: 1 | BG23: 0 | BH23: 1 | BI23: 0 | BJ23: 0 | BK23: 0 | BL23: 0 | BM23: 0 | BN23: 0 | BO23: 0 | BP23: 0 | BQ23: 0 | BR23: 0 | BS23: 0 | BT23: 0 | BU23: 0 | BV23: =COUNTIF(B23:BU23,"<>0") -> 2 | CB23: =IF(CA23=BZ23,"","X")
A24: Mallard | B24: 0 | C24: 21 | D24: 200 | E24: 370 | F24: 77 | G24: 186 | H24: 142 | I24: 46 | J24: 85 | K24: 9 | L24: 19 | M24: 10 | N24: 44 | O24: 169 | P24: 55 | Q24: 84 | R24: 42 | S24: 19 | T24: 9 | U24: 52 | V24: 177 | W24: 31 | X24: 30 | Y24: 223 | Z24: 460 | AA24: 26 | AB24: 5 | AC24: 20 | AD24: 59 | AE24: 27 | AF24: 3 | AG24: 1 | AH24: 5 | AI24: 0 | AJ24: 1 | AK24: 6 | AL24: 1 | AM24: 8 | AN24: 38 | AO24: 72 | AP24: 4 | AQ24: 36 | AR24: 10 | AS24: 7 | AT24: 10 | AU24: 5 | AV24: 8 | AW24: 16 | AX24: 4 | AY24: 14 | AZ24: 84 | BA24: 38 | BB24: 74 | BC24: 45 | BD24: 35 | BE24: 40 | BF24: 25 | BG24: 18 | BH24: 41 | BI24: 22 | BJ24: 33 | BK24: 15 | BL24: 2 | BM24: 7 | BN24: 3 | BO24: -5 | BP24: 3 | BQ24: 9 | BR24: 9 | BS24: 10 | BT24: 8 | BU24: 0 | BV24: =COUNTIF(B24:BU24,"<>0") -> 69 | CB24: =IF(CA24=BZ24,"","X")
A25: Northern Pintail | B25: 0 | C25: 0 | D25: 0 | E25: 0 | F25: 0 | G25: 0 | H25: 0 | I25: 0 | J25: 0 | K25: 0 | L25: 0 | M25: 0 | N25: 0 | O25: 0 | P25: 0 | Q25: 0 | R25: 0 | S25: 0 | T25: 0 | U25: 0 | V25: 0 | W25: 0 | X25: 0 | Y25: 0 | Z25: 1 | AA25: 0 | AB25: 0 | AC25: 0 | AD25: 0 | AE25: 0 | AF25: 0 | AG25: 0 | AH25: 0 | AI25: 0 | AJ25: 0 | AK25: 0 | AL25: 0 | AM25: 0 | AN25: 0 | AO25: 0 | AP25: 0 | AQ25: 0 | AR25: 0 | AS25: 0 | AT25: 0 | AU25: 0 | AV25: 0 | AW25: 4 | AX25: 0 | AY25: 0 | AZ25: 0 | BA25: 1 | BB25: 3 | BC25: 1 | BD25: 0 | BE25: 0 | BF25: 0 | BG25: 0 | BH25: 0 | BI25: 0 | BJ25: 1 | BK25: 0 | BL25: 0 | BM25: 0 | BN25: 0 | BO25: 0 | BP25: 0 | BQ25: 0 | BR25: 0 | BS25: 0 | BT25: 0 | BU25: 0 | BV25: =COUNTIF(B25:BU25,"<>0") -> 6 | CB25: =IF(CA25=BZ25,"","X")
A26: Green-winged Teal | B26: 0 | C26: 0 | D26: 0 | E26: -2 | F26: 0 | G26: 0 | H26: 0 | I26: 0 | J26: 0 | K26: 0 | L26: 0 | M26: 0 | N26: 0 | O26: 0 | P26: 0 | Q26: 0 | R26: 0 | S26: 0 | T26: 0 | U26: 0 | V26: 0 | W26: 0 | X26: 0 | Y26: 0 | Z26: 0 | AA26: 0 | AB26: 0 | AC26: 0 | AD26: 0 | AE26: 0 | AF26: 0 | AG26: 0 | AH26: 1 | AI26: 0 | AJ26: 0 | AK26: 0 | AL26: 0 | AM26: 0 | AN26: 0 | AO26: 0 | AP26: 0 | AQ26: 0 | AR26: 0 | AS26: 0 | AT26: 0 | AU26: 0 | AV26: 0 | AW26: 0 | AX26: 0 | AY26: 0 | AZ26: 0 | BA26: 0 | BB26: 2 | BC26: 0 | BD26: 0 | BE26: 0 | BF26: 0 | BG26: 0 | BH26: 0 | BI26: 0 | BJ26: 0 | BK26: 0 | BL26: 0 | BM26: 0 | BN26: 0 | BO26: 0 | BP26: 0 | BQ26: 0 | BR26: 0 | BS26: 0 | BT26: 0 | BU26: 0 | BV26: =COUNTIF(B26:BU26,"<>0") -> 3 | CB26: =IF(CA26=BZ26,"","X")
... A29: Ring-necked Duck | B29: 0 | C29: 0 | D29: 0 | E29: 1 | F29: 0 | G29: 0 | H29: 0 | I29: 0 | J29: 2 | K29: 0 | L29: 0 | M29: 0 | N29: 0 | O29: 0 | P29: 0 | Q29: 0 | R29: 0 | S29: 0 | T29: 0 | U29: 0 | V29: 0 | W29: 0 | X29: 0 | Y29: 0 | Z29: 0 | AA29: 1 | AB29: 0 | AC29: 0 | AD29: 0 | AE29: 1 | AF29: 0 | AG29: 0 | AH29: 0 | AI29: 0 | AJ29: 0 | AK29: 0 | AL29: 0 | AM29: 0 | AN29: 0 | AO29: 0 | AP29: 0 | AQ29: 0 | AR29: 0 | AS29: 0 | AT29: 0 | AU29: 0 | AV29: 0 | AW29: 0 | AX29: 0 | AY29: 0 | AZ29: 0 | BA29: 0 | BB29: 0 | BC29: 0 | BD29: 0 | BE29: 0 | BF29: 0 | BG29: 0 | BH29: 0 | BI29: 0 | BJ29: 0 | BK29: 0 | BL29: 0 | BM29: 0 | BN29: 0 | BO29: 0 | BP29: 0 | BQ29: 0 | BR29: 0 | BS29: 0 | BT29: 0 | BU29: 0 | BV29: =COUNTIF(B29:BU29,"<>0") -> 4 | CB29: =IF(CA29=BZ29,"","X")
A30: Greaater Scaup | C30: 1 | BV30: =COUNTIF(B30:BU30,"<>0") -> 72
A31: Lesser Scaup | B31: 0 | C31: 0 | D31: 0 | E31: 3 | F31: 0 | G31: 0 | H31: 1 | I31: 0 | J31: 5 | K31: 2 | L31: 0 | M31: 0 | N31: 0 | O31: 0 | P31: 0 | Q31: 2 | R31: 0 | S31: 0 | T31: 0 | U31: 2 | V31: 0 | W31: 0 | X31: 1 | Y31: 0 | Z31: 6 | AA31: 1 | AB31: 0 | AC31: 0 | AD31: 0 | AE31: 0 | AF31: 0 | AG31: 0 | AH31: 0 | AI31: 0 | AJ31: 0 | AK31: 0 | AL31: 0 | AM31: 0 | AN31: 0 | AO31: 0 | AP31: 0 | AQ31: 0 | AR31: 6 | AS31: 0 | AT31: 0 | AU31: 0 | AV31: 0 | AW31: 2 | AX31: 0 | AY31: 0 | AZ31: 3 | BA31: 3 | BB31: 8 | BC31: 0 | BD31: 0 | BE31: 6 | BF31: 0 | BG31: 0 | BH31: 0 | BI31: 0 | BJ31: 4 | BK31: 0 | BL31: 0 | BM31: 0 | BN31: 3 | BO31: 0 | BP31: 0 | BQ31: 0 | BR31: 0 | BS31: 0 | BT31: 0 | BU31: 2 | BV31: =COUNTIF(B31:BU31,"<>0") -> 18 | CB31: =IF(CA31=BZ31,"","X")
A32: Harlequin Duck | B32: 0 | C32: 0 | D32: 0 | E32: 0 | F32: 0 | G32: 0 | H32: 0 | I32: 0 | J32: 0 | K32: 0 | L32: -1 | M32: 1 | N32: 0 | O32: 0 | P32: 0 | Q32: 0 | R32: 0 | S32: 0 | T32: 0 | U32: 0 | V32: 0 | W32: 0 | X32: 0 | Y32: 0 | Z32: 0 | AA32: 0 | AB32: 0 | AC32: 0 | AD32: 0 | AE32: 0 | AF32: 0 | AG32: 0 | AH32: 0 | AI32: 0 | AJ32: 0 | AK32: 0 | AL32: 0 | AM32: 0 | AN32: 0 | AO32: 0 | AP32: 0 | AQ32: 0 | AR32: 0 | AS32: 0 | AT32: 0 | AU32: 0 | AV32: 0 | AW32: 0 | AX32: 0 | AY32: 0 | AZ32: 0 | BA32: 0 | BB32: 0 | BC32: 0 | BD32: 0 | BE32: 0 | BF32: 0 | BG32: 0 | BH32: 0 | BI32: 0 | BJ32: 0 | BK32: 0 | BL32: 0 | BM32: 0 | BN32: 0 | BO32: 0 | BP32: 0 | BQ32: 0 | BR32: 0 | BS32: 0 | BT32: 0 | BU32: 0 | BV32: =COUNTIF(B32:BU32,"<>0") -> 2 | CB32: =IF(CA32=BZ32,"","X")
A33: White-winged Scoter | B33: 0 | C33: 0 | D33: 0 | E33: 0 | F33: 0 | G33: 0 | H33: 0 | I33: 0 | J33: 0 | K33: 0 | L33: 0 | M33: 0 | N33: 0 | O33: 0 | P33: 0 | Q33: 0 | R33: 0 | S33: 0 | T33: 0 | U33: 0 | V33: 0 | W33: 0 | X33: 0 | Y33: 0 | Z33: 0 | AA33: 0 | AB33: 0 | AC33: 0 | AD33: 0 | AE33: 0 | AF33: 0 | AG33: 0 | AH33: 0 | AI33: 0 | AJ33: 0 | AK33: 0 | AL33: 0 | AM33: 0 | AN33: 0 | AO33: 0 | AP33: 0 | AQ33: 0 | AR33: 0 | AS33: 0 | AT33: 0 | AU33: 0 | AV33: 0 | AW33: 0 | AX33: 0 | AY33: 0 | AZ33: 0 | BA33: 0 | BB33: 0 | BC33: 0 | BD33: 0 | BE33: 0 | BF33: 0 | BG33: 0 | BH33: 0 | BI33: 0 | BJ33: 0 | BK33: 0 | BL33: 0 | BM33: 0 | BN33: 0 | BO33: 0 | BP33: 0 | BQ33: 0 | BR33: 0 | BS33: 0 | BT33: 0 | BU33: 0 | BV33: =COUNTIF(B33:BU33,"<>0") -> 0 | CB33: =IF(CA33=BZ33,"","X")
A34: Long-tailed Duck | B34: 0 | C34: 0 | D34: 1 | E34: 0 | F34: 0 | G34: 0 | H34: 0 | I34: 0 | J34: 0 | K34: 0 | L34: 0 | M34: 0 | N34: 0 | O34: 0 | P34: 0 | Q34: 0 | R34: 0 | S34: 0 | T34: 0 | U34: 0 | V34: 0 | W34: 0 | X34: 0 | Y34: 0 | Z34: 0 | AA34: 0 | AB34: 0 | AC34: 0 | AD34: 0 | AE34: 1 | AF34: 0 | AG34: 0 | AH34: 0 | AI34: 0 | AJ34: 0 | AK34: 0 | AL34: 0 | AM34: 0 | AN34: 0 | AO34: 0 | AP34: 0 | AQ34: 0 | AR34: 0 | AS34: 0 | AT34: 0 | AU34: 0 | AV34: 0 | AW34: 0 | AX34: 0 | AY34: 0 | AZ34: 0 | BA34: 0 | BB34: 0 | BC34: 0 | BD34: 0 | BE34: 0 | BF34: 0 | BG34: 0 | BH34: 0 | BI34: 0 | BJ34: 0 | BK34: 0 | BL34: 0 | BM34: 0 | BN34: 0 | BO34: 0 | BP34: 0 | BQ34: 0 | BR34: 0 | BS34: 0 | BT34: 0 | BU34: 0 | BV34: =COUNTIF(B34:BU34,"<>0") -> 2 | CB34: =IF(CA34=BZ34,"","X")
A35: Bufflehead | B35: 0 | C35: 0 | D35: 0 | E35: 0 | F35: 0 | G35: 0 | H35: 0 | I35: 0 | J35: 0 | K35: 0 | L35: 0 | M35: 0 | N35: 0 | O35: 0 | P35: 0 | Q35: 1 | R35: 1 | S35: 0 | T35: 0 | U35: 0 | V35: 0 | W35: 0 | X35: 0 | Y35: 0 | Z35: 0 | AA35: 0 | AB35: 0 | AC35: 0 | AD35: 0 | AE35: 0 | AF35: 0 | AG35: 0 | AH35: 1 | AI35: 0 | AJ35: 0 | AK35: 0 | AL35: 0 | AM35: 0 | AN35: 0 | AO35: 0 | AP35: 0 | AQ35: 0 | AR35: 0 | AS35: 0 | AT35: 0 | AU35: 0 | AV35: 0 | AW35: 0 | AX35: 0 | AY35: 0 | AZ35: 0 | BA35: 0 | BB35: 0 | BC35: 0 | BD35: 0 | BE35: 0 | BF35: 0 | BG35: 0 | BH35: 0 | BI35: 0 | BJ35: 0 | BK35: 0 | BL35: 0 | BM35: 0 | BN35: 0 | BO35: 0 | BP35: 0 | BQ35: 0 | BR35: 0 | BS35: 0 | BT35: 0 | BU35: 0 | BV35: =COUNTIF(B35:BU35,"<>0") -> 3 | CB35: =IF(CA35=BZ35,"","X")
A36: Common Goldeneye | B36: 0 | C36: 610 | D36: 750 | E36: 456 | F36: 914 | G36: 221 | H36: 1032 | I36: 721 | J36: 178 | K36: 121 | L36: 1050 | M36: 247 | N36: 154 | O36: 160 | P36: 79 | Q36: 181 | R36: 107 | S36: 222 | T36: 381 | U36: 290 | V36: 314 | W36: 309 | X36: 101 | Y36: 440 | Z36: 250 | AA36: 322 | AB36: 234 | AC36: 107 | AD36: 71 | AE36: 485 | AF36: 23 | AG36: 230 | AH36: 630 | AI36: 43 | AJ36: 76 | AK36: 70 | AL36: 68 | AM36: 119 | AN36: 122 | AO36: 291 | AP36: 210 | AQ36: 188 | AR36: 33 | AS36: 75 | AT36: 74 | AU36: 21 | AV36: 102 | AW36: 80 | AX36: 63 | AY36: 134 | AZ36: 207 | BA36: 203 | BB36: 130 | BC36: 55 | BD36: 65 | BE36: 33 | BF36: 10 | BG36: 0 | BH36: 0 | BI36: -1 | BJ36: 10 | BK36: 0 | BL36: -2 | BM36: 5 | BN36: 1 | BO36: 3 | BP36: 2 | BQ36: 0 | BR36: 2 | BS36: 0 | BT36: 0 | BU36: 2 | BV36: =COUNTIF(B36:BU36,"<>0") -> 65 | CB36: =IF(CA36=BZ36,"","X")
A37: Barrow's Goldeneye | B37: 0 | C37: 0 | D37: 0 | E37: 0 | F37: 0 | G37: 0 | H37: 0 | I37: 0 | J37: 0 | K37: 0 | L37: 0 | M37: 0 | N37: 0 | O37: 0 | P37: 0 | Q37: 0 | R37: 0 | S37: 0 | T37: 0 | U37: -1 | V37: 0 | W37: 0 | X37: 0 | Y37: 0 | Z37: 0 | AA37: 0 | AB37: 0 | AC37: 0 | AD37: 0 | AE37: 0 | AF37: 0 | AG37: 0 | AH37: 0 | AI37: 0 | AJ37: 0 | AK37: 0 | AL37: 0 | AM37: 0 | AN37: 0 | AO37: 0 | AP37: 0 | AQ37: 0 | AR37: 0 | AS37: 0 | AT37: 0 | AU37: 0 | AV37: 0 | AW37: 0 | AX37: 0 | AY37: 0 | AZ37: 0 | BA37: 0 | BB37: 0 | BC37: 0 | BD37: 0 | BE37: 0 | BF37: 0 | BG37: 0 | BH37: 0 | BI37: 0 | BJ37: 0 | BK37: 0 | BL37: 0 | BM37: 0 | BN37: 0 | BO37: 0 | BP37: 0 | BQ37: 0 | BR37: 0 | BS37: 0 | BT37: 0 | BU37: 0 | BV37: =COUNTIF(B37:BU37,"<>0") -> 1 | CB37: =IF(CA37=BZ37,"","X")
A38: Merganser sp. | B38: 0 | C38: 0 | D38: 0 | E38: 1 | F38: 0 | G38: 0 | H38: 0 | I38: 0 | J38: 0 | K38: 0 | L38: 0 | M38: 0 | N38: 0 | O38: 0 | P38: 0 | Q38: 0 | R38: 0 | S38: 0 | T38: 0 | U38: 0 | V38: 0 | W38: 0 | X38: 0 | Y38: 0 | Z38: 0 | AA38: 0 | AB38: 0 | AC38: 0 | AD38: 0 | AE38: 0 | AF38: 0 | AG38: 0 | AH38: 0 | AI38: 0 | AJ38: 0 | AK38: 0 | AL38: 0 | AM38: 0 | AN38: 0 | AO38: 0 | AP38: 0 | AQ38: 0 | AR38: 0 | AS38: 0 | AT38: 0 | AU38: 0 | AV38: 0 | AW38: 0 | AX38: 0 | AY38: 0 | AZ38: 0 | BA38: 0 | BB38: 0 | BC38: 0 | BD38: 0 | BE38: 0 | BF38: 0 | BG38: 0 | BH38: 0 | BI38: 0 | BJ38: 0 | BK38: 0 | BL38: 0 | BM38: 0 | BN38: 0 | BO38: 0 | BP38: 0 | BQ38: 0 | BR38: 0 | BS38: 0 | BT38: 0 | BU38: 0 | BV38: =COUNTIF(B38:BU38,"<>0") -> 1
A39: Hooded Merganser | B39: 0 | C39: 0 | D39: 1 | E39: 0 | F39: 0 | G39: 0 | H39: 2 | I39: 0 | J39: 0 | K39: 0 | L39: 0 | M39: 0 | N39: 0 | O39: 0 | P39: 0 | Q39: 0 | R39: 0 | S39: 0 | T39: 0 | U39: 0 | V39: 0 | W39: 0 | X39: 0 | Y39: 0 | Z39: 0 | AA39: 0 | AB39: 0 | AC39: -1 | AD39: 0 | AE39: 0 | AF39: 0 | AG39: 0 | AH39: 0 | AI39: 0 | AJ39: 0 | AK39: 0 | AL39: 0 | AM39: 0 | AN39: 0 | AO39: 0 | AP39: 0 | AQ39: 0 | AR39: 0 | AS39: 0 | AT39: 0 | AU39: 0 | AV39: 0 | AW39: 0 | AX39: 0 | AY39: 0 | AZ39: 0 | BA39: 0 | BB39: 0 | BC39: 0 | BD39: 0 | BE39: 0 | BF39: 0 | BG39: 0 | BH39: 0 | BI39: 0 | BJ39: 0 | BK39: 0 | BL39: 0 | BM39: 0 | BN39: 0 | BO39: 0 | BP39: 0 | BQ39: 0 | BR39: 0 | BS39: 0 | BT39: 0 | BU39: 0 | BV39: =COUNTIF(B39:BU39,"<>0") -> 3 | CB39: =IF(CA39=BZ39,"","X")
A40: Common Merganser | B40: 0 | C40: 1 | D40: 3 | E40: 0 | F40: 0 | G40: 1 | H40: 0 | I40: 0 | J40: 0 | K40: 0 | L40: 0 | M40: 0 | N40: 0 | O40: 0 | P40: 2 | Q40: 2 | R40: 2 | S40: 1 | T40: 3 | U40: 5 | V40: 1 | W40: 0 | X40: -1 | Y40: 3 | Z40: 0 | AA40: 0 | AB40: 0 | AC40: 0 | AD40: 2 | AE40: 2 | AF40: 0 | AG40: 0 | AH40: 1 | AI40: 0 | AJ40: 0 | AK40: 0 | AL40: 0 | AM40: 0 | AN40: 0 | AO40: 0 | AP40: 1 | AQ40: 0 | AR40: 1 | AS40: 0 | AT40: 1 | AU40: 1 | AV40: 1 | AW40: -6 | AX40: 0 | AY40: 1 | AZ40: 1 | BA40: 0 | BB40: 0 | BC40: 0 | BD40: 0 | BE40: 0 | BF40: 0 | BG40: 0 | BH40: 0 | BI40: 0 | BJ40: 0 | BK40: 0 | BL40: 0 | BM40: 0 | BN40: 0 | BO40: 0 | BP40: 0 | BQ40: 0 | BR40: 0 | BS40: 0 | BT40: 0 | BU40: 0 | BV40: =COUNTIF(B40:BU40,"<>0") -> 23 | CB40: =IF(CA40=BZ40,"","X")
A41: Red-breasted Merganser | B41: 0 | C41: 0 | D41: 0 | E41: 0 | F41: 0 | G41: 0 | H41: 0 | I41: 0 | J41: 0 | K41: 0 | L41: 0 | M41: 0 | N41: 0 | O41: 0 | P41: 0 | Q41: 0 | R41: 0 | S41: 0 | T41: 0 | U41: 0 | V41: 0 | W41: 0 | X41: 0 | Y41: 0 | Z41: 0 | AA41: 0 | AB41: 0 | AC41: 0 | AD41: 0 | AE41: 0 | AF41: 0 | AG41: 0 | AH41: 0 | AI41: 0 | AJ41: 0 | AK41: 0 | AL41: 0 | AM41: 0 | AN41: 0 | AO41: 2 | AP41: 0 | AQ41: 0 | AR41: 0 | AS41: 0 | AT41: 0 | AU41: 0 | AV41: 0 | AW41: 0 | AX41: 0 | AY41: 0 | AZ41: 0 | BA41: 0 | BB41: 0 | BC41: 2 | BD41: 0 | BE41: 0 | BF41: 0 | BG41: 0 | BH41: 0 | BI41: 0 | BJ41: 0 | BK41: 0 | BL41: 0 | BM41: 0 | BN41: 0 | BO41: 0 | BP41: 0 | BQ41: 0 | BR41: 0 | BS41: 0 | BT41: 0 | BU41: 0 | BV41: =COUNTIF(B41:BU41,"<>0") -> 2 | CB41: =IF(CA41=BZ41,"","X")
A42: Ruffed Grouse | B42: 0 | C42: 0 | D42: 0 | E42: 1 | F42: 0 | G42: 0 | H42: 0 | I42: 0 | J42: 0 | K42: 1 | L42: 0 | M42: 0 | N42: 0 | O42: 0 | P42: 2 | Q42: 1 | R42: 0 | S42: 1 | T42: 0 | U42: -1 | V42: 0 | W42: 1 | X42: 1 | Y42: 1 | Z42: 1 | AA42: 0 | AB42: 0 | AC42: 0 | AD42: 1 | AE42: 1 | AF42: 1 | AG42: 0 | AH42: 0 | AI42: 0 | AJ42: 0 | AK42: 4 | AL42: 8 | AM42: 0 | AN42: 0 | AO42: 3 | AP42: 5 | AQ42: 2 | AR42: 0 | AS42: 0 | AT42: 3 | AU42: 1 | AV42: 11 | AW42: 4 | AX42: 4 | AY42: 4 | AZ42: 9 | BA42: 10 | BB42: 6 | BC42: 1 | BD42: 6 | BE42: 1 | BF42: 2 | BG42: 4 | BH42: 3 | BI42: 4 | BJ42: 1 | BK42: 1 | BL42: 1 | BM42: 0 | BN42: 0 | BO42: 0 | BP42: 2 | BQ42: 0 | BR42: 2 | BS42: 0 | BT42: 1 | BU42: 0 | BV42: =COUNTIF(B42:BU42,"<>0") -> 40 | CB42: =IF(CA42=BZ42,"","X")
A43: Sharp-tailed Grouse | B43: 0 | C43: 31 | D43: 160 | E43: 13 | F43: 75 | G43: 14 | H43: 32 | I43: 9 | J43: 64 | K43: 35 | L43: 46 | M43: 7 | N43: 28 | O43: 28 | P43: 7 | Q43: 0 | R43: 24 | S43: 3 | T43: 15 | U43: 10 | V43: 18 | W43: 13 | X43: 8 | Y43: 130 | Z43: 14 | AA43: 37 | AB43: 67 | AC43: 43 | AD43: 30 | AE43: 30 | AF43: 22 | AG43: 61 | AH43: 33 | AI43: 29 | AJ43: 64 | AK43: 70 | AL43: 54 | AM43: 30 | AN43: 49 | AO43: 82 | AP43: 18 | AQ43: 58 | AR43: 116 | AS43: 48 | AT43: 59 | AU43: 68 | AV43: 109 | AW43: 101 | AX43: 93 | AY43: 83 | AZ43: 111 | BA43: 44 | BB43: 59 | BC43: 89 | BD43: 177 | BE43: 117 | BF43: 25 | BG43: 100 | BH43: 138 | BI43: 58 | BJ43: 74 | BK43: 53 | BL43: 1 | BM43: 106 | BN43: 30 | BO43: 41 | BP43: 24 | BQ43: 0 | BR43: 46 | BS43: 35 | BT43: 23 | BU43: 10 | BV43: =COUNTIF(B43:BU43,"<>0") -> 69 | CB43: =IF(CA43=BZ43,"","X")
A44: Gray Partridge | B44: 0 | C44: 108 | D44: 495 | E44: 44 | F44: 21 | G44: 0 | H44: 144 | I44: 0 | J44: 0 | K44: 9 | L44: 0 | M44: 28 | N44: 29 | O44: 0 | P44: 12 | Q44: 20 | R44: 23 | S44: 14 | T44: 76 | U44: 16 | V44: 68 | W44: 43 | X44: 61 | Y44: 59 | Z44: 14 | AA44: 27 | AB44: 40 | AC44: 25 | AD44: 39 | AE44: 32 | AF44: 70 | AG44: 45 | AH44: 21 | AI44: 33 | AJ44: 22 | AK44: 75 | AL44: 27 | AM44: 28 | AN44: 9 | AO44: 38 | AP44: 39 | AQ44: 22 | AR44: 21 | AS44: 29 | AT44: 45 | AU44: 35 | AV44: 109 | AW44: 103 | AX44: 6 | AY44: 58 | AZ44: 65 | BA44: 40 | BB44: 57 | BC44: 138 | BD44: 66 | BE44: 87 | BF44: 532 | BG44: 350 | BH44: 183 | BI44: 269 | BJ44: 100 | BK44: 141 | BL44: 163 | BM44: 127 | BN44: 44 | BO44: 42 | BP44: 12 | BQ44: 23 | BR44: 29 | BS44: 23 | BT44: 52 | BU44: 109 | BV44: =COUNTIF(B44:BU44,"<>0") -> 66 | CB44: =IF(CA44=BZ44,"","X")
A45: Ring-necked Pheasant | B45: 0 | C45: 0 | D45: 0 | E45: 1 | F45: 0 | G45: 0 | H45: 0 | I45: 0 | J45: 0 | K45: 0 | L45: 0 | M45: 0 | N45: 0 | O45: 0 | P45: 0 | Q45: 0 | R45: 0 | S45: 0 | T45: 0 | U45: 2 | V45: 2 | W45: 0 | X45: 0 | Y45: 0 | Z45: 0 | AA45: 0 | AB45: -1 | AC45: 0 | AD45: 0 | AE45: -1 | AF45: 0 | AG45: 0 | AH45: 2 | AI45: 0 | AJ45: 0 | AK45: 0 | AL45: 0 | AM45: 0 | AN45: 0 | AO45: 0 | AP45: 0 | AQ45: 0 | AR45: 1 | AS45: 0 | AT45: 0 | AU45: 4 | AV45: 8 | AW45: 4 | AX45: 12 | AY45: 35 | AZ45: 7 | BA45: 8 | BB45: 10 | BC45: 23 | BD45: 15 | BE45: 9 | BF45: 5 | BG45: 6 | BH45: 15 | BI45: 11 | BJ45: 6 | BK45: 5 | BL45: 16 | BM45: 22 | BN45: 21 | BO45: 3 | BP45: 6 | BQ45: 0 | BR45: 17 | BS45: 4 | BT45: 1 | BU45: 1 | BV45: =COUNTIF(B45:BU45,"<>0") -> 33 | CB45: =IF(CA45=BZ45,"","X")
A46: Chukar | B46: 0 | C46: 0 | D46: 0 | E46: 0 | F46: 0 | G46: 0 | H46: 0 | I46: 0 | J46: 0 | K46: 0 | L46: 0 | M46: 0 | N46: 0 | O46: 0 | P46: 0 | Q46: 0 | R46: 0 | S46: 0 | T46: 0 | U46: 0 | V46: 0 | W46: 0 | X46: 0 | Y46: 0 | Z46: 0 | AA46: 0 | AB46: 0 | AC46: 0 | AD46: 0 | AE46: 0 | AF46: 0 | AG46: 0 | AH46: 0 | AI46: 0 | AJ46: 0 | AK46: 0 | AL46: 0 | AM46: 0 | AN46: 0 | AO46: 0 | AP46: 0 | AQ46: 0 | AR46: 0 | AS46: 0 | AT46: 0 | AU46: 0 | AV46: 0 | AW46: 0 | AX46: 0 | AY46: 0 | AZ46: 0 | BA46: 0 | BB46: 0 | BC46: 0 | BD46: 0 | BE46: 0 | BF46: 0 | BG46: 0 | BH46: 0 | BI46: 0 | BJ46: 0 | BK46: 0 | BL46: 0 | BM46: 0 | BN46: 0 | BO46: 0 | BP46: 0 | BQ46: 0 | BR46: 0 | BS46: 0 | BT46: 0 | BU46: 0 | BV46: =COUNTIF(B46:BU46,"<>0") -> 0 | CB46: =IF(CA46=BZ46,"","X")
A47: Horned Grebe | B47: 0 | C47: 0 | D47: 0 | E47: 0 | F47: 0 | G47: 0 | H47: 0 | I47: 0 | J47: 0 | K47: 0 | L47: 0 | M47: 0 | N47: 0 | O47: 0 | P47: 0 | Q47: 0 | R47: 0 | S47: 0 | T47: 0 | U47: 0 | V47: 0 | W47: 0 | X47: 0 | Y47: 0 | Z47: 0 | AA47: 0 | AB47: 0 | AC47: 0 | AD47: 0 | AE47: 0 | AF47: 0 | AG47: 0 | AH47: 0 | AI47: 0 | AJ47: 0 | AK47: 0 | AL47: 0 | AM47: 0 | AN47: 0 | AO47: 0 | AP47: 0 | AQ47: 0 | AR47: 0 | AS47: 1 | AT47: 0 | AU47: 0 | AV47: 0 | AW47: 0 | AX47: 0 | AY47: 0 | AZ47: 0 | BA47: 0 | BB47: 0 | BC47: 0 | BD47: 0 | BE47: 0 | BF47: 0 | BG47: 0 | BH47: 0 | BI47: 0 | BJ47: 0 | BK47: 0 | BL47: 0 | BM47: 0 | BN47: 0 | BO47: 0 | BP47: 0 | BQ47: 0 | BR47: 0 | BS47: 0 | BT47: 0 | BU47: 0 | BV47: =COUNTIF(B47:BU47,"<>0") -> 1 | CB47: =IF(CA47=BZ47,"","X")
A48: Rock Pigeon (feral) | B48: 0 | C48: 1644 | D48: 1704 | E48: 3108 | F48: 1396 | G48: 924 | H48: 2272 | I48: 1410 | J48: 2028 | K48: 1314 | L48: 1565 | M48: 2486 | N48: 2432 | O48: 1962 | P48: 1823 | Q48: 2534 | R48: 2982 | S48: 1749 | T48: 4313 | U48: 3104 | V48: 2032 | W48: 2391 | X48: 1250 | Y48: 2803 | Z48: 3585 | AA48: 2741 | AB48: 2472 | AC48: 2133 | AD48: 2090 | AE48: 2433 | AF48: 940 | AG48: 1625 | AH48: 1856 | AI48: 1081 | AJ48: 1016 | AK48: 2023 | AL48: 1547 | AM48: 1365 | AN48: 2504 | AO48: 2303 | AP48: 3173 | AQ48: 2695 | AR48: 1194 | AS48: 1596 | AT48: 1459 | AU48: 2319 | AV48: 1569 | AW48: 1472 | AX48: 2020 | AY48: 981 | AZ48: 475 | BA48: 1107 | BB48: 805 | BC48: 808 | BD48: 678 | BE48: 1846 | BF48: 1133 | BG48: 510 | BH48: 130 | BI48: 630 | BJ48: 261 | BK48: 315 | BL48: 350 | BM48: 276 | BN48: 256 | BO48: 164 | BP48: 277 | BQ48: 22 | BR48: 0 | BS48: 0 | BT48: 0 | BU48: 0 | BV48: =COUNTIF(B48:BU48,"<>0") -> 67 | CB48: =IF(CA48=BZ48,"","X")
...
