Workbook

Sheet Historic - corrected
A1: Clark's Crossing Christmas Bird Count, 1991/92 - 2025/26 (count day results corrected for effort: Corrected count = Raw count X Average party hours (all years) / Party hours) | AG1: Page 1 of 2
A6: Count Date | B6: Average | E6: 12/20 2025 | F6: ='Historic - uncorrected'!E6 -> 12/14 2024 | G6: ='Historic - uncorrected'!F6 -> 12/16 2023 | H6: ='Historic - uncorrected'!G6 -> 12/17 2022 | I6: ='Historic - uncorrected'!H6 -> 12/18 2021 | J6: ='Historic - uncorrected'!I6 -> 12/19 2020 | K6: ='Historic - uncorrected'!J6 -> 12/21 2019 | L6: ='Historic - uncorrected'!K6 -> 12/15 2018 | M6: ='Historic - uncorrected'!L6 -> 12/16 2017 | ... AM6: ='Historic - uncorrected'!AL6 -> 1991
A8: Total Species - count day | B8: =AVERAGE($H8:AM8) -> 27.0625 | E8: ='Historic - uncorrected'!D8 -> 27 | F8: ='Historic - uncorrected'!E8 -> 31 | G8: ='Historic - uncorrected'!F8 -> 31 | H8: ='Historic - uncorrected'!G8 -> 30 | I8: ='Historic - uncorrected'!H8 -> 27 | J8: ='Historic - uncorrected'!I8 -> 27 | K8: ='Historic - uncorrected'!J8 -> 29 | L8: ='Historic - uncorrected'!K8 -> 26 | ... AM8: ='Historic - uncorrected'!AL8 -> 17
A10: Party Hours | B10: =AVERAGE($H10:AM10) -> 43.102083 | E10: ='Historic - uncorrected'!D10 -> 42.566667 | F10: ='Historic - uncorrected'!E10 -> 37.65 | G10: ='Historic - uncorrected'!F10 -> 43.733333 | H10: ='Historic - uncorrected'!G10 -> 39.916667 | I10: ='Historic - uncorrected'!H10 -> 54.366667 | J10: ='Historic - uncorrected'!I10 -> 42.783333 | K10: ='Historic - uncorrected'!J10 -> 46 | L10: ='Historic - uncorrected'!K10 -> 42.7 | ... AM10: ='Historic - uncorrected'!AL10 -> 19.75
A11: Participants | B11: =AVERAGE($H11:AM11) -> 24.375 | E11: ='Historic - uncorrected'!D11 -> 18 | F11: ='Historic - uncorrected'!E11 -> 18 | G11: ='Historic - uncorrected'!F11 -> 19 | H11: ='Historic - uncorrected'!G11 -> 28 | I11: ='Historic - uncorrected'!H11 -> 28 | J11: ='Historic - uncorrected'!I11 -> 25 | K11: ='Historic - uncorrected'!J11 -> 31 | L11: ='Historic - uncorrected'!K11 -> 29 | ... AM11: ='Historic - uncorrected'!AL11 -> 10
AN13: Filter blank rows
A14: BIRDS
A15: Snow Goose | B15: =AVERAGE(F15:AM15) -> 0 | C15: 0 | D15: 0 | E15: =IF('Historic - uncorrected'!D15<0,"",'Historic - corrected'!$B$10/E$10*'Historic - uncorrected'!D15) -> 0 | F15: =IF('Historic - uncorrected'!E15<0,"",'Historic - corrected'!$B$10/F$10*'Historic - uncorrected'!E15) -> 0 | G15: =IF('Historic - uncorrected'!F15<0,"",'Historic - corrected'!$B$10/G$10*'Historic - uncorrected'!F15) -> 0 | H15: =IF('Historic - uncorrected'!G15<0,"",'Historic - corrected'!$B$10/H$10*'Historic - uncorrected'!G15) -> 0 | I15: =IF('Historic - uncorrected'!H15<0,"",'Historic - corrected'!$B$10/I$10*'Historic - uncorrected'!H15) -> 0 | J15: =IF('Historic - uncorrected'!I15<0,"",'Historic - corrected'!$B$10/J$10*'Historic - uncorrected'!I15) -> 0 | K15: =IF('Historic - uncorrected'!J15<0,"",'Historic - corrected'!$B$10/K$10*'Historic - uncorrected'!J15) -> 0 | L15: =IF('Historic - uncorrected'!K15<0,"",'Historic - corrected'!$B$10/L$10*'Historic - uncorrected'!K15) -> 0 | ... AM15: =IF('Historic - uncorrected'!AL15<0,"",'Historic - corrected'!$B$10/AM$10*'Historic - uncorrected'!AL15) -> 0 | AN15: =COUNTIF(C15:AM15,"<>0") -> 0
A16: Greater White-fronted Goose | B16: =AVERAGE(F16:AM16) -> 0 | C16: 0 | D16: 0 | E16: =IF('Historic - uncorrected'!D16<0,"",'Historic - corrected'!$B$10/E$10*'Historic - uncorrected'!D16) -> 0 | F16: =IF('Historic - uncorrected'!E16<0,"",'Historic - corrected'!$B$10/F$10*'Historic - uncorrected'!E16) -> 0 | G16: =IF('Historic - uncorrected'!F16<0,"",'Historic - corrected'!$B$10/G$10*'Historic - uncorrected'!F16) -> 0 | H16: =IF('Historic - uncorrected'!G16<0,"",'Historic - corrected'!$B$10/H$10*'Historic - uncorrected'!G16) -> 0 | I16: =IF('Historic - uncorrected'!H16<0,"",'Historic - corrected'!$B$10/I$10*'Historic - uncorrected'!H16) -> 0 | J16: =IF('Historic - uncorrected'!I16<0,"",'Historic - corrected'!$B$10/J$10*'Historic - uncorrected'!I16) -> 0 | K16: =IF('Historic - uncorrected'!J16<0,"",'Historic - corrected'!$B$10/K$10*'Historic - uncorrected'!J16) -> 0 | L16: =IF('Historic - uncorrected'!K16<0,"",'Historic - corrected'!$B$10/L$10*'Historic - uncorrected'!K16) -> 0 | ... AM16: =IF('Historic - uncorrected'!AL16<0,"",'Historic - corrected'!$B$10/AM$10*'Historic - uncorrected'!AL16) -> 0 | AN16: =COUNTIF(C16:AM16,"<>0") -> 0
A17: Cackling Goose | B17: =AVERAGE(E17:AM17) -> 0.36372568 | C17: 0 | D17: 0 | E17: =IF('Historic - uncorrected'!D17<0,"",'Historic - corrected'!$B$10/E$10*'Historic - uncorrected'!D17) -> 0 | F17: =IF('Historic - uncorrected'!E17<0,"",'Historic - corrected'!$B$10/F$10*'Historic - uncorrected'!E17) -> 0 | G17: =IF('Historic - uncorrected'!F17<0,"",'Historic - corrected'!$B$10/G$10*'Historic - uncorrected'!F17) -> 11.826791 | H17: =IF('Historic - uncorrected'!G17<0,"",'Historic - corrected'!$B$10/H$10*'Historic - uncorrected'!G17) -> 0 | I17: =IF('Historic - uncorrected'!H17<0,"",'Historic - corrected'!$B$10/I$10*'Historic - uncorrected'!H17) -> 0 | J17: =IF('Historic - uncorrected'!I17<0,"",'Historic - corrected'!$B$10/J$10*'Historic - uncorrected'!I17) -> 0 | K17: =IF('Historic - uncorrected'!J17<0,"",'Historic - corrected'!$B$10/K$10*'Historic - uncorrected'!J17) -> 0 | L17: =IF('Historic - uncorrected'!K17<0,"",'Historic - corrected'!$B$10/L$10*'Historic - uncorrected'!K17) -> 0 | ... AM17: =IF('Historic - uncorrected'!AL17<0,"",'Historic - corrected'!$B$10/AM$10*'Historic - uncorrected'!AL17) -> 0 | AN17: =COUNTIF(C17:AM17,">0") -> 2
A18: Canada Goose | B18: =AVERAGE(E18:AM18) -> 199.74976 | C18: 0 | D18: 0 | E18: =IF('Historic - uncorrected'!D18<0,"",'Historic - corrected'!$B$10/E$10*'Historic - uncorrected'!D18) -> 0 | F18: =IF('Historic - uncorrected'!E18<0,"",'Historic - corrected'!$B$10/F$10*'Historic - uncorrected'!E18) -> 0 | G18: =IF('Historic - uncorrected'!F18<0,"",'Historic - corrected'!$B$10/G$10*'Historic - uncorrected'!F18) -> 2033.2225 | H18: =IF('Historic - uncorrected'!G18<0,"",'Historic - corrected'!$B$10/H$10*'Historic - uncorrected'!G18) -> 0 | I18: =IF('Historic - uncorrected'!H18<0,"",'Historic - corrected'!$B$10/I$10*'Historic - uncorrected'!H18) | J18: =IF('Historic - uncorrected'!I18<0,"",'Historic - corrected'!$B$10/J$10*'Historic - uncorrected'!I18) -> 1.0074503 | K18: =IF('Historic - uncorrected'!J18<0,"",'Historic - corrected'!$B$10/K$10*'Historic - uncorrected'!J18) -> 5.6220109 | L18: =IF('Historic - uncorrected'!K18<0,"",'Historic - corrected'!$B$10/L$10*'Historic - uncorrected'!K18) -> 487.54816 | ... AM18: =IF('Historic - uncorrected'!AL18<0,"",'Historic - corrected'!$B$10/AM$10*'Historic - uncorrected'!AL18) -> 0 | AN18: =COUNTIF(C18:AM18,">0") -> 22
A19: Tundra Swan | B19: =AVERAGE(E19:AM19) -> 0 | C19: 0 | D19: 0 | E19: =IF('Historic - uncorrected'!D19<0,"",'Historic - corrected'!$B$10/E$10*'Historic - uncorrected'!D19) -> 0 | F19: =IF('Historic - uncorrected'!E19<0,"",'Historic - corrected'!$B$10/F$10*'Historic - uncorrected'!E19) -> 0 | G19: =IF('Historic - uncorrected'!F19<0,"",'Historic - corrected'!$B$10/G$10*'Historic - uncorrected'!F19) -> 0 | H19: =IF('Historic - uncorrected'!G19<0,"",'Historic - corrected'!$B$10/H$10*'Historic - uncorrected'!G19) -> 0 | I19: =IF('Historic - uncorrected'!H19<0,"",'Historic - corrected'!$B$10/I$10*'Historic - uncorrected'!H19) -> 0 | J19: =IF('Historic - uncorrected'!I19<0,"",'Historic - corrected'!$B$10/J$10*'Historic - uncorrected'!I19) -> 0 | K19: =IF('Historic - uncorrected'!J19<0,"",'Historic - corrected'!$B$10/K$10*'Historic - uncorrected'!J19) -> 0 | L19: =IF('Historic - uncorrected'!K19<0,"",'Historic - corrected'!$B$10/L$10*'Historic - uncorrected'!K19) -> 0 | ... AM19: =IF('Historic - uncorrected'!AL19<0,"",'Historic - corrected'!$B$10/AM$10*'Historic - uncorrected'!AL19) -> 0 | AN19: =COUNTIF(C19:AM19,"<>0") -> 0
A20: Duck sp. | B20: =AVERAGE(E20:AM20) -> 8.447708 | C20: 0 | D20: 0 | E20: =IF('Historic - uncorrected'!D20<0,"",'Historic - corrected'!$B$10/E$10*'Historic - uncorrected'!D20) -> 0 | F20: =IF('Historic - uncorrected'!E20<0,"",'Historic - corrected'!$B$10/F$10*'Historic - uncorrected'!E20) -> 0 | G20: =IF('Historic - uncorrected'!F20<0,"",'Historic - corrected'!$B$10/G$10*'Historic - uncorrected'!F20) -> 295.66978 | H20: =IF('Historic - uncorrected'!G20<0,"",'Historic - corrected'!$B$10/H$10*'Historic - uncorrected'!G20) -> 0 | I20: =IF('Historic - uncorrected'!H20<0,"",'Historic - corrected'!$B$10/I$10*'Historic - uncorrected'!H20) -> 0 | J20: =IF('Historic - uncorrected'!I20<0,"",'Historic - corrected'!$B$10/J$10*'Historic - uncorrected'!I20) -> 0 | K20: =IF('Historic - uncorrected'!J20<0,"",'Historic - corrected'!$B$10/K$10*'Historic - uncorrected'!J20) -> 0 | L20: =IF('Historic - uncorrected'!K20<0,"",'Historic - corrected'!$B$10/L$10*'Historic - uncorrected'!K20) -> 0 | ... AM20: =IF('Historic - uncorrected'!AL20<0,"",'Historic - corrected'!$B$10/AM$10*'Historic - uncorrected'!AL20) -> 0 | AN20: =COUNTIF(C20:AM20,">0") -> 1
A21: Northern Shoveler | B21: =AVERAGE(E21:AM21) -> 0 | C21: 0 | D21: 0 | E21: =IF('Historic - uncorrected'!D21<0,"",'Historic - corrected'!$B$10/E$10*'Historic - uncorrected'!D21) -> 0 | F21: =IF('Historic - uncorrected'!E21<0,"",'Historic - corrected'!$B$10/F$10*'Historic - uncorrected'!E21) -> 0 | G21: =IF('Historic - uncorrected'!F21<0,"",'Historic - corrected'!$B$10/G$10*'Historic - uncorrected'!F21) -> 0 | H21: =IF('Historic - uncorrected'!G21<0,"",'Historic - corrected'!$B$10/H$10*'Historic - uncorrected'!G21) -> 0 | I21: =IF('Historic - uncorrected'!H21<0,"",'Historic - corrected'!$B$10/I$10*'Historic - uncorrected'!H21) -> 0 | J21: =IF('Historic - uncorrected'!I21<0,"",'Historic - corrected'!$B$10/J$10*'Historic - uncorrected'!I21) -> 0 | K21: =IF('Historic - uncorrected'!J21<0,"",'Historic - corrected'!$B$10/K$10*'Historic - uncorrected'!J21) -> 0 | L21: =IF('Historic - uncorrected'!K21<0,"",'Historic - corrected'!$B$10/L$10*'Historic - uncorrected'!K21) -> 0 | ... AM21: =IF('Historic - uncorrected'!AL21<0,"",'Historic - corrected'!$B$10/AM$10*'Historic - uncorrected'!AL21) -> 0 | AN21: =COUNTIF(C21:AM21,"<>0") -> 0
A22: Gadwall | B22: =AVERAGE(E22:AM22) -> 0 | C22: 0 | D22: 0 | E22: =IF('Historic - uncorrected'!D22<0,"",'Historic - corrected'!$B$10/E$10*'Historic - uncorrected'!D22) -> 0 | F22: =IF('Historic - uncorrected'!E22<0,"",'Historic - corrected'!$B$10/F$10*'Historic - uncorrected'!E22) -> 0 | G22: =IF('Historic - uncorrected'!F22<0,"",'Historic - corrected'!$B$10/G$10*'Historic - uncorrected'!F22) -> 0 | H22: =IF('Historic - uncorrected'!G22<0,"",'Historic - corrected'!$B$10/H$10*'Historic - uncorrected'!G22) -> 0 | I22: =IF('Historic - uncorrected'!H22<0,"",'Historic - corrected'!$B$10/I$10*'Historic - uncorrected'!H22) -> 0 | J22: =IF('Historic - uncorrected'!I22<0,"",'Historic - corrected'!$B$10/J$10*'Historic - uncorrected'!I22) -> 0 | K22: =IF('Historic - uncorrected'!J22<0,"",'Historic - corrected'!$B$10/K$10*'Historic - uncorrected'!J22) -> 0 | L22: =IF('Historic - uncorrected'!K22<0,"",'Historic - corrected'!$B$10/L$10*'Historic - uncorrected'!K22) -> 0 | ... AM22: =IF('Historic - uncorrected'!AL22<0,"",'Historic - corrected'!$B$10/AM$10*'Historic - uncorrected'!AL22) -> 0 | AN22: =COUNTIF(C22:AM22,"<>0") -> 0
A23: American Wigeon | B23: =AVERAGE(E23:AM23) -> 0 | C23: 0 | D23: 0 | E23: =IF('Historic - uncorrected'!D23<0,"",'Historic - corrected'!$B$10/E$10*'Historic - uncorrected'!D23) -> 0 | F23: =IF('Historic - uncorrected'!E23<0,"",'Historic - corrected'!$B$10/F$10*'Historic - uncorrected'!E23) -> 0 | G23: =IF('Historic - uncorrected'!F23<0,"",'Historic - corrected'!$B$10/G$10*'Historic - uncorrected'!F23) -> 0 | H23: =IF('Historic - uncorrected'!G23<0,"",'Historic - corrected'!$B$10/H$10*'Historic - uncorrected'!G23) -> 0 | I23: =IF('Historic - uncorrected'!H23<0,"",'Historic - corrected'!$B$10/I$10*'Historic - uncorrected'!H23) -> 0 | J23: =IF('Historic - uncorrected'!I23<0,"",'Historic - corrected'!$B$10/J$10*'Historic - uncorrected'!I23) -> 0 | K23: =IF('Historic - uncorrected'!J23<0,"",'Historic - corrected'!$B$10/K$10*'Historic - uncorrected'!J23) -> 0 | L23: =IF('Historic - uncorrected'!K23<0,"",'Historic - corrected'!$B$10/L$10*'Historic - uncorrected'!K23) -> 0 | ... AM23: =IF('Historic - uncorrected'!AL23<0,"",'Historic - corrected'!$B$10/AM$10*'Historic - uncorrected'!AL23) -> 0 | AN23: =COUNTIF(C23:AM23,"<>0") -> 0
A24: Mallard | B24: =AVERAGE(E24:AM24) -> 3.4711124 | C24: 0 | D24: 0 | E24: =IF('Historic - uncorrected'!D24<0,"",'Historic - corrected'!$B$10/E$10*'Historic - uncorrected'!D24) -> 0 | F24: =IF('Historic - uncorrected'!E24<0,"",'Historic - corrected'!$B$10/F$10*'Historic - uncorrected'!E24) -> 0 | G24: =IF('Historic - uncorrected'!F24<0,"",'Historic - corrected'!$B$10/G$10*'Historic - uncorrected'!F24) -> 88.700934 | H24: =IF('Historic - uncorrected'!G24<0,"",'Historic - corrected'!$B$10/H$10*'Historic - uncorrected'!G24) -> 0 | I24: =IF('Historic - uncorrected'!H24<0,"",'Historic - corrected'!$B$10/I$10*'Historic - uncorrected'!H24) -> 3.9640175 | J24: =IF('Historic - uncorrected'!I24<0,"",'Historic - corrected'!$B$10/J$10*'Historic - uncorrected'!I24) -> 0 | K24: =IF('Historic - uncorrected'!J24<0,"",'Historic - corrected'!$B$10/K$10*'Historic - uncorrected'!J24) -> 0 | L24: =IF('Historic - uncorrected'!K24<0,"",'Historic - corrected'!$B$10/L$10*'Historic - uncorrected'!K24) -> 2.0188329 | ... AM24: =IF('Historic - uncorrected'!AL24<0,"",'Historic - corrected'!$B$10/AM$10*'Historic - uncorrected'!AL24) -> 0 | AN24: =COUNTIF(C24:AM24,">0") -> 10
A25: Northern Pintail | B25: =AVERAGE(E25:AM25) -> 0 | C25: 0 | D25: 0 | E25: =IF('Historic - uncorrected'!D25<0,"",'Historic - corrected'!$B$10/E$10*'Historic - uncorrected'!D25) -> 0 | F25: =IF('Historic - uncorrected'!E25<0,"",'Historic - corrected'!$B$10/F$10*'Historic - uncorrected'!E25) -> 0 | G25: =IF('Historic - uncorrected'!F25<0,"",'Historic - corrected'!$B$10/G$10*'Historic - uncorrected'!F25) -> 0 | H25: =IF('Historic - uncorrected'!G25<0,"",'Historic - corrected'!$B$10/H$10*'Historic - uncorrected'!G25) -> 0 | I25: =IF('Historic - uncorrected'!H25<0,"",'Historic - corrected'!$B$10/I$10*'Historic - uncorrected'!H25) -> 0 | J25: =IF('Historic - uncorrected'!I25<0,"",'Historic - corrected'!$B$10/J$10*'Historic - uncorrected'!I25) -> 0 | K25: =IF('Historic - uncorrected'!J25<0,"",'Historic - corrected'!$B$10/K$10*'Historic - uncorrected'!J25) -> 0 | L25: =IF('Historic - uncorrected'!K25<0,"",'Historic - corrected'!$B$10/L$10*'Historic - uncorrected'!K25) -> 0 | ... AM25: =IF('Historic - uncorrected'!AL25<0,"",'Historic - corrected'!$B$10/AM$10*'Historic - uncorrected'!AL25) -> 0 | AN25: =COUNTIF(C25:AM25,"<>0") -> 0
A26: Green-winged Teal | B26: =AVERAGE(E26:AM26) -> 0 | C26: 0 | D26: 0 | E26: =IF('Historic - uncorrected'!D26<0,"",'Historic - corrected'!$B$10/E$10*'Historic - uncorrected'!D26) -> 0 | F26: =IF('Historic - uncorrected'!E26<0,"",'Historic - corrected'!$B$10/F$10*'Historic - uncorrected'!E26) -> 0 | G26: =IF('Historic - uncorrected'!F26<0,"",'Historic - corrected'!$B$10/G$10*'Historic - uncorrected'!F26) -> 0 | H26: =IF('Historic - uncorrected'!G26<0,"",'Historic - corrected'!$B$10/H$10*'Historic - uncorrected'!G26) -> 0 | I26: =IF('Historic - uncorrected'!H26<0,"",'Historic - corrected'!$B$10/I$10*'Historic - uncorrected'!H26) -> 0 | J26: =IF('Historic - uncorrected'!I26<0,"",'Historic - corrected'!$B$10/J$10*'Historic - uncorrected'!I26) -> 0 | K26: =IF('Historic - uncorrected'!J26<0,"",'Historic - corrected'!$B$10/K$10*'Historic - uncorrected'!J26) -> 0 | L26: =IF('Historic - uncorrected'!K26<0,"",'Historic - corrected'!$B$10/L$10*'Historic - uncorrected'!K26) -> 0 | ... AM26: =IF('Historic - uncorrected'!AL26<0,"",'Historic - corrected'!$B$10/AM$10*'Historic - uncorrected'!AL26) -> 0 | AN26: =COUNTIF(C26:AM26,"<>0") -> 0
A27: Canvasback | B27: =AVERAGE(E27:AM27) -> 0 | C27: 0 | D27: 0 | E27: =IF('Historic - uncorrected'!D27<0,"",'Historic - corrected'!$B$10/E$10*'Historic - uncorrected'!D27) -> 0 | F27: =IF('Historic - uncorrected'!E27<0,"",'Historic - corrected'!$B$10/F$10*'Historic - uncorrected'!E27) -> 0 | G27: =IF('Historic - uncorrected'!F27<0,"",'Historic - corrected'!$B$10/G$10*'Historic - uncorrected'!F27) -> 0 | H27: =IF('Historic - uncorrected'!G27<0,"",'Historic - corrected'!$B$10/H$10*'Historic - uncorrected'!G27) -> 0 | I27: =IF('Historic - uncorrected'!H27<0,"",'Historic - corrected'!$B$10/I$10*'Historic - uncorrected'!H27) -> 0 | J27: =IF('Historic - uncorrected'!I27<0,"",'Historic - corrected'!$B$10/J$10*'Historic - uncorrected'!I27) -> 0 | K27: =IF('Historic - uncorrected'!J27<0,"",'Historic - corrected'!$B$10/K$10*'Historic - uncorrected'!J27) -> 0 | L27: =IF('Historic - uncorrected'!K27<0,"",'Historic - corrected'!$B$10/L$10*'Historic - uncorrected'!K27) -> 0 | ... AM27: =IF('Historic - uncorrected'!AL27<0,"",'Historic - corrected'!$B$10/AM$10*'Historic - uncorrected'!AL27) -> 0 | AN27: =COUNTIF(C27:AM27,"<>0") -> 0
A28: Redhead | B28: =AVERAGE(E28:AM28) -> 0 | C28: 0 | D28: 0 | E28: =IF('Historic - uncorrected'!D28<0,"",'Historic - corrected'!$B$10/E$10*'Historic - uncorrected'!D28) -> 0 | F28: =IF('Historic - uncorrected'!E28<0,"",'Historic - corrected'!$B$10/F$10*'Historic - uncorrected'!E28) -> 0 | G28: =IF('Historic - uncorrected'!F28<0,"",'Historic - corrected'!$B$10/G$10*'Historic - uncorrected'!F28) -> 0 | H28: =IF('Historic - uncorrected'!G28<0,"",'Historic - corrected'!$B$10/H$10*'Historic - uncorrected'!G28) -> 0 | I28: =IF('Historic - uncorrected'!H28<0,"",'Historic - corrected'!$B$10/I$10*'Historic - uncorrected'!H28) -> 0 | J28: =IF('Historic - uncorrected'!I28<0,"",'Historic - corrected'!$B$10/J$10*'Historic - uncorrected'!I28) -> 0 | K28: =IF('Historic - uncorrected'!J28<0,"",'Historic - corrected'!$B$10/K$10*'Historic - uncorrected'!J28) -> 0 | L28: =IF('Historic - uncorrected'!K28<0,"",'Historic - corrected'!$B$10/L$10*'Historic - uncorrected'!K28) -> 0 | ... AM28: =IF('Historic - uncorrected'!AL28<0,"",'Historic - corrected'!$B$10/AM$10*'Historic - uncorrected'!AL28) -> 0 | AN28: =COUNTIF(C28:AM28,"<>0") -> 0
A29: Ring-necked Duck | B29: =AVERAGE(E29:AM29) -> 0 | C29: 0 | D29: 0 | E29: =IF('Historic - uncorrected'!D29<0,"",'Historic - corrected'!$B$10/E$10*'Historic - uncorrected'!D29) -> 0 | F29: =IF('Historic - uncorrected'!E29<0,"",'Historic - corrected'!$B$10/F$10*'Historic - uncorrected'!E29) -> 0 | G29: =IF('Historic - uncorrected'!F29<0,"",'Historic - corrected'!$B$10/G$10*'Historic - uncorrected'!F29) -> 0 | H29: =IF('Historic - uncorrected'!G29<0,"",'Historic - corrected'!$B$10/H$10*'Historic - uncorrected'!G29) -> 0 | I29: =IF('Historic - uncorrected'!H29<0,"",'Historic - corrected'!$B$10/I$10*'Historic - uncorrected'!H29) -> 0 | J29: =IF('Historic - uncorrected'!I29<0,"",'Historic - corrected'!$B$10/J$10*'Historic - uncorrected'!I29) -> 0 | K29: =IF('Historic - uncorrected'!J29<0,"",'Historic - corrected'!$B$10/K$10*'Historic - uncorrected'!J29) -> 0 | L29: =IF('Historic - uncorrected'!K29<0,"",'Historic - corrected'!$B$10/L$10*'Historic - uncorrected'!K29) -> 0 | ... AM29: =IF('Historic - uncorrected'!AL29<0,"",'Historic - corrected'!$B$10/AM$10*'Historic - uncorrected'!AL29) -> 0 | AN29: =COUNTIF(C29:AM29,"<>0") -> 0
A30: Greater Scaup | B30: =AVERAGE(E30:AM30) -> 0 | C30: 0 | D30: 0 | E30: =IF('Historic - uncorrected'!D30<0,"",'Historic - corrected'!$B$10/E$10*'Historic - uncorrected'!D30) -> 0 | F30: =IF('Historic - uncorrected'!E30<0,"",'Historic - corrected'!$B$10/F$10*'Historic - uncorrected'!E30) -> 0 | G30: =IF('Historic - uncorrected'!F30<0,"",'Historic - corrected'!$B$10/G$10*'Historic - uncorrected'!F30) -> 0 | H30: =IF('Historic - uncorrected'!G30<0,"",'Historic - corrected'!$B$10/H$10*'Historic - uncorrected'!G30) -> 0 | I30: =IF('Historic - uncorrected'!H30<0,"",'Historic - corrected'!$B$10/I$10*'Historic - uncorrected'!H30) -> 0 | J30: =IF('Historic - uncorrected'!I30<0,"",'Historic - corrected'!$B$10/J$10*'Historic - uncorrected'!I30) -> 0 | K30: =IF('Historic - uncorrected'!J30<0,"",'Historic - corrected'!$B$10/K$10*'Historic - uncorrected'!J30) -> 0 | L30: =IF('Historic - uncorrected'!K30<0,"",'Historic - corrected'!$B$10/L$10*'Historic - uncorrected'!K30) -> 0 | ... AM30: =IF('Historic - uncorrected'!AL30<0,"",'Historic - corrected'!$B$10/AM$10*'Historic - uncorrected'!AL30) -> 0
A31: Lesser Scaup | B31: =AVERAGE(E31:AM31) -> 0 | C31: 0 | D31: 0 | E31: =IF('Historic - uncorrected'!D31<0,"",'Historic - corrected'!$B$10/E$10*'Historic - uncorrected'!D31) -> 0 | F31: =IF('Historic - uncorrected'!E31<0,"",'Historic - corrected'!$B$10/F$10*'Historic - uncorrected'!E31) -> 0 | G31: =IF('Historic - uncorrected'!F31<0,"",'Historic - corrected'!$B$10/G$10*'Historic - uncorrected'!F31) -> 0 | H31: =IF('Historic - uncorrected'!G31<0,"",'Historic - corrected'!$B$10/H$10*'Historic - uncorrected'!G31) -> 0 | I31: =IF('Historic - uncorrected'!H31<0,"",'Historic - corrected'!$B$10/I$10*'Historic - uncorrected'!H31) -> 0 | J31: =IF('Historic - uncorrected'!I31<0,"",'Historic - corrected'!$B$10/J$10*'Historic - uncorrected'!I31) -> 0 | K31: =IF('Historic - uncorrected'!J31<0,"",'Historic - corrected'!$B$10/K$10*'Historic - uncorrected'!J31) -> 0 | L31: =IF('Historic - uncorrected'!K31<0,"",'Historic - corrected'!$B$10/L$10*'Historic - uncorrected'!K31) -> 0 | ... AM31: =IF('Historic - uncorrected'!AL31<0,"",'Historic - corrected'!$B$10/AM$10*'Historic - uncorrected'!AL31) -> 0 | AN31: =COUNTIF(C31:AM31,"<>0") -> 0
A32: Harlequin Duck | B32: =AVERAGE(E32:AM32) -> 0 | C32: 0 | D32: 0 | E32: =IF('Historic - uncorrected'!D32<0,"",'Historic - corrected'!$B$10/E$10*'Historic - uncorrected'!D32) -> 0 | F32: =IF('Historic - uncorrected'!E32<0,"",'Historic - corrected'!$B$10/F$10*'Historic - uncorrected'!E32) -> 0 | G32: =IF('Historic - uncorrected'!F32<0,"",'Historic - corrected'!$B$10/G$10*'Historic - uncorrected'!F32) -> 0 | H32: =IF('Historic - uncorrected'!G32<0,"",'Historic - corrected'!$B$10/H$10*'Historic - uncorrected'!G32) -> 0 | I32: =IF('Historic - uncorrected'!H32<0,"",'Historic - corrected'!$B$10/I$10*'Historic - uncorrected'!H32) -> 0 | J32: =IF('Historic - uncorrected'!I32<0,"",'Historic - corrected'!$B$10/J$10*'Historic - uncorrected'!I32) -> 0 | K32: =IF('Historic - uncorrected'!J32<0,"",'Historic - corrected'!$B$10/K$10*'Historic - uncorrected'!J32) -> 0 | L32: =IF('Historic - uncorrected'!K32<0,"",'Historic - corrected'!$B$10/L$10*'Historic - uncorrected'!K32) -> 0 | ... AM32: =IF('Historic - uncorrected'!AL32<0,"",'Historic - corrected'!$B$10/AM$10*'Historic - uncorrected'!AL32) -> 0 | AN32: =COUNTIF(C32:AM32,"<>0") -> 0
A33: White-winged Scoter | B33: =AVERAGE(E33:AM33) -> 0 | C33: 0 | D33: 0 | E33: =IF('Historic - uncorrected'!D33<0,"",'Historic - corrected'!$B$10/E$10*'Historic - uncorrected'!D33) -> 0 | F33: =IF('Historic - uncorrected'!E33<0,"",'Historic - corrected'!$B$10/F$10*'Historic - uncorrected'!E33) -> 0 | G33: =IF('Historic - uncorrected'!F33<0,"",'Historic - corrected'!$B$10/G$10*'Historic - uncorrected'!F33) -> 0 | H33: =IF('Historic - uncorrected'!G33<0,"",'Historic - corrected'!$B$10/H$10*'Historic - uncorrected'!G33) -> 0 | I33: =IF('Historic - uncorrected'!H33<0,"",'Historic - corrected'!$B$10/I$10*'Historic - uncorrected'!H33) -> 0 | J33: =IF('Historic - uncorrected'!I33<0,"",'Historic - corrected'!$B$10/J$10*'Historic - uncorrected'!I33) -> 0 | K33: =IF('Historic - uncorrected'!J33<0,"",'Historic - corrected'!$B$10/K$10*'Historic - uncorrected'!J33) -> 0 | L33: =IF('Historic - uncorrected'!K33<0,"",'Historic - corrected'!$B$10/L$10*'Historic - uncorrected'!K33) -> 0 | ... AM33: =IF('Historic - uncorrected'!AL33<0,"",'Historic - corrected'!$B$10/AM$10*'Historic - uncorrected'!AL33) -> 0 | AN33: =COUNTIF(C33:AM33,"<>0") -> 0
A34: Long-tailed Duck | B34: =AVERAGE(E34:AM34) -> 0 | C34: 0 | D34: 0 | E34: =IF('Historic - uncorrected'!D34<0,"",'Historic - corrected'!$B$10/E$10*'Historic - uncorrected'!D34) -> 0 | F34: =IF('Historic - uncorrected'!E34<0,"",'Historic - corrected'!$B$10/F$10*'Historic - uncorrected'!E34) -> 0 | G34: =IF('Historic - uncorrected'!F34<0,"",'Historic - corrected'!$B$10/G$10*'Historic - uncorrected'!F34) -> 0 | H34: =IF('Historic - uncorrected'!G34<0,"",'Historic - corrected'!$B$10/H$10*'Historic - uncorrected'!G34) -> 0 | I34: =IF('Historic - uncorrected'!H34<0,"",'Historic - corrected'!$B$10/I$10*'Historic - uncorrected'!H34) -> 0 | J34: =IF('Historic - uncorrected'!I34<0,"",'Historic - corrected'!$B$10/J$10*'Historic - uncorrected'!I34) -> 0 | K34: =IF('Historic - uncorrected'!J34<0,"",'Historic - corrected'!$B$10/K$10*'Historic - uncorrected'!J34) -> 0 | L34: =IF('Historic - uncorrected'!K34<0,"",'Historic - corrected'!$B$10/L$10*'Historic - uncorrected'!K34) -> 0 | ... AM34: =IF('Historic - uncorrected'!AL34<0,"",'Historic - corrected'!$B$10/AM$10*'Historic - uncorrected'!AL34) -> 0 | AN34: =COUNTIF(C34:AM34,"<>0") -> 0
A35: Bufflehead | B35: =AVERAGE(E35:AM35) -> 0.82116159 | C35: 0 | D35: 0 | E35: =IF('Historic - uncorrected'!D35<0,"",'Historic - corrected'!$B$10/E$10*'Historic - uncorrected'!D35) -> 0 | F35: =IF('Historic - uncorrected'!E35<0,"",'Historic - corrected'!$B$10/F$10*'Historic - uncorrected'!E35) -> 1.1448097 | G35: =IF('Historic - uncorrected'!F35<0,"",'Historic - corrected'!$B$10/G$10*'Historic - uncorrected'!F35) -> 27.595846 | H35: =IF('Historic - uncorrected'!G35<0,"",'Historic - corrected'!$B$10/H$10*'Historic - uncorrected'!G35) -> 0 | I35: =IF('Historic - uncorrected'!H35<0,"",'Historic - corrected'!$B$10/I$10*'Historic - uncorrected'!H35) -> 0 | J35: =IF('Historic - uncorrected'!I35<0,"",'Historic - corrected'!$B$10/J$10*'Historic - uncorrected'!I35) -> 0 | K35: =IF('Historic - uncorrected'!J35<0,"",'Historic - corrected'!$B$10/K$10*'Historic - uncorrected'!J35) -> 0 | L35: =IF('Historic - uncorrected'!K35<0,"",'Historic - corrected'!$B$10/L$10*'Historic - uncorrected'!K35) -> 0 | ... AM35: =IF('Historic - uncorrected'!AL35<0,"",'Historic - corrected'!$B$10/AM$10*'Historic - uncorrected'!AL35) -> 0 | AN35: =COUNTIF(C35:AM35,">0") -> 2
A36: Common Goldeneye | B36: =AVERAGE(E36:AM36) -> 41.833721 | C36: 0 | D36: 0 | E36: =IF('Historic - uncorrected'!D36<0,"",'Historic - corrected'!$B$10/E$10*'Historic - uncorrected'!D36) -> 38.477976 | F36: =IF('Historic - uncorrected'!E36<0,"",'Historic - corrected'!$B$10/F$10*'Historic - uncorrected'!E36) -> 80.136676 | G36: =IF('Historic - uncorrected'!F36<0,"",'Historic - corrected'!$B$10/G$10*'Historic - uncorrected'!F36) -> 212.88224 | H36: =IF('Historic - uncorrected'!G36<0,"",'Historic - corrected'!$B$10/H$10*'Historic - uncorrected'!G36) -> 41.032463 | I36: =IF('Historic - uncorrected'!H36<0,"",'Historic - corrected'!$B$10/I$10*'Historic - uncorrected'!H36) -> 9.5136419 | J36: =IF('Historic - uncorrected'!I36<0,"",'Historic - corrected'!$B$10/J$10*'Historic - uncorrected'!I36) -> 69.514073 | K36: =IF('Historic - uncorrected'!J36<0,"",'Historic - corrected'!$B$10/K$10*'Historic - uncorrected'!J36) -> 72.149139 | L36: =IF('Historic - uncorrected'!K36<0,"",'Historic - corrected'!$B$10/L$10*'Historic - uncorrected'!K36) -> 244.27879 | ... AM36: =IF('Historic - uncorrected'!AL36<0,"",'Historic - corrected'!$B$10/AM$10*'Historic - uncorrected'!AL36) -> 54.559599 | AN36: =COUNTIF(C36:AM36,">0") -> 31
A37: Barrow's Goldeneye | B37: =AVERAGE(E37:AM37) -> 0 | C37: 0 | D37: 0 | E37: =IF('Historic - uncorrected'!D37<0,"",'Historic - corrected'!$B$10/E$10*'Historic - uncorrected'!D37) -> 0 | F37: =IF('Historic - uncorrected'!E37<0,"",'Historic - corrected'!$B$10/F$10*'Historic - uncorrected'!E37) -> 0 | G37: =IF('Historic - uncorrected'!F37<0,"",'Historic - corrected'!$B$10/G$10*'Historic - uncorrected'!F37) -> 0 | H37: =IF('Historic - uncorrected'!G37<0,"",'Historic - corrected'!$B$10/H$10*'Historic - uncorrected'!G37) -> 0 | I37: =IF('Historic - uncorrected'!H37<0,"",'Historic - corrected'!$B$10/I$10*'Historic - uncorrected'!H37) -> 0 | J37: =IF('Historic - uncorrected'!I37<0,"",'Historic - corrected'!$B$10/J$10*'Historic - uncorrected'!I37) -> 0 | K37: =IF('Historic - uncorrected'!J37<0,"",'Historic - corrected'!$B$10/K$10*'Historic - uncorrected'!J37) -> 0 | L37: =IF('Historic - uncorrected'!K37<0,"",'Historic - corrected'!$B$10/L$10*'Historic - uncorrected'!K37) -> 0 | ... AM37: =IF('Historic - uncorrected'!AL37<0,"",'Historic - corrected'!$B$10/AM$10*'Historic - uncorrected'!AL37) -> 0 | AN37: =COUNTIF(C37:AM37,"<>0") -> 0
A38: Merganser sp. | B38: =AVERAGE(E38:AM38) -> 0 | C38: 0 | D38: 0 | E38: =IF('Historic - uncorrected'!D38<0,"",'Historic - corrected'!$B$10/E$10*'Historic - uncorrected'!D38) -> 0 | F38: =IF('Historic - uncorrected'!E38<0,"",'Historic - corrected'!$B$10/F$10*'Historic - uncorrected'!E38) -> 0 | G38: =IF('Historic - uncorrected'!F38<0,"",'Historic - corrected'!$B$10/G$10*'Historic - uncorrected'!F38) -> 0 | H38: =IF('Historic - uncorrected'!G38<0,"",'Historic - corrected'!$B$10/H$10*'Historic - uncorrected'!G38) -> 0 | I38: =IF('Historic - uncorrected'!H38<0,"",'Historic - corrected'!$B$10/I$10*'Historic - uncorrected'!H38) -> 0 | J38: =IF('Historic - uncorrected'!I38<0,"",'Historic - corrected'!$B$10/J$10*'Historic - uncorrected'!I38) -> 0 | K38: =IF('Historic - uncorrected'!J38<0,"",'Historic - corrected'!$B$10/K$10*'Historic - uncorrected'!J38) -> 0 | L38: =IF('Historic - uncorrected'!K38<0,"",'Historic - corrected'!$B$10/L$10*'Historic - uncorrected'!K38) -> 0 | ... AM38: =IF('Historic - uncorrected'!AL38<0,"",'Historic - corrected'!$B$10/AM$10*'Historic - uncorrected'!AL38) -> 0 | AN38: =COUNTIF(C38:AM38,"<>0") -> 0
A39: Hooded Merganser | B39: =AVERAGE(E39:AM39) -> 0 | C39: 0 | D39: 0 | E39: =IF('Historic - uncorrected'!D39<0,"",'Historic - corrected'!$B$10/E$10*'Historic - uncorrected'!D39) -> 0 | F39: =IF('Historic - uncorrected'!E39<0,"",'Historic - corrected'!$B$10/F$10*'Historic - uncorrected'!E39) -> 0 | G39: =IF('Historic - uncorrected'!F39<0,"",'Historic - corrected'!$B$10/G$10*'Historic - uncorrected'!F39) -> 0 | H39: =IF('Historic - uncorrected'!G39<0,"",'Historic - corrected'!$B$10/H$10*'Historic - uncorrected'!G39) -> 0 | I39: =IF('Historic - uncorrected'!H39<0,"",'Historic - corrected'!$B$10/I$10*'Historic - uncorrected'!H39) -> 0 | J39: =IF('Historic - uncorrected'!I39<0,"",'Historic - corrected'!$B$10/J$10*'Historic - uncorrected'!I39) -> 0 | K39: =IF('Historic - uncorrected'!J39<0,"",'Historic - corrected'!$B$10/K$10*'Historic - uncorrected'!J39) -> 0 | L39: =IF('Historic - uncorrected'!K39<0,"",'Historic - corrected'!$B$10/L$10*'Historic - uncorrected'!K39) -> 0 | ... AM39: =IF('Historic - uncorrected'!AL39<0,"",'Historic - corrected'!$B$10/AM$10*'Historic - uncorrected'!AL39) -> 0 | AN39: =COUNTIF(C39:AM39,"<>0") -> 0
A40: Common Merganser | B40: =AVERAGE(E40:AM40) -> 0.19341066 | C40: 0 | D40: 0 | E40: =IF('Historic - uncorrected'!D40<0,"",'Historic - corrected'!$B$10/E$10*'Historic - uncorrected'!D40) -> 0 | F40: =IF('Historic - uncorrected'!E40<0,"",'Historic - corrected'!$B$10/F$10*'Historic - uncorrected'!E40) -> 0 | G40: =IF('Historic - uncorrected'!F40<0,"",'Historic - corrected'!$B$10/G$10*'Historic - uncorrected'!F40) -> 1.9711319 | H40: =IF('Historic - uncorrected'!G40<0,"",'Historic - corrected'!$B$10/H$10*'Historic - uncorrected'!G40) -> 0 | I40: =IF('Historic - uncorrected'!H40<0,"",'Historic - corrected'!$B$10/I$10*'Historic - uncorrected'!H40) -> 0 | J40: =IF('Historic - uncorrected'!I40<0,"",'Historic - corrected'!$B$10/J$10*'Historic - uncorrected'!I40) -> 0 | K40: =IF('Historic - uncorrected'!J40<0,"",'Historic - corrected'!$B$10/K$10*'Historic - uncorrected'!J40) -> 0 | L40: =IF('Historic - uncorrected'!K40<0,"",'Historic - corrected'!$B$10/L$10*'Historic - uncorrected'!K40) -> 3.0282494 | ... AM40: =IF('Historic - uncorrected'!AL40<0,"",'Historic - corrected'!$B$10/AM$10*'Historic - uncorrected'!AL40) -> 0 | AN40: =COUNTIF(C40:AM40,">0") -> 4
A41: Red-breasted Merganser | B41: =AVERAGE(E41:AM41) -> 0 | C41: 0 | D41: 0 | E41: =IF('Historic - uncorrected'!D41<0,"",'Historic - corrected'!$B$10/E$10*'Historic - uncorrected'!D41) -> 0 | F41: =IF('Historic - uncorrected'!E41<0,"",'Historic - corrected'!$B$10/F$10*'Historic - uncorrected'!E41) -> 0 | G41: =IF('Historic - uncorrected'!F41<0,"",'Historic - corrected'!$B$10/G$10*'Historic - uncorrected'!F41) -> 0 | H41: =IF('Historic - uncorrected'!G41<0,"",'Historic - corrected'!$B$10/H$10*'Historic - uncorrected'!G41) -> 0 | I41: =IF('Historic - uncorrected'!H41<0,"",'Historic - corrected'!$B$10/I$10*'Historic - uncorrected'!H41) -> 0 | J41: =IF('Historic - uncorrected'!I41<0,"",'Historic - corrected'!$B$10/J$10*'Historic - uncorrected'!I41) -> 0 | K41: =IF('Historic - uncorrected'!J41<0,"",'Historic - corrected'!$B$10/K$10*'Historic - uncorrected'!J41) -> 0 | L41: =IF('Historic - uncorrected'!K41<0,"",'Historic - corrected'!$B$10/L$10*'Historic - uncorrected'!K41) -> 0 | ... AM41: =IF('Historic - uncorrected'!AL41<0,"",'Historic - corrected'!$B$10/AM$10*'Historic - uncorrected'!AL41) -> 0 | AN41: =COUNTIF(C41:AM41,"<>0") -> 0
A42: Ruffed Grouse | B42: =AVERAGE(E42:AM42) -> 0.054859893 | C42: 0 | D42: 0 | E42: =IF('Historic - uncorrected'!D42<0,"",'Historic - corrected'!$B$10/E$10*'Historic - uncorrected'!D42) -> 0 | F42: =IF('Historic - uncorrected'!E42<0,"",'Historic - corrected'!$B$10/F$10*'Historic - uncorrected'!E42) -> 0 | G42: =IF('Historic - uncorrected'!F42<0,"",'Historic - corrected'!$B$10/G$10*'Historic - uncorrected'!F42) -> 0 | H42: =IF('Historic - uncorrected'!G42<0,"",'Historic - corrected'!$B$10/H$10*'Historic - uncorrected'!G42) -> 0 | I42: =IF('Historic - uncorrected'!H42<0,"",'Historic - corrected'!$B$10/I$10*'Historic - uncorrected'!H42) -> 0 | J42: =IF('Historic - uncorrected'!I42<0,"",'Historic - corrected'!$B$10/J$10*'Historic - uncorrected'!I42) -> 0 | K42: =IF('Historic - uncorrected'!J42<0,"",'Historic - corrected'!$B$10/K$10*'Historic - uncorrected'!J42) -> 0 | L42: =IF('Historic - uncorrected'!K42<0,"",'Historic - corrected'!$B$10/L$10*'Historic - uncorrected'!K42) -> 0 | ... AM42: =IF('Historic - uncorrected'!AL42<0,"",'Historic - corrected'!$B$10/AM$10*'Historic - uncorrected'!AL42) -> 0 | AN42: =COUNTIF(C42:AM42,">0") -> 2
A43: Sharp-tailed Grouse | B43: =AVERAGE(E43:AM43) -> 34.691481 | C43: 0 | D43: 0 | E43: =IF('Historic - uncorrected'!D43<0,"",'Historic - corrected'!$B$10/E$10*'Historic - uncorrected'!D43) -> 75.943373 | F43: =IF('Historic - uncorrected'!E43<0,"",'Historic - corrected'!$B$10/F$10*'Historic - uncorrected'!E43) -> 101.88806 | G43: =IF('Historic - uncorrected'!F43<0,"",'Historic - corrected'!$B$10/G$10*'Historic - uncorrected'!F43) -> 34.494808 | H43: =IF('Historic - uncorrected'!G43<0,"",'Historic - corrected'!$B$10/H$10*'Historic - uncorrected'!G43) -> 36.713257 | I43: =IF('Historic - uncorrected'!H43<0,"",'Historic - corrected'!$B$10/I$10*'Historic - uncorrected'!H43) -> 53.910638 | J43: =IF('Historic - uncorrected'!I43<0,"",'Historic - corrected'!$B$10/J$10*'Historic - uncorrected'!I43) -> 87.648179 | K43: =IF('Historic - uncorrected'!J43<0,"",'Historic - corrected'!$B$10/K$10*'Historic - uncorrected'!J43) -> 60.905118 | L43: =IF('Historic - uncorrected'!K43<0,"",'Historic - corrected'!$B$10/L$10*'Historic - uncorrected'!K43) -> 48.451991 | ... AM43: =IF('Historic - uncorrected'!AL43<0,"",'Historic - corrected'!$B$10/AM$10*'Historic - uncorrected'!AL43) -> 54.559599 | AN43: =COUNTIF(C43:AM43,">0") -> 34
A44: Gray Partridge | B44: =AVERAGE(E44:AM44) -> 96.124553 | C44: 0 | D44: 0 | E44: =IF('Historic - uncorrected'!D44<0,"",'Historic - corrected'!$B$10/E$10*'Historic - uncorrected'!D44) -> 391.86781 | F44: =IF('Historic - uncorrected'!E44<0,"",'Historic - corrected'!$B$10/F$10*'Historic - uncorrected'!E44) -> 1050.9353 | G44: =IF('Historic - uncorrected'!F44<0,"",'Historic - corrected'!$B$10/G$10*'Historic - uncorrected'!F44) -> 76.874143 | H44: =IF('Historic - uncorrected'!G44<0,"",'Historic - corrected'!$B$10/H$10*'Historic - uncorrected'!G44) -> 209.48152 | I44: =IF('Historic - uncorrected'!H44<0,"",'Historic - corrected'!$B$10/I$10*'Historic - uncorrected'!H44) -> 25.369712 | J44: =IF('Historic - uncorrected'!I44<0,"",'Historic - corrected'!$B$10/J$10*'Historic - uncorrected'!I44) -> 1.0074503 | K44: =IF('Historic - uncorrected'!J44<0,"",'Historic - corrected'!$B$10/K$10*'Historic - uncorrected'!J44) -> 54.346105 | L44: =IF('Historic - uncorrected'!K44<0,"",'Historic - corrected'!$B$10/L$10*'Historic - uncorrected'!K44) -> 94.885148 | ... AM44: =IF('Historic - uncorrected'!AL44<0,"",'Historic - corrected'!$B$10/AM$10*'Historic - uncorrected'!AL44) -> 111.30158 | AN44: =COUNTIF(C44:AM44,">0") -> 35
A45: Ring-necked Pheasant | B45: =AVERAGE(E45:AM45) -> 0 | C45: 0 | D45: 0 | E45: =IF('Historic - uncorrected'!D45<0,"",'Historic - corrected'!$B$10/E$10*'Historic - uncorrected'!D45) -> 0 | F45: =IF('Historic - uncorrected'!E45<0,"",'Historic - corrected'!$B$10/F$10*'Historic - uncorrected'!E45) -> 0 | G45: =IF('Historic - uncorrected'!F45<0,"",'Historic - corrected'!$B$10/G$10*'Historic - uncorrected'!F45) -> 0 | H45: =IF('Historic - uncorrected'!G45<0,"",'Historic - corrected'!$B$10/H$10*'Historic - uncorrected'!G45) -> 0 | I45: =IF('Historic - uncorrected'!H45<0,"",'Historic - corrected'!$B$10/I$10*'Historic - uncorrected'!H45) -> 0 | J45: =IF('Historic - uncorrected'!I45<0,"",'Historic - corrected'!$B$10/J$10*'Historic - uncorrected'!I45) -> 0 | K45: =IF('Historic - uncorrected'!J45<0,"",'Historic - corrected'!$B$10/K$10*'Historic - uncorrected'!J45) -> 0 | L45: =IF('Historic - uncorrected'!K45<0,"",'Historic - corrected'!$B$10/L$10*'Historic - uncorrected'!K45) -> 0 | ... AM45: =IF('Historic - uncorrected'!AL45<0,"",'Historic - corrected'!$B$10/AM$10*'Historic - uncorrected'!AL45) -> 0 | AN45: =COUNTIF(C45:AM45,"<>0") -> 0
A46: Chukar | B46: =AVERAGE(E46:AM46) -> 0.030036295 | C46: 0 | D46: 0 | E46: =IF('Historic - uncorrected'!D46<0,"",'Historic - corrected'!$B$10/E$10*'Historic - uncorrected'!D46) -> 0 | F46: =IF('Historic - uncorrected'!E46<0,"",'Historic - corrected'!$B$10/F$10*'Historic - uncorrected'!E46) -> 0 | G46: =IF('Historic - uncorrected'!F46<0,"",'Historic - corrected'!$B$10/G$10*'Historic - uncorrected'!F46) -> 0 | H46: =IF('Historic - uncorrected'!G46<0,"",'Historic - corrected'!$B$10/H$10*'Historic - uncorrected'!G46) -> 0 | I46: =IF('Historic - uncorrected'!H46<0,"",'Historic - corrected'!$B$10/I$10*'Historic - uncorrected'!H46) -> 0 | J46: =IF('Historic - uncorrected'!I46<0,"",'Historic - corrected'!$B$10/J$10*'Historic - uncorrected'!I46) -> 0 | K46: =IF('Historic - uncorrected'!J46<0,"",'Historic - corrected'!$B$10/K$10*'Historic - uncorrected'!J46) -> 0 | L46: =IF('Historic - uncorrected'!K46<0,"",'Historic - corrected'!$B$10/L$10*'Historic - uncorrected'!K46) -> 0 | ... AM46: =IF('Historic - uncorrected'!AL46<0,"",'Historic - corrected'!$B$10/AM$10*'Historic - uncorrected'!AL46) -> 0 | AN46: =COUNTIF(C46:AM46,">0") -> 1
A47: Horned Grebe | B47: =AVERAGE(E47:AM47) -> 0 | C47: 0 | D47: 0 | E47: =IF('Historic - uncorrected'!D47<0,"",'Historic - corrected'!$B$10/E$10*'Historic - uncorrected'!D47) -> 0 | F47: =IF('Historic - uncorrected'!E47<0,"",'Historic - corrected'!$B$10/F$10*'Historic - uncorrected'!E47) -> 0 | G47: =IF('Historic - uncorrected'!F47<0,"",'Historic - corrected'!$B$10/G$10*'Historic - uncorrected'!F47) -> 0 | H47: =IF('Historic - uncorrected'!G47<0,"",'Historic - corrected'!$B$10/H$10*'Historic - uncorrected'!G47) -> 0 | I47: =IF('Historic - uncorrected'!H47<0,"",'Historic - corrected'!$B$10/I$10*'Historic - uncorrected'!H47) -> 0 | J47: =IF('Historic - uncorrected'!I47<0,"",'Historic - corrected'!$B$10/J$10*'Historic - uncorrected'!I47) -> 0 | K47: =IF('Historic - uncorrected'!J47<0,"",'Historic - corrected'!$B$10/K$10*'Historic - uncorrected'!J47) -> 0 | L47: =IF('Historic - uncorrected'!K47<0,"",'Historic - corrected'!$B$10/L$10*'Historic - uncorrected'!K47) -> 0 | ... AM47: =IF('Historic - uncorrected'!AL47<0,"",'Historic - corrected'!$B$10/AM$10*'Historic - uncorrected'!AL47) -> 0 | AN47: =COUNTIF(C47:AM47,"<>0") -> 0
...

Sheet Historic - uncorrected
A1: Clark's Crossing Christmas Bird Counts, 1991/92 - 2025/26 (uncorrected) | AG1: Page 2 of 2
A6: Count Date | D6: 12/20 2025 | E6: 12/14 2024 | F6: 12/16 2023 | G6: 12/17 2022 | H6: 12/18 2021 | I6: 12/19 2020 | J6: 12/21 2019 | K6: 12/15 2018 | L6: 12/16 2017 | M6: 12/17 2016 | N6: 12/19 2015 | O6: 12/20 2014 | P6: 12/14 2013 | Q6: 12/15 2012 | R6: 12/17 2011 | S6: 18/12 2010 | T6: 19/12 2009 | U6: 12/20 2008 | V6: 12/15 2007 | W6: 12/16 2006 | X6: 12/17 2005 | Y6: 12/18 2004 | Z6: 12/20 2003 | AA6: 12/14 2002 | AB6: 12/15 2001 | AC6: 12/16 2000 | AD6: 12/18 1999 | AE6: 12/19 1998 | AF6: 12/20 1997 | AG6: 12/21 1996 | AH6: 12/16 1995 | AI6: 12/17 1994 | AJ6: 1993 | AK6: 1992 | AL6: 1991
A8: Total Species - count day | D8: 27 | E8: 31 | F8: 31 | G8: 30 | H8: 27 | I8: 27 | J8: 29 | K8: 26 | L8: 30 | M8: 36 | N8: 29 | O8: 34 | P8: 26 | Q8: 28 | R8: 31 | S8: 29 | T8: 30 | U8: 32 | V8: 27 | W8: 28 | X8: 23 | Y8: 23 | Z8: 27 | AA8: 26 | AB8: 27 | AC8: 33 | AD8: 24 | AE8: 26 | AF8: 26 | AG8: 27 | AH8: 21 | AI8: 24 | AJ8: 19 | AK8: 24 | AL8: 17
A9: Total Species - count period | D9: 0 | E9: 1 | G9: 0 | H9: 2 | I9: 2 | J9: 4 | K9: 1 | L9: 1 | M9: 0 | N9: 0 | O9: 0 | P9: 0 | Q9: 1 | R9: 0 | S9: 0 | T9: 0 | U9: 0 | V9: 0 | W9: 1 | X9: 0 | Y9: 1 | Z9: 0 | AA9: 0 | AB9: 0 | AC9: 1 | AD9: 0 | AE9: 2 | AF9: 0 | AG9: 0 | AH9: 0 | AI9: 0 | AJ9: 1 | AK9: 0 | AL9: 0
A10: Party Hours | D10: 42.566667 | E10: 37.65 | F10: 43.733333 | G10: 39.916667 | H10: 54.366667 | I10: 42.783333 | J10: 46 | K10: 42.7 | L10: 40.3 | M10: 44.5 | N10: 45 | O10: 45.6 | P10: 48.5 | Q10: 48.1 | R10: 45 | S10: 43.7 | T10: 47.7 | U10: 37.9 | V10: 44.5 | W10: 34.1 | X10: 44.25 | Y10: 46.4 | Z10: 46.7 | AA10: 48.7 | AB10: 55 | AC10: 45 | AD10: 39 | AE10: 47.5 | AF10: 45.4 | AG10: 34.2 | AH10: 39.5 | AI10: 44.5 | AJ10: 41 | AK10: 31.7 | AL10: 19.75
A11: Participants | D11: 18 | E11: 18 | F11: 19 | G11: 28 | H11: 28 | I11: 25 | J11: 31 | K11: 29 | L11: 24 | M11: 25 | N11: 20 | O11: 18 | P11: 22 | Q11: 28 | R11: 24 | S11: 25 | T11: 28 | U11: 23 | V11: 28 | W11: 25 | X11: 28 | Y11: 32 | Z11: 23 | AA11: 29 | AB11: 27 | AC11: 20 | AD11: 25 | AE11: 29 | AF11: 22 | AG11: 18 | AH11: 27 | AI11: 23 | AJ11: 22 | AK11: 14 | AL11: 10
AM13: Filter blank rows
A14: BIRDS
A15: Snow Goose | B15: 0 | C15: 0 | D15: 0 | E15: 0 | F15: 0 | G15: 0 | H15: 0 | I15: 0 | J15: 0 | K15: 0 | L15: 0 | M15: 0 | N15: 0 | O15: 0 | P15: 0 | Q15: 0 | R15: 0 | S15: 0 | T15: 0 | U15: 0 | V15: 0 | W15: 0 | X15: 0 | Y15: 0 | Z15: 0 | AA15: 0 | AB15: 0 | AC15: 0 | AD15: 0 | AE15: 0 | AF15: 0 | AG15: 0 | AH15: 0 | AI15: 0 | AJ15: 0 | AK15: 0 | AL15: 0 | AM15: =COUNTIF(B15:AL15,"<>0") -> 0
A16: Greater White-fronted Goose | B16: 0 | C16: 0 | D16: 0 | E16: 0 | F16: 0 | G16: 0 | H16: 0 | I16: 0 | J16: 0 | K16: 0 | L16: 0 | M16: 0 | N16: 0 | O16: 0 | P16: 0 | Q16: 0 | R16: 0 | S16: 0 | T16: 0 | U16: 0 | V16: 0 | W16: 0 | X16: 0 | Y16: 0 | Z16: 0 | AA16: 0 | AB16: 0 | AC16: 0 | AD16: 0 | AE16: 0 | AF16: 0 | AG16: 0 | AH16: 0 | AI16: 0 | AJ16: 0 | AK16: 0 | AL16: 0 | AM16: =COUNTIF(B16:AL16,"<>0") -> 0
A17: Cackling Goose | B17: 0 | C17: 0 | D17: 0 | E17: 0 | F17: 12 | G17: 0 | H17: 0 | I17: 0 | J17: 0 | K17: 0 | L17: 0 | M17: 0 | N17: 0 | O17: 0 | P17: 0 | Q17: 0 | R17: 0 | S17: 0 | T17: 1 | U17: 0 | V17: 0 | W17: 0 | X17: 0 | Y17: 0 | Z17: 0 | AA17: 0 | AB17: 0 | AC17: 0 | AD17: 0 | AE17: 0 | AF17: 0 | AG17: 0 | AH17: 0 | AI17: 0 | AJ17: 0 | AK17: 0 | AL17: 0 | AM17: =COUNTIF(B17:AL17,"<>0") -> 2
A18: Canada Goose | B18: 0 | C18: 0 | D18: 0 | E18: 0 | F18: 2063 | G18: 0 | H18: -25 | I18: 1 | J18: 6 | K18: 483 | L18: 35 | M18: 544 | N18: 92 | O18: 24 | P18: 1 | Q18: 0 | R18: 75 | S18: 36 | T18: 87 | U18: 0 | V18: 0 | W18: 19 | X18: 131 | Y18: 1361 | Z18: 493 | AA18: 1391 | AB18: 31 | AC18: 0 | AD18: 115 | AE18: 125 | AF18: 36 | AG18: 0 | AH18: 1 | AI18: 0 | AJ18: 0 | AK18: 0 | AL18: 0 | AM18: =COUNTIF(B18:AL18,"<>0") -> 23
A19: Tundra Swan | B19: 0 | C19: 0 | D19: 0 | E19: 0 | F19: 0 | G19: 0 | H19: 0 | I19: 0 | J19: 0 | K19: 0 | L19: 0 | M19: 0 | N19: 0 | O19: 0 | P19: 0 | Q19: 0 | R19: 0 | S19: 0 | T19: 0 | U19: 0 | V19: 0 | W19: 0 | X19: 0 | Y19: 0 | Z19: 0 | AA19: 0 | AB19: 0 | AC19: 0 | AD19: 0 | AE19: 0 | AF19: 0 | AG19: 0 | AH19: 0 | AI19: 0 | AJ19: 0 | AK19: 0 | AL19: 0 | AM19: =COUNTIF(B19:AL19,"<>0") -> 0
A20: Duck sp. | B20: 0 | C20: 0 | D20: 0 | E20: 0 | F20: 300 | G20: 0 | H20: 0 | I20: 0 | J20: 0 | K20: 0 | L20: 0 | M20: 0 | N20: 0 | O20: 0 | P20: 0 | Q20: 0 | R20: 0 | S20: 0 | T20: 0 | U20: 0 | V20: 0 | W20: 0 | X20: 0 | Y20: 0 | Z20: 0 | AA20: 0 | AB20: 0 | AC20: 0 | AD20: 0 | AE20: 0 | AF20: 0 | AG20: 0 | AH20: 0 | AI20: 0 | AJ20: 0 | AK20: 0 | AL20: 0 | AM20: =COUNTIF(B20:AL20,"<>0") -> 1
A21: Northern Shoveler | B21: 0 | C21: 0 | D21: 0 | E21: 0 | F21: 0 | G21: 0 | H21: 0 | I21: 0 | J21: 0 | K21: 0 | L21: 0 | M21: 0 | N21: 0 | O21: 0 | P21: 0 | Q21: 0 | R21: 0 | S21: 0 | T21: 0 | U21: 0 | V21: 0 | W21: 0 | X21: 0 | Y21: 0 | Z21: 0 | AA21: 0 | AB21: 0 | AC21: 0 | AD21: 0 | AE21: 0 | AF21: 0 | AG21: 0 | AH21: 0 | AI21: 0 | AJ21: 0 | AK21: 0 | AL21: 0 | AM21: =COUNTIF(B21:AL21,"<>0") -> 0
A22: Gadwall | B22: 0 | C22: 0 | D22: 0 | E22: 0 | F22: 0 | G22: 0 | H22: 0 | I22: 0 | J22: 0 | K22: 0 | L22: 0 | M22: 0 | N22: 0 | O22: 0 | P22: 0 | Q22: 0 | R22: 0 | S22: 0 | T22: 0 | U22: 0 | V22: 0 | W22: 0 | X22: 0 | Y22: 0 | Z22: 0 | AA22: 0 | AB22: 0 | AC22: 0 | AD22: 0 | AE22: 0 | AF22: 0 | AG22: 0 | AH22: 0 | AI22: 0 | AJ22: 0 | AK22: 0 | AL22: 0 | AM22: =COUNTIF(B22:AL22,"<>0") -> 0
A23: American Wigeon | B23: 0 | C23: 0 | D23: 0 | E23: 0 | F23: 0 | G23: 0 | H23: 0 | I23: 0 | J23: 0 | K23: 0 | L23: 0 | M23: 0 | N23: 0 | O23: 0 | P23: 0 | Q23: 0 | R23: 0 | S23: 0 | T23: 0 | U23: 0 | V23: 0 | W23: 0 | X23: 0 | Y23: 0 | Z23: 0 | AA23: 0 | AB23: 0 | AC23: 0 | AD23: 0 | AE23: 0 | AF23: 0 | AG23: 0 | AH23: 0 | AI23: 0 | AJ23: 0 | AK23: 0 | AL23: 0 | AM23: =COUNTIF(B23:AL23,"<>0") -> 0
A24: Mallard | B24: 0 | C24: 0 | D24: 0 | E24: 0 | F24: 90 | G24: 0 | H24: 5 | I24: 0 | J24: 0 | K24: 2 | L24: 0 | M24: 1 | N24: 0 | O24: 0 | P24: 0 | Q24: 4 | R24: 2 | S24: 0 | T24: 0 | U24: 0 | V24: 0 | W24: 0 | X24: 0 | Y24: 0 | Z24: 0 | AA24: 18 | AB24: 3 | AC24: 0 | AD24: 1 | AE24: 0 | AF24: 1 | AG24: 0 | AH24: 0 | AI24: 0 | AJ24: 0 | AK24: 0 | AL24: 0 | AM24: =COUNTIF(B24:AL24,"<>0") -> 10
A25: Northern Pintail | B25: 0 | C25: 0 | D25: 0 | E25: 0 | F25: 0 | G25: 0 | H25: 0 | I25: 0 | J25: 0 | K25: 0 | L25: 0 | M25: 0 | N25: 0 | O25: 0 | P25: 0 | Q25: 0 | R25: 0 | S25: 0 | T25: 0 | U25: 0 | V25: 0 | W25: 0 | X25: 0 | Y25: 0 | Z25: 0 | AA25: 0 | AB25: 0 | AC25: 0 | AD25: 0 | AE25: 0 | AF25: 0 | AG25: 0 | AH25: 0 | AI25: 0 | AJ25: 0 | AK25: 0 | AL25: 0 | AM25: =COUNTIF(B25:AL25,"<>0") -> 0
A26: Green-winged Teal | B26: 0 | C26: 0 | D26: 0 | E26: 0 | F26: 0 | G26: 0 | H26: 0 | I26: 0 | J26: 0 | K26: 0 | L26: 0 | M26: 0 | N26: 0 | O26: 0 | P26: 0 | Q26: 0 | R26: 0 | S26: 0 | T26: 0 | U26: 0 | V26: 0 | W26: 0 | X26: 0 | Y26: 0 | Z26: 0 | AA26: 0 | AB26: 0 | AC26: 0 | AD26: 0 | AE26: 0 | AF26: 0 | AG26: 0 | AH26: 0 | AI26: 0 | AJ26: 0 | AK26: 0 | AL26: 0 | AM26: =COUNTIF(B26:AL26,"<>0") -> 0
... A76: Short-eared Owl | B76: 0 | C76: 0 | D76: 0 | E76: 1 | F76: 0 | G76: 0 | H76: 0 | I76: 0 | J76: 0 | K76: 0 | L76: 0 | M76: 0 | N76: 0 | O76: 0 | P76: 0 | Q76: 0 | R76: 2 | S76: 0 | T76: 0 | U76: 0 | V76: 1 | W76: 0 | X76: 0 | Y76: 1 | Z76: 0 | AA76: 0 | AB76: 0 | AC76: 0 | AD76: 0 | AE76: 0 | AF76: 0 | AG76: 0 | AH76: 0 | AI76: 0 | AJ76: 0 | AK76: 0 | AL76: 0 | AM76: =COUNTIF(B76:AL76,"<>0") -> 4
A77: Boreal Owl | B77: 0 | C77: 0 | E77: -1 | F77: 0 | G77: 0 | H77: 0 | I77: 0 | J77: 0 | K77: 0 | L77: 0 | M77: 0 | N77: 0 | O77: 0 | P77: 0 | Q77: 0 | R77: 0 | S77: 0 | T77: 0 | U77: 0 | V77: 0 | W77: 0 | X77: 0 | Y77: 0 | Z77: 0 | AA77: 0 | AB77: 0 | AC77: 0 | AD77: 0 | AE77: 0 | AF77: 0 | AG77: 0 | AH77: 0 | AI77: 0 | AJ77: 0 | AK77: 0 | AL77: 0 | AM77: =COUNTIF(B77:AL77,"<>0") -> 2
A78: Northern Saw-whet Owl | B78: 0 | C78: 0 | D78: 0 | E78: 0 | F78: 0 | G78: 0 | H78: 0 | I78: 0 | J78: 0 | K78: 0 | L78: 0 | M78: 0 | N78: 0 | O78: 0 | P78: 0 | Q78: 0 | R78: 0 | S78: 0 | T78: 0 | U78: 0 | V78: -1 | W78: 0 | X78: 0 | Y78: 0 | Z78: 0 | AA78: 0 | AB78: 0 | AC78: 0 | AD78: 0 | AE78: 0 | AF78: 0 | AG78: 0 | AH78: 0 | AI78: 0 | AJ78: 0 | AK78: 0 | AL78: 0 | AM78: =COUNTIF(B78:AL78,"<>0") -> 1
A79: Belted Kingfisher | B79: 0 | C79: 0 | D79: 0 | E79: 0 | F79: 0 | G79: 0 | H79: 0 | I79: 0 | J79: 0 | K79: 0 | L79: 0 | M79: 0 | N79: 0 | O79: 0 | P79: 0 | Q79: 0 | R79: 0 | S79: 0 | T79: 0 | U79: 0 | V79: 0 | W79: 0 | X79: 0 | Y79: 0 | Z79: 0 | AA79: 0 | AB79: 0 | AC79: 0 | AD79: 0 | AE79: 0 | AF79: 0 | AG79: 0 | AH79: 0 | AI79: 0 | AJ79: 0 | AK79: 0 | AL79: 0 | AM79: =COUNTIF(B79:AL79,"<>0") -> 0
A80: Woodpecker sp. | B80: 0 | C80: 0 | D80: 0 | E80: 0 | F80: 0 | G80: 3 | H80: 0 | I80: 0 | J80: 0 | K80: 0 | L80: 0 | M80: 0 | N80: 0 | O80: 0 | P80: 0 | Q80: 0 | R80: 1 | S80: 0 | T80: 0 | U80: 0 | V80: 0 | W80: 0 | X80: 0 | Y80: 0 | Z80: 1 | AA80: 1 | AB80: 2 | AC80: 1 | AD80: 0 | AE80: 0 | AF80: 1 | AG80: 0 | AH80: 0 | AI80: 0 | AJ80: 0 | AK80: 0 | AL80: 1 | AM80: =COUNTIF(B80:AL80,"<>0") -> 8
A81: Yellow-bellied Sapsucker | B81: 0 | C81: 0 | D81: 0 | E81: 0 | F81: 0 | G81: 0 | H81: 0 | I81: 0 | J81: 0 | K81: 0 | L81: 0 | M81: 0 | N81: 0 | O81: 0 | P81: 0 | Q81: 0 | R81: 0 | S81: 0 | T81: 0 | U81: 0 | V81: 0 | W81: 0 | X81: 0 | Y81: 0 | Z81: 0 | AA81: 0 | AB81: 0 | AC81: 0 | AD81: 0 | AE81: 0 | AF81: 0 | AG81: 0 | AH81: 0 | AI81: 0 | AJ81: 0 | AK81: 0 | AL81: 0 | AM81: =COUNTIF(B81:AL81,"<>0") -> 0
A82: Picoides sp. | B82: 0 | C82: 0 | D82: 0 | E82: 0 | F82: 0 | G82: 0 | H82: 0 | I82: 0 | J82: 0 | K82: 0 | L82: 0 | M82: 0 | N82: 0 | O82: 0 | P82: 0 | Q82: 0 | R82: 0 | S82: 0 | T82: 0 | U82: 0 | V82: 0 | W82: 0 | X82: 0 | Y82: 0 | Z82: 0 | AA82: 0 | AB82: 0 | AC82: 0 | AD82: 0 | AE82: 0 | AF82: 0 | AG82: 0 | AH82: 0 | AI82: 0 | AJ82: 0 | AK82: 0 | AL82: 0 | AM82: =COUNTIF(B82:AL82,"<>0") -> 0
A83: American Three-toed Woodpecker | B83: 0 | C83: 0 | D83: 0 | E83: 0 | F83: 0 | G83: 0 | H83: 0 | I83: 0 | J83: 0 | K83: 0 | L83: 0 | M83: 0 | N83: 0 | O83: 0 | P83: 0 | Q83: 0 | R83: 0 | S83: 0 | T83: 0 | U83: 0 | V83: 0 | W83: 0 | X83: 0 | Y83: 0 | Z83: 0 | AA83: 0 | AB83: 0 | AC83: 0 | AD83: 0 | AE83: 0 | AF83: 0 | AG83: 0 | AH83: 0 | AI83: 0 | AJ83: 0 | AK83: 0 | AL83: 0 | AM83: =COUNTIF(B83:AL83,"<>0") -> 0
A84: Black-backed Woodpecker | B84: 0 | C84: 0 | D84: 0 | E84: 0 | F84: 0 | G84: 0 | H84: 0 | I84: 0 | J84: 0 | K84: 0 | L84: 0 | M84: 0 | N84: 0 | O84: 0 | P84: 0 | Q84: 0 | R84: 0 | S84: 0 | T84: 0 | U84: 0 | V84: 0 | W84: 0 | X84: 0 | Y84: 0 | Z84: 0 | AA84: 0 | AB84: 0 | AC84: 0 | AD84: 0 | AE84: 0 | AF84: 0 | AG84: 0 | AH84: 0 | AI84: 0 | AJ84: 0 | AK84: 0 | AL84: 0 | AM84: =COUNTIF(B84:AL84,"<>0") -> 0
A85: Downy Woodpecker | B85: 0 | C85: 0 | D85: 21 | E85: 17 | F85: 10 | G85: 14 | H85: 21 | I85: 7 | J85: 15 | K85: 17 | L85: 15 | M85: 15 | N85: 1 | O85: 1 | P85: 18 | Q85: 26 | R85: 6 | S85: 2 | T85: 9 | U85: 5 | V85: 7 | W85: 14 | X85: 13 | Y85: 3 | Z85: 4 | AA85: 7 | AB85: 9 | AC85: 6 | AD85: 5 | AE85: 6 | AF85: 5 | AG85: 4 | AH85: 3 | AI85: 3 | AJ85: 2 | AK85: 0 | AL85: 1 | AM85: =COUNTIF(B85:AL85,"<>0") -> 34
A86: Hairy Woodpecker | B86: 0 | C86: 0 | D86: 10 | E86: 8 | F86: 10 | G86: 15 | H86: 1 | I86: 9 | J86: 15 | K86: 15 | L86: 1 | M86: 14 | N86: 7 | O86: 8 | P86: 11 | Q86: 8 | R86: 1 | S86: 11 | T86: 13 | U86: 8 | V86: 8 | W86: 13 | X86: 17 | Y86: 1 | Z86: 7 | AA86: 11 | AB86: 5 | AC86: 11 | AD86: 13 | AE86: 9 | AF86: 3 | AG86: 6 | AH86: 6 | AI86: 4 | AJ86: 4 | AK86: 2 | AL86: 0 | AM86: =COUNTIF(B86:AL86,"<>0") -> 34
A87: Pileated Woodpecker | B87: 0 | C87: 0 | D87: 0 | E87: 0 | F87: 0 | G87: 1 | H87: 0 | I87: 0 | J87: 0 | K87: 0 | L87: 0 | M87: 0 | N87: 0 | O87: 0 | P87: 1 | Q87: 0 | R87: 0 | S87: 0 | T87: 0 | U87: 0 | V87: 1 | W87: 0 | X87: 0 | Y87: 0 | Z87: 0 | AA87: 0 | AB87: 0 | AC87: 0 | AD87: 0 | AE87: 0 | AF87: 0 | AG87: 0 | AH87: 0 | AI87: 0 | AJ87: 0 | AK87: 0 | AL87: 0 | AM87: =COUNTIF(B87:AL87,"<>0") -> 3
A88: Northern Flicker | B88: 0 | C88: 0 | D88: 0 | E88: 0 | F88: 1 | G88: 0 | H88: 0 | I88: 0 | J88: 0 | K88: 1 | L88: 1 | M88: 0 | N88: 2 | O88: 0 | P88: 0 | Q88: 1 | R88: 3 | S88: 1 | T88: 3 | U88: 0 | V88: 0 | W88: 0 | X88: 0 | Y88: 0 | Z88: 1 | AA88: 3 | AB88: 2 | AC88: 0 | AD88: 0 | AE88: 0 | AF88: 1 | AG88: 0 | AH88: 0 | AI88: 0 | AJ88: 0 | AK88: 0 | AL88: 0 | AM88: =COUNTIF(B88:AL88,"<>0") -> 12
A89: Northern Flicker(red-shafted) | B89: 0 | C89: 0 | D89: 0 | E89: 0 | F89: 0 | G89: 0 | H89: 0 | I89: 0 | J89: 0 | K89: 0 | L89: 0 | M89: 0 | N89: 0 | O89: 0 | P89: 0 | Q89: 0 | R89: 0 | S89: 0 | T89: 0 | U89: 0 | V89: 0 | W89: 0 | X89: 0 | Y89: 0 | Z89: 0 | AA89: 0 | AB89: 0 | AC89: 0 | AD89: 0 | AE89: 0 | AF89: 0 | AG89: 0 | AH89: 0 | AI89: 0 | AJ89: 0 | AK89: 0 | AL89: 0 | AM89: =COUNTIF(B89:AL89,"<>0") -> 0
... A146: Western Meadowlark | B146: 0 | C146: 0 | D146: 0 | E146: 0 | F146: 0 | G146: 0 | H146: 0 | I146: 0 | J146: 0 | K146: 0 | L146: 0 | M146: 0 | N146: 0 | O146: 0 | P146: 0 | Q146: 0 | R146: 0 | S146: 0 | T146: 0 | U146: 0 | V146: 0 | W146: 0 | X146: 0 | Y146: 0 | Z146: 0 | AA146: 0 | AB146: 0 | AC146: 0 | AD146: 0 | AE146: 0 | AF146: 0 | AG146: 0 | AH146: 0 | AI146: 0 | AJ146: 0 | AK146: 0 | AL146: 0 | AM146: =COUNTIF(B146:AL146,"<>0") -> 0
A147: Blackbird sp. | B147: 0 | C147: 0 | D147: 0 | E147: 0 | AM147: =COUNTIF(B147:AL147,"<>0") -> 33
A148: Red-winged Blackbird | B148: 0 | C148: 0 | D148: 0 | E148: 0 | F148: 0 | G148: 1 | H148: 0 | I148: 2 | J148: 0 | K148: -1 | L148: 0 | M148: 0 | N148: 0 | O148: 0 | P148: 0 | Q148: 0 | R148: 0 | S148: 0 | T148: 0 | U148: 0 | V148: 0 | W148: 0 | X148: 0 | Y148: 0 | Z148: 0 | AA148: 0 | AB148: 0 | AC148: 0 | AD148: 0 | AE148: 0 | AF148: 0 | AG148: 1 | AH148: 0 | AI148: 0 | AJ148: 0 | AK148: 0 | AL148: 0 | AM148: =COUNTIF(B148:AL148,"<>0") -> 4
A149: Brown-headed Cowbird | B149: 0 | C149: 0 | D149: 0 | E149: 0 | F149: 0 | G149: 0 | H149: 0 | I149: 0 | J149: 0 | K149: 0 | L149: 0 | M149: 0 | N149: 0 | O149: 0 | P149: 0 | Q149: 0 | R149: 0 | S149: 0 | T149: 0 | U149: 0 | V149: 0 | W149: 0 | X149: 0 | Y149: 0 | Z149: 0 | AA149: 0 | AB149: 0 | AC149: 0 | AD149: 0 | AE149: 0 | AF149: 0 | AG149: 0 | AH149: 0 | AI149: 0 | AJ149: 0 | AK149: 0 | AL149: 0 | AM149: =COUNTIF(B149:AL149,"<>0") -> 0
A150: Rusty Blackbird | B150: 0 | C150: 0 | D150: 0 | E150: 0 | F150: 0 | G150: 1 | H150: 0 | I150: 0 | J150: 0 | K150: 0 | L150: 0 | M150: 0 | N150: 0 | O150: 0 | P150: -3 | Q150: 0 | R150: 1 | S150: 0 | T150: 0 | U150: 0 | V150: 0 | W150: 0 | X150: 0 | Y150: 0 | Z150: 0 | AA150: 0 | AB150: 0 | AC150: 0 | AD150: 1 | AE150: 1 | AF150: 0 | AG150: 0 | AH150: 0 | AI150: 1 | AJ150: 0 | AK150: 0 | AL150: 0 | AM150: =COUNTIF(B150:AL150,"<>0") -> 6
A151: Brewer's Blackbird | B151: 0 | C151: 0 | D151: 0 | E151: 0 | F151: 0 | G151: 0 | H151: 0 | I151: 0 | J151: 0 | K151: 0 | L151: 0 | M151: 0 | N151: 0 | O151: 0 | P151: 0 | Q151: 0 | R151: 0 | S151: 0 | T151: 0 | U151: 0 | V151: 0 | W151: 0 | X151: 0 | Y151: 0 | Z151: 0 | AA151: 0 | AB151: 0 | AC151: 0 | AD151: 0 | AE151: 0 | AF151: 0 | AG151: 0 | AH151: 1 | AI151: 0 | AJ151: 0 | AK151: 0 | AL151: 0 | AM151: =COUNTIF(B151:AL151,"<>0") -> 1
...
