Workbook

Sheet Historic - corrected
A1: Clark's Crossing Christmas Bird Count, 1991/92 - 2025/26 (count day results corrected for effort: Corrected count = Raw count X Average party hours (all years) / Party hours) | AG1: Page 1 of 2
A6: Count Date | B6: Average | E6: 12/20 2025 | F6: ='Historic - uncorrected'!E6 -> 12/14 2024 | G6: ='Historic - uncorrected'!F6 -> 12/16 2023 | H6: ='Historic - uncorrected'!G6 -> 12/17 2022 | I6: ='Historic - uncorrected'!H6 -> 12/18 2021 | J6: ='Historic - uncorrected'!I6 -> 12/19 2020 | K6: ='Historic - uncorrected'!J6 -> 12/21 2019 | L6: ='Historic - uncorrected'!K6 -> 12/15 2018 | M6: ='Historic - uncorrected'!L6 -> 12/16 2017 | ... AM6: ='Historic - uncorrected'!AL6 -> 1991
A8: Total Species - count day | B8: =AVERAGE($H8:AM8) -> 27.0625 | E8: ='Historic - uncorrected'!D8 -> 27 | F8: ='Historic - uncorrected'!E8 -> 31 | G8: ='Historic - uncorrected'!F8 -> 31 | H8: ='Historic - uncorrected'!G8 -> 30 | I8: ='Historic - uncorrected'!H8 -> 27 | J8: ='Historic - uncorrected'!I8 -> 27 | K8: ='Historic - uncorrected'!J8 -> 29 | L8: ='Historic - uncorrected'!K8 -> 26 | ... AM8: ='Historic - uncorrected'!AL8 -> 17
A10: Party Hours | B10: =AVERAGE($H10:AM10) -> 43.102083 | E10: ='Historic - uncorrected'!D10 -> 42.566667 | F10: ='Historic - uncorrected'!E10 -> 37.65 | G10: ='Historic - uncorrected'!F10 -> 43.733333 | H10: ='Historic - uncorrected'!G10 -> 39.916667 | I10: ='Historic - uncorrected'!H10 -> 54.366667 | J10: ='Historic - uncorrected'!I10 -> 42.783333 | K10: ='Historic - uncorrected'!J10 -> 46 | L10: ='Historic - uncorrected'!K10 -> 42.7 | ... AM10: ='Historic - uncorrected'!AL10 -> 19.75
A11: Participants | B11: =AVERAGE($H11:AM11) -> 24.375 | E11: ='Historic - uncorrected'!D11 -> 18 | F11: ='Historic - uncorrected'!E11 -> 18 | G11: ='Historic - uncorrected'!F11 -> 19 | H11: ='Historic - uncorrected'!G11 -> 28 | I11: ='Historic - uncorrected'!H11 -> 28 | J11: ='Historic - uncorrected'!I11 -> 25 | K11: ='Historic - uncorrected'!J11 -> 31 | L11: ='Historic - uncorrected'!K11 -> 29 | ... AM11: ='Historic - uncorrected'!AL11 -> 10
AN13: Filter blank rows
A14: BIRDS
A15: Snow Goose | B15: =AVERAGE(F15:AM15) -> 0 | C15: 0 | D15: 0 | E15: =IF('Historic - uncorrected'!D15<0,"",'Historic - corrected'!$B$10/E$10*'Historic - uncorrected'!D15) -> 0 | F15: =IF('Historic - uncorrected'!E15<0,"",'Historic - corrected'!$B$10/F$10*'Historic - uncorrected'!E15) -> 0 | G15: =IF('Historic - uncorrected'!F15<0,"",'Historic - corrected'!$B$10/G$10*'Historic - uncorrected'!F15) -> 0 | H15: =IF('Historic - uncorrected'!G15<0,"",'Historic - corrected'!$B$10/H$10*'Historic - uncorrected'!G15) -> 0 | I15: =IF('Historic - uncorrected'!H15<0,"",'Historic - corrected'!$B$10/I$10*'Historic - uncorrected'!H15) -> 0 | J15: =IF('Historic - uncorrected'!I15<0,"",'Historic - corrected'!$B$10/J$10*'Historic - uncorrected'!I15) -> 0 | K15: =IF('Historic - uncorrected'!J15<0,"",'Historic - corrected'!$B$10/K$10*'Historic - uncorrected'!J15) -> 0 | L15: =IF('Historic - uncorrected'!K15<0,"",'Historic - corrected'!$B$10/L$10*'Historic - uncorrected'!K15) -> 0 | ... AM15: =IF('Historic - uncorrected'!AL15<0,"",'Historic - corrected'!$B$10/AM$10*'Historic - uncorrected'!AL15) -> 0 | AN15: =COUNTIF(C15:AM15,"<>0") -> 0
A16: Greater White-fronted Goose | B16: =AVERAGE(F16:AM16) -> 0 | C16: 0 | D16: 0 | E16: =IF('Historic - uncorrected'!D16<0,"",'Historic - corrected'!$B$10/E$10*'Historic - uncorrected'!D16) -> 0 | F16: =IF('Historic - uncorrected'!E16<0,"",'Historic - corrected'!$B$10/F$10*'Historic - uncorrected'!E16) -> 0 | G16: =IF('Historic - uncorrected'!F16<0,"",'Historic - corrected'!$B$10/G$10*'Historic - uncorrected'!F16) -> 0 | H16: =IF('Historic - uncorrected'!G16<0,"",'Historic - corrected'!$B$10/H$10*'Historic - uncorrected'!G16) -> 0 | I16: =IF('Historic - uncorrected'!H16<0,"",'Historic - corrected'!$B$10/I$10*'Historic - uncorrected'!H16) -> 0 | J16: =IF('Historic - uncorrected'!I16<0,"",'Historic - corrected'!$B$10/J$10*'Historic - uncorrected'!I16) -> 0 | K16: =IF('Historic - uncorrected'!J16<0,"",'Historic - corrected'!$B$10/K$10*'Historic - uncorrected'!J16) -> 0 | L16: =IF('Historic - uncorrected'!K16<0,"",'Historic - corrected'!$B$10/L$10*'Historic - uncorrected'!K16) -> 0 | ... AM16: =IF('Historic - uncorrected'!AL16<0,"",'Historic - corrected'!$B$10/AM$10*'Historic - uncorrected'!AL16) -> 0 | AN16: =COUNTIF(C16:AM16,"<>0") -> 0
A17: Cackling Goose | B17: =AVERAGE(E17:AM17) -> 0.36372568 | C17: 0 | D17: 0 | E17: =IF('Historic - uncorrected'!D17<0,"",'Historic - corrected'!$B$10/E$10*'Historic - uncorrected'!D17) -> 0 | F17: =IF('Historic - uncorrected'!E17<0,"",'Historic - corrected'!$B$10/F$10*'Historic - uncorrected'!E17) -> 0 | G17: =IF('Historic - uncorrected'!F17<0,"",'Historic - corrected'!$B$10/G$10*'Historic - uncorrected'!F17) -> 11.826791 | H17: =IF('Historic - uncorrected'!G17<0,"",'Historic - corrected'!$B$10/H$10*'Historic - uncorrected'!G17) -> 0 | I17: =IF('Historic - uncorrected'!H17<0,"",'Historic - corrected'!$B$10/I$10*'Historic - uncorrected'!H17) -> 0 | J17: =IF('Historic - uncorrected'!I17<0,"",'Historic - corrected'!$B$10/J$10*'Historic - uncorrected'!I17) -> 0 | K17: =IF('Historic - uncorrected'!J17<0,"",'Historic - corrected'!$B$10/K$10*'Historic - uncorrected'!J17) -> 0 | L17: =IF('Historic - uncorrected'!K17<0,"",'Historic - corrected'!$B$10/L$10*'Historic - uncorrected'!K17) -> 0 | ... AM17: =IF('Historic - uncorrected'!AL17<0,"",'Historic - corrected'!$B$10/AM$10*'Historic - uncorrected'!AL17) -> 0 | AN17: =COUNTIF(C17:AM17,">0") -> 2
A18: Canada Goose | B18: =AVERAGE(E18:AM18) -> 199.74976 | C18: 0 | D18: 0 | E18: =IF('Historic - uncorrected'!D18<0,"",'Historic - corrected'!$B$10/E$10*'Historic - uncorrected'!D18) -> 0 | F18: =IF('Historic - uncorrected'!E18<0,"",'Historic - corrected'!$B$10/F$10*'Historic - uncorrected'!E18) -> 0 | G18: =IF('Historic - uncorrected'!F18<0,"",'Historic - corrected'!$B$10/G$10*'Historic - uncorrected'!F18) -> 2033.2225 | H18: =IF('Historic - uncorrected'!G18<0,"",'Historic - corrected'!$B$10/H$10*'Historic - uncorrected'!G18) -> 0 | I18: =IF('Historic - uncorrected'!H18<0,"",'Historic - corrected'!$B$10/I$10*'Historic - uncorrected'!H18) | J18: =IF('Historic - uncorrected'!I18<0,"",'Historic - corrected'!$B$10/J$10*'Historic - uncorrected'!I18) -> 1.0074503 | K18: =IF('Historic - uncorrected'!J18<0,"",'Historic - corrected'!$B$10/K$10*'Historic - uncorrected'!J18) -> 5.6220109 | L18: =IF('Historic - uncorrected'!K18<0,"",'Historic - corrected'!$B$10/L$10*'Historic - uncorrected'!K18) -> 487.54816 | ... AM18: =IF('Historic - uncorrected'!AL18<0,"",'Historic - corrected'!$B$10/AM$10*'Historic - uncorrected'!AL18) -> 0 | AN18: =COUNTIF(C18:AM18,">0") -> 22
A19: Tundra Swan | B19: =AVERAGE(E19:AM19) -> 0 | C19: 0 | D19: 0 | E19: =IF('Historic - uncorrected'!D19<0,"",'Historic - corrected'!$B$10/E$10*'Historic - uncorrected'!D19) -> 0 | F19: =IF('Historic - uncorrected'!E19<0,"",'Historic - corrected'!$B$10/F$10*'Historic - uncorrected'!E19) -> 0 | G19: =IF('Historic - uncorrected'!F19<0,"",'Historic - corrected'!$B$10/G$10*'Historic - uncorrected'!F19) -> 0 | H19: =IF('Historic - uncorrected'!G19<0,"",'Historic - corrected'!$B$10/H$10*'Historic - uncorrected'!G19) -> 0 | I19: =IF('Historic - uncorrected'!H19<0,"",'Historic - corrected'!$B$10/I$10*'Historic - uncorrected'!H19) -> 0 | J19: =IF('Historic - uncorrected'!I19<0,"",'Historic - corrected'!$B$10/J$10*'Historic - uncorrected'!I19) -> 0 | K19: =IF('Historic - uncorrected'!J19<0,"",'Historic - corrected'!$B$10/K$10*'Historic - uncorrected'!J19) -> 0 | L19: =IF('Historic - uncorrected'!K19<0,"",'Historic - corrected'!$B$10/L$10*'Historic - uncorrected'!K19) -> 0 | ... AM19: =IF('Historic - uncorrected'!AL19<0,"",'Historic - corrected'!$B$10/AM$10*'Historic - uncorrected'!AL19) -> 0 | AN19: =COUNTIF(C19:AM19,"<>0") -> 0
A20: Duck sp. | B20: =AVERAGE(E20:AM20) -> 8.447708 | C20: 0 | D20: 0 | E20: =IF('Historic - uncorrected'!D20<0,"",'Historic - corrected'!$B$10/E$10*'Historic - uncorrected'!D20) -> 0 | F20: =IF('Historic - uncorrected'!E20<0,"",'Historic - corrected'!$B$10/F$10*'Historic - uncorrected'!E20) -> 0 | G20: =IF('Historic - uncorrected'!F20<0,"",'Historic - corrected'!$B$10/G$10*'Historic - uncorrected'!F20) -> 295.66978 | H20: =IF('Historic - uncorrected'!G20<0,"",'Historic - corrected'!$B$10/H$10*'Historic - uncorrected'!G20) -> 0 | I20: =IF('Historic - uncorrected'!H20<0,"",'Historic - corrected'!$B$10/I$10*'Historic - uncorrected'!H20) -> 0 | J20: =IF('Historic - uncorrected'!I20<0,"",'Historic - corrected'!$B$10/J$10*'Historic - uncorrected'!I20) -> 0 | K20: =IF('Historic - uncorrected'!J20<0,"",'Historic - corrected'!$B$10/K$10*'Historic - uncorrected'!J20) -> 0 | L20: =IF('Historic - uncorrected'!K20<0,"",'Historic - corrected'!$B$10/L$10*'Historic - uncorrected'!K20) -> 0 | ... AM20: =IF('Historic - uncorrected'!AL20<0,"",'Historic - corrected'!$B$10/AM$10*'Historic - uncorrected'!AL20) -> 0 | AN20: =COUNTIF(C20:AM20,">0") -> 1
A21: Northern Shoveler | B21: =AVERAGE(E21:AM21) -> 0 | C21: 0 | D21: 0 | E21: =IF('Historic - uncorrected'!D21<0,"",'Historic - corrected'!$B$10/E$10*'Historic - uncorrected'!D21) -> 0 | F21: =IF('Historic - uncorrected'!E21<0,"",'Historic - corrected'!$B$10/F$10*'Historic - uncorrected'!E21) -> 0 | G21: =IF('Historic - uncorrected'!F21<0,"",'Historic - corrected'!$B$10/G$10*'Historic - uncorrected'!F21) -> 0 | H21: =IF('Historic - uncorrected'!G21<0,"",'Historic - corrected'!$B$10/H$10*'Historic - uncorrected'!G21) -> 0 | I21: =IF('Historic - uncorrected'!H21<0,"",'Historic - corrected'!$B$10/I$10*'Historic - uncorrected'!H21) -> 0 | J21: =IF('Historic - uncorrected'!I21<0,"",'Historic - corrected'!$B$10/J$10*'Historic - uncorrected'!I21) -> 0 | K21: =IF('Historic - uncorrected'!J21<0,"",'Historic - corrected'!$B$10/K$10*'Historic - uncorrected'!J21) -> 0 | L21: =IF('Historic - uncorrected'!K21<0,"",'Historic - corrected'!$B$10/L$10*'Historic - uncorrected'!K21) -> 0 | ... AM21: =IF('Historic - uncorrected'!AL21<0,"",'Historic - corrected'!$B$10/AM$10*'Historic - uncorrected'!AL21) -> 0 | AN21: =COUNTIF(C21:AM21,"<>0") -> 0
A22: Gadwall | B22: =AVERAGE(E22:AM22) -> 0 | C22: 0 | D22: 0 | E22: =IF('Historic - uncorrected'!D22<0,"",'Historic - corrected'!$B$10/E$10*'Historic - uncorrected'!D22) -> 0 | F22: =IF('Historic - uncorrected'!E22<0,"",'Historic - corrected'!$B$10/F$10*'Historic - uncorrected'!E22) -> 0 | G22: =IF('Historic - uncorrected'!F22<0,"",'Historic - corrected'!$B$10/G$10*'Historic - uncorrected'!F22) -> 0 | H22: =IF('Historic - uncorrected'!G22<0,"",'Historic - corrected'!$B$10/H$10*'Historic - uncorrected'!G22) -> 0 | I22: =IF('Historic - uncorrected'!H22<0,"",'Historic - corrected'!$B$10/I$10*'Historic - uncorrected'!H22) -> 0 | J22: =IF('Historic - uncorrected'!I22<0,"",'Historic - corrected'!$B$10/J$10*'Historic - uncorrected'!I22) -> 0 | K22: =IF('Historic - uncorrected'!J22<0,"",'Historic - corrected'!$B$10/K$10*'Historic - uncorrected'!J22) -> 0 | L22: =IF('Historic - uncorrected'!K22<0,"",'Historic - corrected'!$B$10/L$10*'Historic - uncorrected'!K22) -> 0 | ... AM22: =IF('Historic - uncorrected'!AL22<0,"",'Historic - corrected'!$B$10/AM$10*'Historic - uncorrected'!AL22) -> 0 | AN22: =COUNTIF(C22:AM22,"<>0") -> 0
A23: American Wigeon | B23: =AVERAGE(E23:AM23) -> 0 | C23: 0 | D23: 0 | E23: =IF('Historic - uncorrected'!D23<0,"",'Historic - corrected'!$B$10/E$10*'Historic - uncorrected'!D23) -> 0 | F23: =IF('Historic - uncorrected'!E23<0,"",'Historic - corrected'!$B$10/F$10*'Historic - uncorrected'!E23) -> 0 | G23: =IF('Historic - uncorrected'!F23<0,"",'Historic - corrected'!$B$10/G$10*'Historic - uncorrected'!F23) -> 0 | H23: =IF('Historic - uncorrected'!G23<0,"",'Historic - corrected'!$B$10/H$10*'Historic - uncorrected'!G23) -> 0 | I23: =IF('Historic - uncorrected'!H23<0,"",'Historic - corrected'!$B$10/I$10*'Historic - uncorrected'!H23) -> 0 | J23: =IF('Historic - uncorrected'!I23<0,"",'Historic - corrected'!$B$10/J$10*'Historic - uncorrected'!I23) -> 0 | K23: =IF('Historic - uncorrected'!J23<0,"",'Historic - corrected'!$B$10/K$10*'Historic - uncorrected'!J23) -> 0 | L23: =IF('Historic - uncorrected'!K23<0,"",'Historic - corrected'!$B$10/L$10*'Historic - uncorrected'!K23) -> 0 | ... AM23: =IF('Historic - uncorrected'!AL23<0,"",'Historic - corrected'!$B$10/AM$10*'Historic - uncorrected'!AL23) -> 0 | AN23: =COUNTIF(C23:AM23,"<>0") -> 0
A24: Mallard | B24: =AVERAGE(E24:AM24) -> 3.4711124 | C24: 0 | D24: 0 | E24: =IF('Historic - uncorrected'!D24<0,"",'Historic - corrected'!$B$10/E$10*'Historic - uncorrected'!D24) -> 0 | F24: =IF('Historic - uncorrected'!E24<0,"",'Historic - corrected'!$B$10/F$10*'Historic - uncorrected'!E24) -> 0 | G24: =IF('Historic - uncorrected'!F24<0,"",'Historic - corrected'!$B$10/G$10*'Historic - uncorrected'!F24) -> 88.700934 | H24: =IF('Historic - uncorrected'!G24<0,"",'Historic - corrected'!$B$10/H$10*'Historic - uncorrected'!G24) -> 0 | I24: =IF('Historic - uncorrected'!H24<0,"",'Historic - corrected'!$B$10/I$10*'Historic - uncorrected'!H24) -> 3.9640175 | J24: =IF('Historic - uncorrected'!I24<0,"",'Historic - corrected'!$B$10/J$10*'Historic - uncorrected'!I24) -> 0 | K24: =IF('Historic - uncorrected'!J24<0,"",'Historic - corrected'!$B$10/K$10*'Historic - uncorrected'!J24) -> 0 | L24: =IF('Historic - uncorrected'!K24<0,"",'Historic - corrected'!$B$10/L$10*'Historic - uncorrected'!K24) -> 2.0188329 | ... AM24: =IF('Historic - uncorrected'!AL24<0,"",'Historic - corrected'!$B$10/AM$10*'Historic - uncorrected'!AL24) -> 0 | AN24: =COUNTIF(C24:AM24,">0") -> 10
A25: Northern Pintail | B25: =AVERAGE(E25:AM25) -> 0 | C25: 0 | D25: 0 | E25: =IF('Historic - uncorrected'!D25<0,"",'Historic - corrected'!$B$10/E$10*'Historic - uncorrected'!D25) -> 0 | F25: =IF('Historic - uncorrected'!E25<0,"",'Historic - corrected'!$B$10/F$10*'Historic - uncorrected'!E25) -> 0 | G25: =IF('Historic - uncorrected'!F25<0,"",'Historic - corrected'!$B$10/G$10*'Historic - uncorrected'!F25) -> 0 | H25: =IF('Historic - uncorrected'!G25<0,"",'Historic - corrected'!$B$10/H$10*'Historic - uncorrected'!G25) -> 0 | I25: =IF('Historic - uncorrected'!H25<0,"",'Historic - corrected'!$B$10/I$10*'Historic - uncorrected'!H25) -> 0 | J25: =IF('Historic - uncorrected'!I25<0,"",'Historic - corrected'!$B$10/J$10*'Historic - uncorrected'!I25) -> 0 | K25: =IF('Historic - uncorrected'!J25<0,"",'Historic - corrected'!$B$10/K$10*'Historic - uncorrected'!J25) -> 0 | L25: =IF('Historic - uncorrected'!K25<0,"",'Historic - corrected'!$B$10/L$10*'Historic - uncorrected'!K25) -> 0 | ... AM25: =IF('Historic - uncorrected'!AL25<0,"",'Historic - corrected'!$B$10/AM$10*'Historic - uncorrected'!AL25) -> 0 | AN25: =COUNTIF(C25:AM25,"<>0") -> 0
A26: Green-winged Teal | B26: =AVERAGE(E26:AM26) -> 0 | C26: 0 | D26: 0 | E26: =IF('Historic - uncorrected'!D26<0,"",'Historic - corrected'!$B$10/E$10*'Historic - uncorrected'!D26) -> 0 | F26: =IF('Historic - uncorrected'!E26<0,"",'Historic - corrected'!$B$10/F$10*'Historic - uncorrected'!E26) -> 0 | G26: =IF('Historic - uncorrected'!F26<0,"",'Historic - corrected'!$B$10/G$10*'Historic - uncorrected'!F26) -> 0 | H26: =IF('Historic - uncorrected'!G26<0,"",'Historic - corrected'!$B$10/H$10*'Historic - uncorrected'!G26) -> 0 | I26: =IF('Historic - uncorrected'!H26<0,"",'Historic - corrected'!$B$10/I$10*'Historic - uncorrected'!H26) -> 0 | J26: =IF('Historic - uncorrected'!I26<0,"",'Historic - corrected'!$B$10/J$10*'Historic - uncorrected'!I26) -> 0 | K26: =IF('Historic - uncorrected'!J26<0,"",'Historic - corrected'!$B$10/K$10*'Historic - uncorrected'!J26) -> 0 | L26: =IF('Historic - uncorrected'!K26<0,"",'Historic - corrected'!$B$10/L$10*'Historic - uncorrected'!K26) -> 0 | ... AM26: =IF('Historic - uncorrected'!AL26<0,"",'Historic - corrected'!$B$10/AM$10*'Historic - uncorrected'!AL26) -> 0 | AN26: =COUNTIF(C26:AM26,"<>0") -> 0
A27: Canvasback | B27: =AVERAGE(E27:AM27) -> 0 | C27: 0 | D27: 0 | E27: =IF('Historic - uncorrected'!D27<0,"",'Historic - corrected'!$B$10/E$10*'Historic - uncorrected'!D27) -> 0 | F27: =IF('Historic - uncorrected'!E27<0,"",'Historic - corrected'!$B$10/F$10*'Historic - uncorrected'!E27) -> 0 | G27: =IF('Historic - uncorrected'!F27<0,"",'Historic - corrected'!$B$10/G$10*'Historic - uncorrected'!F27) -> 0 | H27: =IF('Historic - uncorrected'!G27<0,"",'Historic - corrected'!$B$10/H$10*'Historic - uncorrected'!G27) -> 0 | I27: =IF('Historic - uncorrected'!H27<0,"",'Historic - corrected'!$B$10/I$10*'Historic - uncorrected'!H27) -> 0 | J27: =IF('Historic - uncorrected'!I27<0,"",'Historic - corrected'!$B$10/J$10*'Historic - uncorrected'!I27) -> 0 | K27: =IF('Historic - uncorrected'!J27<0,"",'Historic - corrected'!$B$10/K$10*'Historic - uncorrected'!J27) -> 0 | L27: =IF('Historic - uncorrected'!K27<0,"",'Historic - corrected'!$B$10/L$10*'Historic - uncorrected'!K27) -> 0 | ... AM27: =IF('Historic - uncorrected'!AL27<0,"",'Historic - corrected'!$B$10/AM$10*'Historic - uncorrected'!AL27) -> 0 | AN27: =COUNTIF(C27:AM27,"<>0") -> 0
A28: Redhead | B28: =AVERAGE(E28:AM28) -> 0 | C28: 0 | D28: 0 | E28: =IF('Historic - uncorrected'!D28<0,"",'Historic - corrected'!$B$10/E$10*'Historic - uncorrected'!D28) -> 0 | F28: =IF('Historic - uncorrected'!E28<0,"",'Historic - corrected'!$B$10/F$10*'Historic - uncorrected'!E28) -> 0 | G28: =IF('Historic - uncorrected'!F28<0,"",'Historic - corrected'!$B$10/G$10*'Historic - uncorrected'!F28) -> 0 | H28: =IF('Historic - uncorrected'!G28<0,"",'Historic - corrected'!$B$10/H$10*'Historic - uncorrected'!G28) -> 0 | I28: =IF('Historic - uncorrected'!H28<0,"",'Historic - corrected'!$B$10/I$10*'Historic - uncorrected'!H28) -> 0 | J28: =IF('Historic - uncorrected'!I28<0,"",'Historic - corrected'!$B$10/J$10*'Historic - uncorrected'!I28) -> 0 | K28: =IF('Historic - uncorrected'!J28<0,"",'Historic - corrected'!$B$10/K$10*'Historic - uncorrected'!J28) -> 0 | L28: =IF('Historic - uncorrected'!K28<0,"",'Historic - corrected'!$B$10/L$10*'Historic - uncorrected'!K28) -> 0 | ... AM28: =IF('Historic - uncorrected'!AL28<0,"",'Historic - corrected'!$B$10/AM$10*'Historic - uncorrected'!AL28) -> 0 | AN28: =COUNTIF(C28:AM28,"<>0") -> 0
A29: Ring-necked Duck | B29: =AVERAGE(E29:AM29) -> 0 | C29: 0 | D29: 0 | E29: =IF('Historic - uncorrected'!D29<0,"",'Historic - corrected'!$B$10/E$10*'Historic - uncorrected'!D29) -> 0 | F29: =IF('Historic - uncorrected'!E29<0,"",'Historic - corrected'!$B$10/F$10*'Historic - uncorrected'!E29) -> 0 | G29: =IF('Historic - uncorrected'!F29<0,"",'Historic - corrected'!$B$10/G$10*'Historic - uncorrected'!F29) -> 0 | H29: =IF('Historic - uncorrected'!G29<0,"",'Historic - corrected'!$B$10/H$10*'Historic - uncorrected'!G29) -> 0 | I29: =IF('Historic - uncorrected'!H29<0,"",'Historic - corrected'!$B$10/I$10*'Historic - uncorrected'!H29) -> 0 | J29: =IF('Historic - uncorrected'!I29<0,"",'Historic - corrected'!$B$10/J$10*'Historic - uncorrected'!I29) -> 0 | K29: =IF('Historic - uncorrected'!J29<0,"",'Historic - corrected'!$B$10/K$10*'Historic - uncorrected'!J29) -> 0 | L29: =IF('Historic - uncorrected'!K29<0,"",'Historic - corrected'!$B$10/L$10*'Historic - uncorrected'!K29) -> 0 | ... AM29: =IF('Historic - uncorrected'!AL29<0,"",'Historic - corrected'!$B$10/AM$10*'Historic - uncorrected'!AL29) -> 0 | AN29: =COUNTIF(C29:AM29,"<>0") -> 0
A30: Greater Scaup | B30: =AVERAGE(E30:AM30) -> 0 | C30: 0 | D30: 0 | E30: =IF('Historic - uncorrected'!D30<0,"",'Historic - corrected'!$B$10/E$10*'Historic - uncorrected'!D30) -> 0 | F30: =IF('Historic - uncorrected'!E30<0,"",'Historic - corrected'!$B$10/F$10*'Historic - uncorrected'!E30) -> 0 | G30: =IF('Historic - uncorrected'!F30<0,"",'Historic - corrected'!$B$10/G$10*'Historic - uncorrected'!F30) -> 0 | H30: =IF('Historic - uncorrected'!G30<0,"",'Historic - corrected'!$B$10/H$10*'Historic - uncorrected'!G30) -> 0 | I30: =IF('Historic - uncorrected'!H30<0,"",'Historic - corrected'!$B$10/I$10*'Historic - uncorrected'!H30) -> 0 | J30: =IF('Historic - uncorrected'!I30<0,"",'Historic - corrected'!$B$10/J$10*'Historic - uncorrected'!I30) -> 0 | K30: =IF('Historic - uncorrected'!J30<0,"",'Historic - corrected'!$B$10/K$10*'Historic - uncorrected'!J30) -> 0 | L30: =IF('Historic - uncorrected'!K30<0,"",'Historic - corrected'!$B$10/L$10*'Historic - uncorrected'!K30) -> 0 | ... AM30: =IF('Historic - uncorrected'!AL30<0,"",'Historic - corrected'!$B$10/AM$10*'Historic - uncorrected'!AL30) -> 0
A31: Lesser Scaup | B31: =AVERAGE(E31:AM31) -> 0 | C31: 0 | D31: 0 | E31: =IF('Historic - uncorrected'!D31<0,"",'Historic - corrected'!$B$10/E$10*'Historic - uncorrected'!D31) -> 0 | F31: =IF('Historic - uncorrected'!E31<0,"",'Historic - corrected'!$B$10/F$10*'Historic - uncorrected'!E31) -> 0 | G31: =IF('Historic - uncorrected'!F31<0,"",'Historic - corrected'!$B$10/G$10*'Historic - uncorrected'!F31) -> 0 | H31: =IF('Historic - uncorrected'!G31<0,"",'Historic - corrected'!$B$10/H$10*'Historic - uncorrected'!G31) -> 0 | I31: =IF('Historic - uncorrected'!H31<0,"",'Historic - corrected'!$B$10/I$10*'Historic - uncorrected'!H31) -> 0 | J31: =IF('Historic - uncorrected'!I31<0,"",'Historic - corrected'!$B$10/J$10*'Historic - uncorrected'!I31) -> 0 | K31: =IF('Historic - uncorrected'!J31<0,"",'Historic - corrected'!$B$10/K$10*'Historic - uncorrected'!J31) -> 0 | L31: =IF('Historic - uncorrected'!K31<0,"",'Historic - corrected'!$B$10/L$10*'Historic - uncorrected'!K31) -> 0 | ... AM31: =IF('Historic - uncorrected'!AL31<0,"",'Historic - corrected'!$B$10/AM$10*'Historic - uncorrected'!AL31) -> 0 | AN31: =COUNTIF(C31:AM31,"<>0") -> 0
A32: Harlequin Duck | B32: =AVERAGE(E32:AM32) -> 0 | C32: 0 | D32: 0 | E32: =IF('Historic - uncorrected'!D32<0,"",'Historic - corrected'!$B$10/E$10*'Historic - uncorrected'!D32) -> 0 | F32: =IF('Historic - uncorrected'!E32<0,"",'Historic - corrected'!$B$10/F$10*'Historic - uncorrected'!E32) -> 0 | G32: =IF('Historic - uncorrected'!F32<0,"",'Historic - corrected'!$B$10/G$10*'Historic - uncorrected'!F32) -> 0 | H32: =IF('Historic - uncorrected'!G32<0,"",'Historic - corrected'!$B$10/H$10*'Historic - uncorrected'!G32) -> 0 | I32: =IF('Historic - uncorrected'!H32<0,"",'Historic - corrected'!$B$10/I$10*'Historic - uncorrected'!H32) -> 0 | J32: =IF('Historic - uncorrected'!I32<0,"",'Historic - corrected'!$B$10/J$10*'Historic - uncorrected'!I32) -> 0 | K32: =IF('Historic - uncorrected'!J32<0,"",'Historic - corrected'!$B$10/K$10*'Historic - uncorrected'!J32) -> 0 | L32: =IF('Historic - uncorrected'!K32<0,"",'Historic - corrected'!$B$10/L$10*'Historic - uncorrected'!K32) -> 0 | ... AM32: =IF('Historic - uncorrected'!AL32<0,"",'Historic - corrected'!$B$10/AM$10*'Historic - uncorrected'!AL32) -> 0 | AN32: =COUNTIF(C32:AM32,"<>0") -> 0
A33: White-winged Scoter | B33: =AVERAGE(E33:AM33) -> 0 | C33: 0 | D33: 0 | E33: =IF('Historic - uncorrected'!D33<0,"",'Historic - corrected'!$B$10/E$10*'Historic - uncorrected'!D33) -> 0 | F33: =IF('Historic - uncorrected'!E33<0,"",'Historic - corrected'!$B$10/F$10*'Historic - uncorrected'!E33) -> 0 | G33: =IF('Historic - uncorrected'!F33<0,"",'Historic - corrected'!$B$10/G$10*'Historic - uncorrected'!F33) -> 0 | H33: =IF('Historic - uncorrected'!G33<0,"",'Historic - corrected'!$B$10/H$10*'Historic - uncorrected'!G33) -> 0 | I33: =IF('Historic - uncorrected'!H33<0,"",'Historic - corrected'!$B$10/I$10*'Historic - uncorrected'!H33) -> 0 | J33: =IF('Historic - uncorrected'!I33<0,"",'Historic - corrected'!$B$10/J$10*'Historic - uncorrected'!I33) -> 0 | K33: =IF('Historic - uncorrected'!J33<0,"",'Historic - corrected'!$B$10/K$10*'Historic - uncorrected'!J33) -> 0 | L33: =IF('Historic - uncorrected'!K33<0,"",'Historic - corrected'!$B$10/L$10*'Historic - uncorrected'!K33) -> 0 | ... AM33: =IF('Historic - uncorrected'!AL33<0,"",'Historic - corrected'!$B$10/AM$10*'Historic - uncorrected'!AL33) -> 0 | AN33: =COUNTIF(C33:AM33,"<>0") -> 0
A34: Long-tailed Duck | B34: =AVERAGE(E34:AM34) -> 0 | C34: 0 | D34: 0 | E34: =IF('Historic - uncorrected'!D34<0,"",'Historic - corrected'!$B$10/E$10*'Historic - uncorrected'!D34) -> 0 | F34: =IF('Historic - uncorrected'!E34<0,"",'Historic - corrected'!$B$10/F$10*'Historic - uncorrected'!E34) -> 0 | G34: =IF('Historic - uncorrected'!F34<0,"",'Historic - corrected'!$B$10/G$10*'Historic - uncorrected'!F34) -> 0 | H34: =IF('Historic - uncorrected'!G34<0,"",'Historic - corrected'!$B$10/H$10*'Historic - uncorrected'!G34) -> 0 | I34: =IF('Historic - uncorrected'!H34<0,"",'Historic - corrected'!$B$10/I$10*'Historic - uncorrected'!H34) -> 0 | J34: =IF('Historic - uncorrected'!I34<0,"",'Historic - corrected'!$B$10/J$10*'Historic - uncorrected'!I34) -> 0 | K34: =IF('Historic - uncorrected'!J34<0,"",'Historic - corrected'!$B$10/K$10*'Historic - uncorrected'!J34) -> 0 | L34: =IF('Historic - uncorrected'!K34<0,"",'Historic - corrected'!$B$10/L$10*'Historic - uncorrected'!K34) -> 0 | ... AM34: =IF('Historic - uncorrected'!AL34<0,"",'Historic - corrected'!$B$10/AM$10*'Historic - uncorrected'!AL34) -> 0 | AN34: =COUNTIF(C34:AM34,"<>0") -> 0
A35: Bufflehead | B35: =AVERAGE(E35:AM35) -> 0.82116159 | C35: 0 | D35: 0 | E35: =IF('Historic - uncorrected'!D35<0,"",'Historic - corrected'!$B$10/E$10*'Historic - uncorrected'!D35) -> 0 | F35: =IF('Historic - uncorrected'!E35<0,"",'Historic - corrected'!$B$10/F$10*'Historic - uncorrected'!E35) -> 1.1448097 | G35: =IF('Historic - uncorrected'!F35<0,"",'Historic - corrected'!$B$10/G$10*'Historic - uncorrected'!F35) -> 27.595846 | H35: =IF('Historic - uncorrected'!G35<0,"",'Historic - corrected'!$B$10/H$10*'Historic - uncorrected'!G35) -> 0 | I35: =IF('Historic - uncorrected'!H35<0,"",'Historic - corrected'!$B$10/I$10*'Historic - uncorrected'!H35) -> 0 | J35: =IF('Historic - uncorrected'!I35<0,"",'Historic - corrected'!$B$10/J$10*'Historic - uncorrected'!I35) -> 0 | K35: =IF('Historic - uncorrected'!J35<0,"",'Historic - corrected'!$B$10/K$10*'Historic - uncorrected'!J35) -> 0 | L35: =IF('Historic - uncorrected'!K35<0,"",'Historic - corrected'!$B$10/L$10*'Historic - uncorrected'!K35) -> 0 | ... AM35: =IF('Historic - uncorrected'!AL35<0,"",'Historic - corrected'!$B$10/AM$10*'Historic - uncorrected'!AL35) -> 0 | AN35: =COUNTIF(C35:AM35,">0") -> 2
A36: Common Goldeneye | B36: =AVERAGE(E36:AM36) -> 41.833721 | C36: 0 | D36: 0 | E36: =IF('Historic - uncorrected'!D36<0,"",'Historic - corrected'!$B$10/E$10*'Historic - uncorrected'!D36) -> 38.477976 | F36: =IF('Historic - uncorrected'!E36<0,"",'Historic - corrected'!$B$10/F$10*'Historic - uncorrected'!E36) -> 80.136676 | G36: =IF('Historic - uncorrected'!F36<0,"",'Historic - corrected'!$B$10/G$10*'Historic - uncorrected'!F36) -> 212.88224 | H36: =IF('Historic - uncorrected'!G36<0,"",'Historic - corrected'!$B$10/H$10*'Historic - uncorrected'!G36) -> 41.032463 | I36: =IF('Historic - uncorrected'!H36<0,"",'Historic - corrected'!$B$10/I$10*'Historic - uncorrected'!H36) -> 9.5136419 | J36: =IF('Historic - uncorrected'!I36<0,"",'Historic - corrected'!$B$10/J$10*'Historic - uncorrected'!I36) -> 69.514073 | K36: =IF('Historic - uncorrected'!J36<0,"",'Historic - corrected'!$B$10/K$10*'Historic - uncorrected'!J36) -> 72.149139 | L36: =IF('Historic - uncorrected'!K36<0,"",'Historic - corrected'!$B$10/L$10*'Historic - uncorrected'!K36) -> 244.27879 | ... AM36: =IF('Historic - uncorrected'!AL36<0,"",'Historic - corrected'!$B$10/AM$10*'Historic - uncorrected'!AL36) -> 54.559599 | AN36: =COUNTIF(C36:AM36,">0") -> 31
A37: Barrow's Goldeneye | B37: =AVERAGE(E37:AM37) -> 0 | C37: 0 | D37: 0 | E37: =IF('Historic - uncorrected'!D37<0,"",'Historic - corrected'!$B$10/E$10*'Historic - uncorrected'!D37) -> 0 | F37: =IF('Historic - uncorrected'!E37<0,"",'Historic - corrected'!$B$10/F$10*'Historic - uncorrected'!E37) -> 0 | G37: =IF('Historic - uncorrected'!F37<0,"",'Historic - corrected'!$B$10/G$10*'Historic - uncorrected'!F37) -> 0 | H37: =IF('Historic - uncorrected'!G37<0,"",'Historic - corrected'!$B$10/H$10*'Historic - uncorrected'!G37) -> 0 | I37: =IF('Historic - uncorrected'!H37<0,"",'Historic - corrected'!$B$10/I$10*'Historic - uncorrected'!H37) -> 0 | J37: =IF('Historic - uncorrected'!I37<0,"",'Historic - corrected'!$B$10/J$10*'Historic - uncorrected'!I37) -> 0 | K37: =IF('Historic - uncorrected'!J37<0,"",'Historic - corrected'!$B$10/K$10*'Historic - uncorrected'!J37) -> 0 | L37: =IF('Historic - uncorrected'!K37<0,"",'Historic - corrected'!$B$10/L$10*'Historic - uncorrected'!K37) -> 0 | ... AM37: =IF('Historic - uncorrected'!AL37<0,"",'Historic - corrected'!$B$10/AM$10*'Historic - uncorrected'!AL37) -> 0 | AN37: =COUNTIF(C37:AM37,"<>0") -> 0
A38: Merganser sp. | B38: =AVERAGE(E38:AM38) -> 0 | C38: 0 | D38: 0 | E38: =IF('Historic - uncorrected'!D38<0,"",'Historic - corrected'!$B$10/E$10*'Historic - uncorrected'!D38) -> 0 | F38: =IF('Historic - uncorrected'!E38<0,"",'Historic - corrected'!$B$10/F$10*'Historic - uncorrected'!E38) -> 0 | G38: =IF('Historic - uncorrected'!F38<0,"",'Historic - corrected'!$B$10/G$10*'Historic - uncorrected'!F38) -> 0 | H38: =IF('Historic - uncorrected'!G38<0,"",'Historic - corrected'!$B$10/H$10*'Historic - uncorrected'!G38) -> 0 | I38: =IF('Historic - uncorrected'!H38<0,"",'Historic - corrected'!$B$10/I$10*'Historic - uncorrected'!H38) -> 0 | J38: =IF('Historic - uncorrected'!I38<0,"",'Historic - corrected'!$B$10/J$10*'Historic - uncorrected'!I38) -> 0 | K38: =IF('Historic - uncorrected'!J38<0,"",'Historic - corrected'!$B$10/K$10*'Historic - uncorrected'!J38) -> 0 | L38: =IF('Historic - uncorrected'!K38<0,"",'Historic - corrected'!$B$10/L$10*'Historic - uncorrected'!K38) -> 0 | ... AM38: =IF('Historic - uncorrected'!AL38<0,"",'Historic - corrected'!$B$10/AM$10*'Historic - uncorrected'!AL38) -> 0 | AN38: =COUNTIF(C38:AM38,"<>0") -> 0
A39: Hooded Merganser | B39: =AVERAGE(E39:AM39) -> 0 | C39: 0 | D39: 0 | E39: =IF('Historic - uncorrected'!D39<0,"",'Historic - corrected'!$B$10/E$10*'Historic - uncorrected'!D39) -> 0 | F39: =IF('Historic - uncorrected'!E39<0,"",'Historic - corrected'!$B$10/F$10*'Historic - uncorrected'!E39) -> 0 | G39: =IF('Historic - uncorrected'!F39<0,"",'Historic - corrected'!$B$10/G$10*'Historic - uncorrected'!F39) -> 0 | H39: =IF('Historic - uncorrected'!G39<0,"",'Historic - corrected'!$B$10/H$10*'Historic - uncorrected'!G39) -> 0 | I39: =IF('Historic - uncorrected'!H39<0,"",'Historic - corrected'!$B$10/I$10*'Historic - uncorrected'!H39) -> 0 | J39: =IF('Historic - uncorrected'!I39<0,"",'Historic - corrected'!$B$10/J$10*'Historic - uncorrected'!I39) -> 0 | K39: =IF('Historic - uncorrected'!J39<0,"",'Historic - corrected'!$B$10/K$10*'Historic - uncorrected'!J39) -> 0 | L39: =IF('Historic - uncorrected'!K39<0,"",'Historic - corrected'!$B$10/L$10*'Historic - uncorrected'!K39) -> 0 | ... AM39: =IF('Historic - uncorrected'!AL39<0,"",'Historic - corrected'!$B$10/AM$10*'Historic - uncorrected'!AL39) -> 0 | AN39: =COUNTIF(C39:AM39,"<>0") -> 0
A40: Common Merganser | B40: =AVERAGE(E40:AM40) -> 0.19341066 | C40: 0 | D40: 0 | E40: =IF('Historic - uncorrected'!D40<0,"",'Historic - corrected'!$B$10/E$10*'Historic - uncorrected'!D40) -> 0 | F40: =IF('Historic - uncorrected'!E40<0,"",'Historic - corrected'!$B$10/F$10*'Historic - uncorrected'!E40) -> 0 | G40: =IF('Historic - uncorrected'!F40<0,"",'Historic - corrected'!$B$10/G$10*'Historic - uncorrected'!F40) -> 1.9711319 | H40: =IF('Historic - uncorrected'!G40<0,"",'Historic - corrected'!$B$10/H$10*'Historic - uncorrected'!G40) -> 0 | I40: =IF('Historic - uncorrected'!H40<0,"",'Historic - corrected'!$B$10/I$10*'Historic - uncorrected'!H40) -> 0 | J40: =IF('Historic - uncorrected'!I40<0,"",'Historic - corrected'!$B$10/J$10*'Historic - uncorrected'!I40) -> 0 | K40: =IF('Historic - uncorrected'!J40<0,"",'Historic - corrected'!$B$10/K$10*'Historic - uncorrected'!J40) -> 0 | L40: =IF('Historic - uncorrected'!K40<0,"",'Historic - corrected'!$B$10/L$10*'Historic - uncorrected'!K40) -> 3.0282494 | ... AM40: =IF('Historic - uncorrected'!AL40<0,"",'Historic - corrected'!$B$10/AM$10*'Historic - uncorrected'!AL40) -> 0 | AN40: =COUNTIF(C40:AM40,">0") -> 4
A41: Red-breasted Merganser | B41: =AVERAGE(E41:AM41) -> 0 | C41: 0 | D41: 0 | E41: =IF('Historic - uncorrected'!D41<0,"",'Historic - corrected'!$B$10/E$10*'Historic - uncorrected'!D41) -> 0 | F41: =IF('Historic - uncorrected'!E41<0,"",'Historic - corrected'!$B$10/F$10*'Historic - uncorrected'!E41) -> 0 | G41: =IF('Historic - uncorrected'!F41<0,"",'Historic - corrected'!$B$10/G$10*'Historic - uncorrected'!F41) -> 0 | H41: =IF('Historic - uncorrected'!G41<0,"",'Historic - corrected'!$B$10/H$10*'Historic - uncorrected'!G41) -> 0 | I41: =IF('Historic - uncorrected'!H41<0,"",'Historic - corrected'!$B$10/I$10*'Historic - uncorrected'!H41) -> 0 | J41: =IF('Historic - uncorrected'!I41<0,"",'Historic - corrected'!$B$10/J$10*'Historic - uncorrected'!I41) -> 0 | K41: =IF('Historic - uncorrected'!J41<0,"",'Historic - corrected'!$B$10/K$10*'Historic - uncorrected'!J41) -> 0 | L41: =IF('Historic - uncorrected'!K41<0,"",'Historic - corrected'!$B$10/L$10*'Historic - uncorrected'!K41) -> 0 | ... AM41: =IF('Historic - uncorrected'!AL41<0,"",'Historic - corrected'!$B$10/AM$10*'Historic - uncorrected'!AL41) -> 0 | AN41: =COUNTIF(C41:AM41,"<>0") -> 0
A42: Ruffed Grouse | B42: =AVERAGE(E42:AM42) -> 0.054859893 | C42: 0 | D42: 0 | E42: =IF('Historic - uncorrected'!D42<0,"",'Historic - corrected'!$B$10/E$10*'Historic - uncorrected'!D42) -> 0 | F42: =IF('Historic - uncorrected'!E42<0,"",'Historic - corrected'!$B$10/F$10*'Historic - uncorrected'!E42) -> 0 | G42: =IF('Historic - uncorrected'!F42<0,"",'Historic - corrected'!$B$10/G$10*'Historic - uncorrected'!F42) -> 0 | H42: =IF('Historic - uncorrected'!G42<0,"",'Historic - corrected'!$B$10/H$10*'Historic - uncorrected'!G42) -> 0 | I42: =IF('Historic - uncorrected'!H42<0,"",'Historic - corrected'!$B$10/I$10*'Historic - uncorrected'!H42) -> 0 | J42: =IF('Historic - uncorrected'!I42<0,"",'Historic - corrected'!$B$10/J$10*'Historic - uncorrected'!I42) -> 0 | K42: =IF('Historic - uncorrected'!J42<0,"",'Historic - corrected'!$B$10/K$10*'Historic - uncorrected'!J42) -> 0 | L42: =IF('Historic - uncorrected'!K42<0,"",'Historic - corrected'!$B$10/L$10*'Historic - uncorrected'!K42) -> 0 | ... AM42: =IF('Historic - uncorrected'!AL42<0,"",'Historic - corrected'!$B$10/AM$10*'Historic - uncorrected'!AL42) -> 0 | AN42: =COUNTIF(C42:AM42,">0") -> 2
A43: Sharp-tailed Grouse | B43: =AVERAGE(E43:AM43) -> 34.691481 | C43: 0 | D43: 0 | E43: =IF('Historic - uncorrected'!D43<0,"",'Historic - corrected'!$B$10/E$10*'Historic - uncorrected'!D43) -> 75.943373 | F43: =IF('Historic - uncorrected'!E43<0,"",'Historic - corrected'!$B$10/F$10*'Historic - uncorrected'!E43) -> 101.88806 | G43: =IF('Historic - uncorrected'!F43<0,"",'Historic - corrected'!$B$10/G$10*'Historic - uncorrected'!F43) -> 34.494808 | H43: =IF('Historic - uncorrected'!G43<0,"",'Historic - corrected'!$B$10/H$10*'Historic - uncorrected'!G43) -> 36.713257 | I43: =IF('Historic - uncorrected'!H43<0,"",'Historic - corrected'!$B$10/I$10*'Historic - uncorrected'!H43) -> 53.910638 | J43: =IF('Historic - uncorrected'!I43<0,"",'Historic - corrected'!$B$10/J$10*'Historic - uncorrected'!I43) -> 87.648179 | K43: =IF('Historic - uncorrected'!J43<0,"",'Historic - corrected'!$B$10/K$10*'Historic - uncorrected'!J43) -> 60.905118 | L43: =IF('Historic - uncorrected'!K43<0,"",'Historic - corrected'!$B$10/L$10*'Historic - uncorrected'!K43) -> 48.451991 | ... AM43: =IF('Historic - uncorrected'!AL43<0,"",'Historic - corrected'!$B$10/AM$10*'Historic - uncorrected'!AL43) -> 54.559599 | AN43: =COUNTIF(C43:AM43,">0") -> 34
A44: Gray Partridge | B44: =AVERAGE(E44:AM44) -> 96.124553 | C44: 0 | D44: 0 | E44: =IF('Historic - uncorrected'!D44<0,"",'Historic - corrected'!$B$10/E$10*'Historic - uncorrected'!D44) -> 391.86781 | F44: =IF('Historic - uncorrected'!E44<0,"",'Historic - corrected'!$B$10/F$10*'Historic - uncorrected'!E44) -> 1050.9353 | G44: =IF('Historic - uncorrected'!F44<0,"",'Historic - corrected'!$B$10/G$10*'Historic - uncorrected'!F44) -> 76.874143 | H44: =IF('Historic - uncorrected'!G44<0,"",'Historic - corrected'!$B$10/H$10*'Historic - uncorrected'!G44) -> 209.48152 | I44: =IF('Historic - uncorrected'!H44<0,"",'Historic - corrected'!$B$10/I$10*'Historic - uncorrected'!H44) -> 25.369712 | J44: =IF('Historic - uncorrected'!I44<0,"",'Historic - corrected'!$B$10/J$10*'Historic - uncorrected'!I44) -> 1.0074503 | K44: =IF('Historic - uncorrected'!J44<0,"",'Historic - corrected'!$B$10/K$10*'Historic - uncorrected'!J44) -> 54.346105 | L44: =IF('Historic - uncorrected'!K44<0,"",'Historic - corrected'!$B$10/L$10*'Historic - uncorrected'!K44) -> 94.885148 | ... AM44: =IF('Historic - uncorrected'!AL44<0,"",'Historic - corrected'!$B$10/AM$10*'Historic - uncorrected'!AL44) -> 111.30158 | AN44: =COUNTIF(C44:AM44,">0") -> 35
A45: Ring-necked Pheasant | B45: =AVERAGE(E45:AM45) -> 0 | C45: 0 | D45: 0 | E45: =IF('Historic - uncorrected'!D45<0,"",'Historic - corrected'!$B$10/E$10*'Historic - uncorrected'!D45) -> 0 | F45: =IF('Historic - uncorrected'!E45<0,"",'Historic - corrected'!$B$10/F$10*'Historic - uncorrected'!E45) -> 0 | G45: =IF('Historic - uncorrected'!F45<0,"",'Historic - corrected'!$B$10/G$10*'Historic - uncorrected'!F45) -> 0 | H45: =IF('Historic - uncorrected'!G45<0,"",'Historic - corrected'!$B$10/H$10*'Historic - uncorrected'!G45) -> 0 | I45: =IF('Historic - uncorrected'!H45<0,"",'Historic - corrected'!$B$10/I$10*'Historic - uncorrected'!H45) -> 0 | J45: =IF('Historic - uncorrected'!I45<0,"",'Historic - corrected'!$B$10/J$10*'Historic - uncorrected'!I45) -> 0 | K45: =IF('Historic - uncorrected'!J45<0,"",'Historic - corrected'!$B$10/K$10*'Historic - uncorrected'!J45) -> 0 | L45: =IF('Historic - uncorrected'!K45<0,"",'Historic - corrected'!$B$10/L$10*'Historic - uncorrected'!K45) -> 0 | ... AM45: =IF('Historic - uncorrected'!AL45<0,"",'Historic - corrected'!$B$10/AM$10*'Historic - uncorrected'!AL45) -> 0 | AN45: =COUNTIF(C45:AM45,"<>0") -> 0
A46: Chukar | B46: =AVERAGE(E46:AM46) -> 0.030036295 | C46: 0 | D46: 0 | E46: =IF('Historic - uncorrected'!D46<0,"",'Historic - corrected'!$B$10/E$10*'Historic - uncorrected'!D46) -> 0 | F46: =IF('Historic - uncorrected'!E46<0,"",'Historic - corrected'!$B$10/F$10*'Historic - uncorrected'!E46) -> 0 | G46: =IF('Historic - uncorrected'!F46<0,"",'Historic - corrected'!$B$10/G$10*'Historic - uncorrected'!F46) -> 0 | H46: =IF('Historic - uncorrected'!G46<0,"",'Historic - corrected'!$B$10/H$10*'Historic - uncorrected'!G46) -> 0 | I46: =IF('Historic - uncorrected'!H46<0,"",'Historic - corrected'!$B$10/I$10*'Historic - uncorrected'!H46) -> 0 | J46: =IF('Historic - uncorrected'!I46<0,"",'Historic - corrected'!$B$10/J$10*'Historic - uncorrected'!I46) -> 0 | K46: =IF('Historic - uncorrected'!J46<0,"",'Historic - corrected'!$B$10/K$10*'Historic - uncorrected'!J46) -> 0 | L46: =IF('Historic - uncorrected'!K46<0,"",'Historic - corrected'!$B$10/L$10*'Historic - uncorrected'!K46) -> 0 | ... AM46: =IF('Historic - uncorrected'!AL46<0,"",'Historic - corrected'!$B$10/AM$10*'Historic - uncorrected'!AL46) -> 0 | AN46: =COUNTIF(C46:AM46,">0") -> 1
A47: Horned Grebe | B47: =AVERAGE(E47:AM47) -> 0 | C47: 0 | D47: 0 | E47: =IF('Historic - uncorrected'!D47<0,"",'Historic - corrected'!$B$10/E$10*'Historic - uncorrected'!D47) -> 0 | F47: =IF('Historic - uncorrected'!E47<0,"",'Historic - corrected'!$B$10/F$10*'Historic - uncorrected'!E47) -> 0 | G47: =IF('Historic - uncorrected'!F47<0,"",'Historic - corrected'!$B$10/G$10*'Historic - uncorrected'!F47) -> 0 | H47: =IF('Historic - uncorrected'!G47<0,"",'Historic - corrected'!$B$10/H$10*'Historic - uncorrected'!G47) -> 0 | I47: =IF('Historic - uncorrected'!H47<0,"",'Historic - corrected'!$B$10/I$10*'Historic - uncorrected'!H47) -> 0 | J47: =IF('Historic - uncorrected'!I47<0,"",'Historic - corrected'!$B$10/J$10*'Historic - uncorrected'!I47) -> 0 | K47: =IF('Historic - uncorrected'!J47<0,"",'Historic - corrected'!$B$10/K$10*'Historic - uncorrected'!J47) -> 0 | L47: =IF('Historic - uncorrected'!K47<0,"",'Historic - corrected'!$B$10/L$10*'Historic - uncorrected'!K47) -> 0 | ... AM47: =IF('Historic - uncorrected'!AL47<0,"",'Historic - corrected'!$B$10/AM$10*'Historic - uncorrected'!AL47) -> 0 | AN47: =COUNTIF(C47:AM47,"<>0") -> 0
A48: Rock Pigeon (feral) | B48: =AVERAGE(E48:AM48) -> 214.4956 | C48: 0 | D48: 0 | E48: =IF('Historic - uncorrected'!D48<0,"",'Historic - corrected'!$B$10/E$10*'Historic - uncorrected'!D48) -> 487.05017 | F48: =IF('Historic - uncorrected'!E48<0,"",'Historic - corrected'!$B$10/F$10*'Historic - uncorrected'!E48) -> 286.20241 | G48: =IF('Historic - uncorrected'!F48<0,"",'Historic - corrected'!$B$10/G$10*'Historic - uncorrected'!F48) -> 351.84704 | H48: =IF('Historic - uncorrected'!G48<0,"",'Historic - corrected'!$B$10/H$10*'Historic - uncorrected'!G48) -> 141.45402 | I48: =IF('Historic - uncorrected'!H48<0,"",'Historic - corrected'!$B$10/I$10*'Historic - uncorrected'!H48) -> 346.45513 | J48: =IF('Historic - uncorrected'!I48<0,"",'Historic - corrected'!$B$10/J$10*'Historic - uncorrected'!I48) -> 87.648179 | K48: =IF('Historic - uncorrected'!J48<0,"",'Historic - corrected'!$B$10/K$10*'Historic - uncorrected'!J48) -> 348.56467 | L48: =IF('Historic - uncorrected'!K48<0,"",'Historic - corrected'!$B$10/L$10*'Historic - uncorrected'!K48) -> 61.574405 | ... AM48: =IF('Historic - uncorrected'!AL48<0,"",'Historic - corrected'!$B$10/AM$10*'Historic - uncorrected'!AL48) -> 10.91192 | AN48: =COUNTIF(C48:AM48,">0") -> 35
A49: Eurasian Collared-Dove | B49: =AVERAGE(E49:AM49) -> 1.5716953 | C49: 0 | D49: 0 | E49: =IF('Historic - uncorrected'!D49<0,"",'Historic - corrected'!$B$10/E$10*'Historic - uncorrected'!D49) -> 10.125783 | F49: =IF('Historic - uncorrected'!E49<0,"",'Historic - corrected'!$B$10/F$10*'Historic - uncorrected'!E49) -> 3.434429 | G49: =IF('Historic - uncorrected'!F49<0,"",'Historic - corrected'!$B$10/G$10*'Historic - uncorrected'!F49) -> 0.98556593 | H49: =IF('Historic - uncorrected'!G49<0,"",'Historic - corrected'!$B$10/H$10*'Historic - uncorrected'!G49) -> 17.276827 | I49: =IF('Historic - uncorrected'!H49<0,"",'Historic - corrected'!$B$10/I$10*'Historic - uncorrected'!H49) -> 2.3784105 | J49: =IF('Historic - uncorrected'!I49<0,"",'Historic - corrected'!$B$10/J$10*'Historic - uncorrected'!I49) -> 16.119205 | K49: =IF('Historic - uncorrected'!J49<0,"",'Historic - corrected'!$B$10/K$10*'Historic - uncorrected'!J49) -> 1.8740036 | L49: =IF('Historic - uncorrected'!K49<0,"",'Historic - corrected'!$B$10/L$10*'Historic - uncorrected'!K49) -> 0 | ... AM49: =IF('Historic - uncorrected'!AL49<0,"",'Historic - corrected'!$B$10/AM$10*'Historic - uncorrected'!AL49) -> 0 | AN49: =COUNTIF(C49:AM49,">0") -> 10
A50: Mourning Dove | B50: =AVERAGE(E50:AM50) -> 0.057924419 | C50: 0 | D50: 0 | E50: =IF('Historic - uncorrected'!D50<0,"",'Historic - corrected'!$B$10/E$10*'Historic - uncorrected'!D50) -> 0 | F50: =IF('Historic - uncorrected'!E50<0,"",'Historic - corrected'!$B$10/F$10*'Historic - uncorrected'!E50) -> 0 | G50: =IF('Historic - uncorrected'!F50<0,"",'Historic - corrected'!$B$10/G$10*'Historic - uncorrected'!F50) -> 0 | H50: =IF('Historic - uncorrected'!G50<0,"",'Historic - corrected'!$B$10/H$10*'Historic - uncorrected'!G50) -> 0 | I50: =IF('Historic - uncorrected'!H50<0,"",'Historic - corrected'!$B$10/I$10*'Historic - uncorrected'!H50) -> 0 | J50: =IF('Historic - uncorrected'!I50<0,"",'Historic - corrected'!$B$10/J$10*'Historic - uncorrected'!I50) -> 0 | K50: =IF('Historic - uncorrected'!J50<0,"",'Historic - corrected'!$B$10/K$10*'Historic - uncorrected'!J50) -> 0 | L50: =IF('Historic - uncorrected'!K50<0,"",'Historic - corrected'!$B$10/L$10*'Historic - uncorrected'!K50) -> 0 | ... AM50: =IF('Historic - uncorrected'!AL50<0,"",'Historic - corrected'!$B$10/AM$10*'Historic - uncorrected'!AL50) -> 0 | AN50: =COUNTIF(C50:AM50,">0") -> 2
A51: American Coot | B51: =AVERAGE(E51:AM51) -> 0 | C51: 0 | D51: 0 | E51: =IF('Historic - uncorrected'!D51<0,"",'Historic - corrected'!$B$10/E$10*'Historic - uncorrected'!D51) -> 0 | F51: =IF('Historic - uncorrected'!E51<0,"",'Historic - corrected'!$B$10/F$10*'Historic - uncorrected'!E51) -> 0 | G51: =IF('Historic - uncorrected'!F51<0,"",'Historic - corrected'!$B$10/G$10*'Historic - uncorrected'!F51) -> 0 | H51: =IF('Historic - uncorrected'!G51<0,"",'Historic - corrected'!$B$10/H$10*'Historic - uncorrected'!G51) -> 0 | I51: =IF('Historic - uncorrected'!H51<0,"",'Historic - corrected'!$B$10/I$10*'Historic - uncorrected'!H51) -> 0 | J51: =IF('Historic - uncorrected'!I51<0,"",'Historic - corrected'!$B$10/J$10*'Historic - uncorrected'!I51) -> 0 | K51: =IF('Historic - uncorrected'!J51<0,"",'Historic - corrected'!$B$10/K$10*'Historic - uncorrected'!J51) -> 0 | L51: =IF('Historic - uncorrected'!K51<0,"",'Historic - corrected'!$B$10/L$10*'Historic - uncorrected'!K51) -> 0 | ... AM51: =IF('Historic - uncorrected'!AL51<0,"",'Historic - corrected'!$B$10/AM$10*'Historic - uncorrected'!AL51) -> 0 | AN51: =COUNTIF(C51:AM51,"<>0") -> 0
A52: Wilson's Snipe | B52: =AVERAGE(E52:AM52) -> 0.026540692 | C52: 0 | D52: 0 | E52: =IF('Historic - uncorrected'!D52<0,"",'Historic - corrected'!$B$10/E$10*'Historic - uncorrected'!D52) -> 0 | F52: =IF('Historic - uncorrected'!E52<0,"",'Historic - corrected'!$B$10/F$10*'Historic - uncorrected'!E52) -> 0 | G52: =IF('Historic - uncorrected'!F52<0,"",'Historic - corrected'!$B$10/G$10*'Historic - uncorrected'!F52) -> 0 | H52: =IF('Historic - uncorrected'!G52<0,"",'Historic - corrected'!$B$10/H$10*'Historic - uncorrected'!G52) -> 0 | I52: =IF('Historic - uncorrected'!H52<0,"",'Historic - corrected'!$B$10/I$10*'Historic - uncorrected'!H52) -> 0 | J52: =IF('Historic - uncorrected'!I52<0,"",'Historic - corrected'!$B$10/J$10*'Historic - uncorrected'!I52) -> 0 | K52: =IF('Historic - uncorrected'!J52<0,"",'Historic - corrected'!$B$10/K$10*'Historic - uncorrected'!J52) -> 0 | L52: =IF('Historic - uncorrected'!K52<0,"",'Historic - corrected'!$B$10/L$10*'Historic - uncorrected'!K52) -> 0 | ... AM52: =IF('Historic - uncorrected'!AL52<0,"",'Historic - corrected'!$B$10/AM$10*'Historic - uncorrected'!AL52) -> 0 | AN52: =COUNTIF(C52:AM52,">0") -> 1
A53: Gull sp. | B53: =AVERAGE(E53:AM53) -> 0 | C53: 0 | D53: 0 | E53: =IF('Historic - uncorrected'!D53<0,"",'Historic - corrected'!$B$10/E$10*'Historic - uncorrected'!D53) -> 0 | F53: =IF('Historic - uncorrected'!E53<0,"",'Historic - corrected'!$B$10/F$10*'Historic - uncorrected'!E53) -> 0 | G53: =IF('Historic - uncorrected'!F53<0,"",'Historic - corrected'!$B$10/G$10*'Historic - uncorrected'!F53) -> 0 | H53: =IF('Historic - uncorrected'!G53<0,"",'Historic - corrected'!$B$10/H$10*'Historic - uncorrected'!G53) -> 0 | I53: =IF('Historic - uncorrected'!H53<0,"",'Historic - corrected'!$B$10/I$10*'Historic - uncorrected'!H53) -> 0 | J53: =IF('Historic - uncorrected'!I53<0,"",'Historic - corrected'!$B$10/J$10*'Historic - uncorrected'!I53) -> 0 | K53: =IF('Historic - uncorrected'!J53<0,"",'Historic - corrected'!$B$10/K$10*'Historic - uncorrected'!J53) -> 0 | L53: =IF('Historic - uncorrected'!K53<0,"",'Historic - corrected'!$B$10/L$10*'Historic - uncorrected'!K53) -> 0 | ... AM53: =IF('Historic - uncorrected'!AL53<0,"",'Historic - corrected'!$B$10/AM$10*'Historic - uncorrected'!AL53) -> 0 | AN53: =COUNTIF(C53:AM53,"<>0") -> 0
A54: Black-legged Kittiwake | B54: =AVERAGE(E54:AM54) -> 0 | C54: 0 | D54: 0 | E54: =IF('Historic - uncorrected'!D54<0,"",'Historic - corrected'!$B$10/E$10*'Historic - uncorrected'!D54) -> 0 | F54: =IF('Historic - uncorrected'!E54<0,"",'Historic - corrected'!$B$10/F$10*'Historic - uncorrected'!E54) -> 0 | G54: =IF('Historic - uncorrected'!F54<0,"",'Historic - corrected'!$B$10/G$10*'Historic - uncorrected'!F54) -> 0 | H54: =IF('Historic - uncorrected'!G54<0,"",'Historic - corrected'!$B$10/H$10*'Historic - uncorrected'!G54) -> 0 | I54: =IF('Historic - uncorrected'!H54<0,"",'Historic - corrected'!$B$10/I$10*'Historic - uncorrected'!H54) -> 0 | J54: =IF('Historic - uncorrected'!I54<0,"",'Historic - corrected'!$B$10/J$10*'Historic - uncorrected'!I54) -> 0 | K54: =IF('Historic - uncorrected'!J54<0,"",'Historic - corrected'!$B$10/K$10*'Historic - uncorrected'!J54) -> 0 | L54: =IF('Historic - uncorrected'!K54<0,"",'Historic - corrected'!$B$10/L$10*'Historic - uncorrected'!K54) -> 0 | ... AM54: =IF('Historic - uncorrected'!AL54<0,"",'Historic - corrected'!$B$10/AM$10*'Historic - uncorrected'!AL54) -> 0 | AN54: =COUNTIF(C54:AM54,"<>0") -> 0
A55: Ring-billed Gull | B55: =AVERAGE(E55:AM55) -> 0 | C55: 0 | D55: 0 | E55: =IF('Historic - uncorrected'!D55<0,"",'Historic - corrected'!$B$10/E$10*'Historic - uncorrected'!D55) -> 0 | F55: =IF('Historic - uncorrected'!E55<0,"",'Historic - corrected'!$B$10/F$10*'Historic - uncorrected'!E55) -> 0 | G55: =IF('Historic - uncorrected'!F55<0,"",'Historic - corrected'!$B$10/G$10*'Historic - uncorrected'!F55) -> 0 | H55: =IF('Historic - uncorrected'!G55<0,"",'Historic - corrected'!$B$10/H$10*'Historic - uncorrected'!G55) -> 0 | I55: =IF('Historic - uncorrected'!H55<0,"",'Historic - corrected'!$B$10/I$10*'Historic - uncorrected'!H55) -> 0 | J55: =IF('Historic - uncorrected'!I55<0,"",'Historic - corrected'!$B$10/J$10*'Historic - uncorrected'!I55) -> 0 | K55: =IF('Historic - uncorrected'!J55<0,"",'Historic - corrected'!$B$10/K$10*'Historic - uncorrected'!J55) -> 0 | L55: =IF('Historic - uncorrected'!K55<0,"",'Historic - corrected'!$B$10/L$10*'Historic - uncorrected'!K55) -> 0 | ... AM55: =IF('Historic - uncorrected'!AL55<0,"",'Historic - corrected'!$B$10/AM$10*'Historic - uncorrected'!AL55) -> 0 | AN55: =COUNTIF(C55:AM55,"<>0") -> 0
A56: Common Loon | B56: =AVERAGE(E56:AM56) -> 0 | C56: 0 | D56: 0 | E56: =IF('Historic - uncorrected'!D56<0,"",'Historic - corrected'!$B$10/E$10*'Historic - uncorrected'!D56) -> 0 | F56: =IF('Historic - uncorrected'!E56<0,"",'Historic - corrected'!$B$10/F$10*'Historic - uncorrected'!E56) -> 0 | G56: =IF('Historic - uncorrected'!F56<0,"",'Historic - corrected'!$B$10/G$10*'Historic - uncorrected'!F56) -> 0 | H56: =IF('Historic - uncorrected'!G56<0,"",'Historic - corrected'!$B$10/H$10*'Historic - uncorrected'!G56) -> 0 | I56: =IF('Historic - uncorrected'!H56<0,"",'Historic - corrected'!$B$10/I$10*'Historic - uncorrected'!H56) -> 0 | J56: =IF('Historic - uncorrected'!I56<0,"",'Historic - corrected'!$B$10/J$10*'Historic - uncorrected'!I56) -> 0 | K56: =IF('Historic - uncorrected'!J56<0,"",'Historic - corrected'!$B$10/K$10*'Historic - uncorrected'!J56) -> 0 | L56: =IF('Historic - uncorrected'!K56<0,"",'Historic - corrected'!$B$10/L$10*'Historic - uncorrected'!K56) -> 0 | ... AM56: =IF('Historic - uncorrected'!AL56<0,"",'Historic - corrected'!$B$10/AM$10*'Historic - uncorrected'!AL56) -> 0 | AN56: =COUNTIF(C56:AM56,"<>0") -> 0
A57: Turkey Vulture | B57: =AVERAGE(E57:AM57) -> 0 | C57: 0 | D57: 0 | E57: =IF('Historic - uncorrected'!D57<0,"",'Historic - corrected'!$B$10/E$10*'Historic - uncorrected'!D57) -> 0 | F57: =IF('Historic - uncorrected'!E57<0,"",'Historic - corrected'!$B$10/F$10*'Historic - uncorrected'!E57) -> 0 | G57: =IF('Historic - uncorrected'!F57<0,"",'Historic - corrected'!$B$10/G$10*'Historic - uncorrected'!F57) -> 0 | H57: =IF('Historic - uncorrected'!G57<0,"",'Historic - corrected'!$B$10/H$10*'Historic - uncorrected'!G57) -> 0 | I57: =IF('Historic - uncorrected'!H57<0,"",'Historic - corrected'!$B$10/I$10*'Historic - uncorrected'!H57) -> 0 | J57: =IF('Historic - uncorrected'!I57<0,"",'Historic - corrected'!$B$10/J$10*'Historic - uncorrected'!I57) -> 0 | K57: =IF('Historic - uncorrected'!J57<0,"",'Historic - corrected'!$B$10/K$10*'Historic - uncorrected'!J57) -> 0 | L57: =IF('Historic - uncorrected'!K57<0,"",'Historic - corrected'!$B$10/L$10*'Historic - uncorrected'!K57) -> 0 | ... AM57: =IF('Historic - uncorrected'!AL57<0,"",'Historic - corrected'!$B$10/AM$10*'Historic - uncorrected'!AL57) -> 0 | AN57: =COUNTIF(C57:AM57,"<>0") -> 0
A58: Eagle sp. | B58: =AVERAGE(E58:AM58) -> 0 | C58: 0 | D58: 0 | E58: =IF('Historic - uncorrected'!D58<0,"",'Historic - corrected'!$B$10/E$10*'Historic - uncorrected'!D58) -> 0 | F58: =IF('Historic - uncorrected'!E58<0,"",'Historic - corrected'!$B$10/F$10*'Historic - uncorrected'!E58) -> 0 | G58: =IF('Historic - uncorrected'!F58<0,"",'Historic - corrected'!$B$10/G$10*'Historic - uncorrected'!F58) -> 0 | H58: =IF('Historic - uncorrected'!G58<0,"",'Historic - corrected'!$B$10/H$10*'Historic - uncorrected'!G58) -> 0 | I58: =IF('Historic - uncorrected'!H58<0,"",'Historic - corrected'!$B$10/I$10*'Historic - uncorrected'!H58) -> 0 | J58: =IF('Historic - uncorrected'!I58<0,"",'Historic - corrected'!$B$10/J$10*'Historic - uncorrected'!I58) -> 0 | K58: =IF('Historic - uncorrected'!J58<0,"",'Historic - corrected'!$B$10/K$10*'Historic - uncorrected'!J58) -> 0 | L58: =IF('Historic - uncorrected'!K58<0,"",'Historic - corrected'!$B$10/L$10*'Historic - uncorrected'!K58) -> 0 | ... AM58: =IF('Historic - uncorrected'!AL58<0,"",'Historic - corrected'!$B$10/AM$10*'Historic - uncorrected'!AL58) -> 0 | AN58: =COUNTIF(C58:AM58,"<>0") -> 0
A59: Golden Eagle | B59: =AVERAGE(E59:AM59) -> 0 | C59: 0 | D59: 0 | E59: =IF('Historic - uncorrected'!D59<0,"",'Historic - corrected'!$B$10/E$10*'Historic - uncorrected'!D59) -> 0 | F59: =IF('Historic - uncorrected'!E59<0,"",'Historic - corrected'!$B$10/F$10*'Historic - uncorrected'!E59) -> 0 | G59: =IF('Historic - uncorrected'!F59<0,"",'Historic - corrected'!$B$10/G$10*'Historic - uncorrected'!F59) -> 0 | H59: =IF('Historic - uncorrected'!G59<0,"",'Historic - corrected'!$B$10/H$10*'Historic - uncorrected'!G59) -> 0 | I59: =IF('Historic - uncorrected'!H59<0,"",'Historic - corrected'!$B$10/I$10*'Historic - uncorrected'!H59) -> 0 | J59: =IF('Historic - uncorrected'!I59<0,"",'Historic - corrected'!$B$10/J$10*'Historic - uncorrected'!I59) -> 0 | K59: =IF('Historic - uncorrected'!J59<0,"",'Historic - corrected'!$B$10/K$10*'Historic - uncorrected'!J59) -> 0 | L59: =IF('Historic - uncorrected'!K59<0,"",'Historic - corrected'!$B$10/L$10*'Historic - uncorrected'!K59) -> 0 | ... AM59: =IF('Historic - uncorrected'!AL59<0,"",'Historic - corrected'!$B$10/AM$10*'Historic - uncorrected'!AL59) -> 0 | AN59: =COUNTIF(C59:AM59,"<>0") -> 0
A60: Hawk sp. | B60: =AVERAGE(E60:AM60) -> 0.052823678 | C60: 0 | D60: 0 | E60: =IF('Historic - uncorrected'!D60<0,"",'Historic - corrected'!$B$10/E$10*'Historic - uncorrected'!D60) -> 0 | F60: =IF('Historic - uncorrected'!E60<0,"",'Historic - corrected'!$B$10/F$10*'Historic - uncorrected'!E60) -> 0 | G60: =IF('Historic - uncorrected'!F60<0,"",'Historic - corrected'!$B$10/G$10*'Historic - uncorrected'!F60) -> 0 | H60: =IF('Historic - uncorrected'!G60<0,"",'Historic - corrected'!$B$10/H$10*'Historic - uncorrected'!G60) -> 0 | I60: =IF('Historic - uncorrected'!H60<0,"",'Historic - corrected'!$B$10/I$10*'Historic - uncorrected'!H60) -> 0 | J60: =IF('Historic - uncorrected'!I60<0,"",'Historic - corrected'!$B$10/J$10*'Historic - uncorrected'!I60) -> 0 | K60: =IF('Historic - uncorrected'!J60<0,"",'Historic - corrected'!$B$10/K$10*'Historic - uncorrected'!J60) -> 0 | L60: =IF('Historic - uncorrected'!K60<0,"",'Historic - corrected'!$B$10/L$10*'Historic - uncorrected'!K60) -> 0 | ... AM60: =IF('Historic - uncorrected'!AL60<0,"",'Historic - corrected'!$B$10/AM$10*'Historic - uncorrected'!AL60) -> 0 | AN60: =COUNTIF(C60:AM60,">0") -> 2
A61: Northern Harrier | B61: =AVERAGE(E61:AM61) -> 0 | C61: 0 | D61: 0 | E61: =IF('Historic - uncorrected'!D61<0,"",'Historic - corrected'!$B$10/E$10*'Historic - uncorrected'!D61) -> 0 | F61: =IF('Historic - uncorrected'!E61<0,"",'Historic - corrected'!$B$10/F$10*'Historic - uncorrected'!E61) -> 0 | G61: =IF('Historic - uncorrected'!F61<0,"",'Historic - corrected'!$B$10/G$10*'Historic - uncorrected'!F61) -> 0 | H61: =IF('Historic - uncorrected'!G61<0,"",'Historic - corrected'!$B$10/H$10*'Historic - uncorrected'!G61) -> 0 | I61: =IF('Historic - uncorrected'!H61<0,"",'Historic - corrected'!$B$10/I$10*'Historic - uncorrected'!H61) -> 0 | J61: =IF('Historic - uncorrected'!I61<0,"",'Historic - corrected'!$B$10/J$10*'Historic - uncorrected'!I61) -> 0 | K61: =IF('Historic - uncorrected'!J61<0,"",'Historic - corrected'!$B$10/K$10*'Historic - uncorrected'!J61) -> 0 | L61: =IF('Historic - uncorrected'!K61<0,"",'Historic - corrected'!$B$10/L$10*'Historic - uncorrected'!K61) -> 0 | ... AM61: =IF('Historic - uncorrected'!AL61<0,"",'Historic - corrected'!$B$10/AM$10*'Historic - uncorrected'!AL61) -> 0 | AN61: =COUNTIF(C61:AM61,">0") -> 0
A62: Accipiter sp. | B62: =AVERAGE(E62:AM62) -> 0 | C62: 0 | D62: 0 | E62: =IF('Historic - uncorrected'!D62<0,"",'Historic - corrected'!$B$10/E$10*'Historic - uncorrected'!D62) -> 0 | F62: =IF('Historic - uncorrected'!E62<0,"",'Historic - corrected'!$B$10/F$10*'Historic - uncorrected'!E62) -> 0 | G62: =IF('Historic - uncorrected'!F62<0,"",'Historic - corrected'!$B$10/G$10*'Historic - uncorrected'!F62) -> 0 | H62: =IF('Historic - uncorrected'!G62<0,"",'Historic - corrected'!$B$10/H$10*'Historic - uncorrected'!G62) -> 0 | I62: =IF('Historic - uncorrected'!H62<0,"",'Historic - corrected'!$B$10/I$10*'Historic - uncorrected'!H62) -> 0 | J62: =IF('Historic - uncorrected'!I62<0,"",'Historic - corrected'!$B$10/J$10*'Historic - uncorrected'!I62) -> 0 | K62: =IF('Historic - uncorrected'!J62<0,"",'Historic - corrected'!$B$10/K$10*'Historic - uncorrected'!J62) -> 0 | L62: =IF('Historic - uncorrected'!K62<0,"",'Historic - corrected'!$B$10/L$10*'Historic - uncorrected'!K62) -> 0 | ... AM62: =IF('Historic - uncorrected'!AL62<0,"",'Historic - corrected'!$B$10/AM$10*'Historic - uncorrected'!AL62) -> 0 | AN62: =COUNTIF(C62:AM62,"<>0") -> 0
A63: Small Accipiter sp. | B63: =AVERAGE(E63:AM63) -> 0 | C63: 0 | D63: 0 | E63: =IF('Historic - uncorrected'!D63<0,"",'Historic - corrected'!$B$10/E$10*'Historic - uncorrected'!D63) -> 0 | F63: =IF('Historic - uncorrected'!E63<0,"",'Historic - corrected'!$B$10/F$10*'Historic - uncorrected'!E63) -> 0 | G63: =IF('Historic - uncorrected'!F63<0,"",'Historic - corrected'!$B$10/G$10*'Historic - uncorrected'!F63) -> 0 | H63: =IF('Historic - uncorrected'!G63<0,"",'Historic - corrected'!$B$10/H$10*'Historic - uncorrected'!G63) -> 0 | I63: =IF('Historic - uncorrected'!H63<0,"",'Historic - corrected'!$B$10/I$10*'Historic - uncorrected'!H63) -> 0 | J63: =IF('Historic - uncorrected'!I63<0,"",'Historic - corrected'!$B$10/J$10*'Historic - uncorrected'!I63) -> 0 | K63: =IF('Historic - uncorrected'!J63<0,"",'Historic - corrected'!$B$10/K$10*'Historic - uncorrected'!J63) -> 0 | L63: =IF('Historic - uncorrected'!K63<0,"",'Historic - corrected'!$B$10/L$10*'Historic - uncorrected'!K63) -> 0 | ... AM63: =IF('Historic - uncorrected'!AL63<0,"",'Historic - corrected'!$B$10/AM$10*'Historic - uncorrected'!AL63) -> 0 | AN63: =COUNTIF(C63:AM63,"<>0") -> 0
A64: Sharp-shinned Hawk | B64: =AVERAGE(E64:AM64) -> 0.26658305 | C64: 0 | D64: 0 | E64: =IF('Historic - uncorrected'!D64<0,"",'Historic - corrected'!$B$10/E$10*'Historic - uncorrected'!D64) -> 0 | F64: =IF('Historic - uncorrected'!E64<0,"",'Historic - corrected'!$B$10/F$10*'Historic - uncorrected'!E64) -> 1.1448097 | G64: =IF('Historic - uncorrected'!F64<0,"",'Historic - corrected'!$B$10/G$10*'Historic - uncorrected'!F64) -> 1.9711319 | H64: =IF('Historic - uncorrected'!G64<0,"",'Historic - corrected'!$B$10/H$10*'Historic - uncorrected'!G64) -> 0 | I64: =IF('Historic - uncorrected'!H64<0,"",'Historic - corrected'!$B$10/I$10*'Historic - uncorrected'!H64) -> 0 | J64: =IF('Historic - uncorrected'!I64<0,"",'Historic - corrected'!$B$10/J$10*'Historic - uncorrected'!I64) -> 0 | K64: =IF('Historic - uncorrected'!J64<0,"",'Historic - corrected'!$B$10/K$10*'Historic - uncorrected'!J64) | L64: =IF('Historic - uncorrected'!K64<0,"",'Historic - corrected'!$B$10/L$10*'Historic - uncorrected'!K64) -> 0 | ... AM64: =IF('Historic - uncorrected'!AL64<0,"",'Historic - corrected'!$B$10/AM$10*'Historic - uncorrected'!AL64) -> 0 | AN64: =COUNTIF(C64:AM64,">0") -> 7
A65: Cooper's Hawk | B65: =AVERAGE(E65:AM65) -> 0.026540692 | C65: 0 | D65: 0 | E65: =IF('Historic - uncorrected'!D65<0,"",'Historic - corrected'!$B$10/E$10*'Historic - uncorrected'!D65) -> 0 | F65: =IF('Historic - uncorrected'!E65<0,"",'Historic - corrected'!$B$10/F$10*'Historic - uncorrected'!E65) -> 0 | G65: =IF('Historic - uncorrected'!F65<0,"",'Historic - corrected'!$B$10/G$10*'Historic - uncorrected'!F65) -> 0 | H65: =IF('Historic - uncorrected'!G65<0,"",'Historic - corrected'!$B$10/H$10*'Historic - uncorrected'!G65) -> 0 | I65: =IF('Historic - uncorrected'!H65<0,"",'Historic - corrected'!$B$10/I$10*'Historic - uncorrected'!H65) -> 0 | J65: =IF('Historic - uncorrected'!I65<0,"",'Historic - corrected'!$B$10/J$10*'Historic - uncorrected'!I65) -> 0 | K65: =IF('Historic - uncorrected'!J65<0,"",'Historic - corrected'!$B$10/K$10*'Historic - uncorrected'!J65) -> 0 | L65: =IF('Historic - uncorrected'!K65<0,"",'Historic - corrected'!$B$10/L$10*'Historic - uncorrected'!K65) -> 0 | ... AM65: =IF('Historic - uncorrected'!AL65<0,"",'Historic - corrected'!$B$10/AM$10*'Historic - uncorrected'!AL65) -> 0 | AN65: =COUNTIF(C65:AM65,">0") -> 1
A66: American Goshawk | B66: =AVERAGE(E66:AM66) -> 0.65287751 | C66: 0 | D66: 0 | E66: =IF('Historic - uncorrected'!D66<0,"",'Historic - corrected'!$B$10/E$10*'Historic - uncorrected'!D66) -> 0 | F66: =IF('Historic - uncorrected'!E66<0,"",'Historic - corrected'!$B$10/F$10*'Historic - uncorrected'!E66) -> 3.434429 | G66: =IF('Historic - uncorrected'!F66<0,"",'Historic - corrected'!$B$10/G$10*'Historic - uncorrected'!F66) -> 0 | H66: =IF('Historic - uncorrected'!G66<0,"",'Historic - corrected'!$B$10/H$10*'Historic - uncorrected'!G66) -> 0 | I66: =IF('Historic - uncorrected'!H66<0,"",'Historic - corrected'!$B$10/I$10*'Historic - uncorrected'!H66) -> 0.79280349 | J66: =IF('Historic - uncorrected'!I66<0,"",'Historic - corrected'!$B$10/J$10*'Historic - uncorrected'!I66) | K66: =IF('Historic - uncorrected'!J66<0,"",'Historic - corrected'!$B$10/K$10*'Historic - uncorrected'!J66) -> 0 | L66: =IF('Historic - uncorrected'!K66<0,"",'Historic - corrected'!$B$10/L$10*'Historic - uncorrected'!K66) -> 0 | ... AM66: =IF('Historic - uncorrected'!AL66<0,"",'Historic - corrected'!$B$10/AM$10*'Historic - uncorrected'!AL66) -> 0 | AN66: =COUNTIF(C66:AM66,">0") -> 14
A67: Bald Eagle | B67: =AVERAGE(E67:AM67) -> 1.6598694 | C67: 0 | D67: 0 | E67: =IF('Historic - uncorrected'!D67<0,"",'Historic - corrected'!$B$10/E$10*'Historic - uncorrected'!D67) -> 3.0377349 | F67: =IF('Historic - uncorrected'!E67<0,"",'Historic - corrected'!$B$10/F$10*'Historic - uncorrected'!E67) -> 1.1448097 | G67: =IF('Historic - uncorrected'!F67<0,"",'Historic - corrected'!$B$10/G$10*'Historic - uncorrected'!F67) -> 6.8989615 | H67: =IF('Historic - uncorrected'!G67<0,"",'Historic - corrected'!$B$10/H$10*'Historic - uncorrected'!G67) -> 1.0798017 | I67: =IF('Historic - uncorrected'!H67<0,"",'Historic - corrected'!$B$10/I$10*'Historic - uncorrected'!H67) | J67: =IF('Historic - uncorrected'!I67<0,"",'Historic - corrected'!$B$10/J$10*'Historic - uncorrected'!I67) -> 5.0372517 | K67: =IF('Historic - uncorrected'!J67<0,"",'Historic - corrected'!$B$10/K$10*'Historic - uncorrected'!J67) -> 0 | L67: =IF('Historic - uncorrected'!K67<0,"",'Historic - corrected'!$B$10/L$10*'Historic - uncorrected'!K67) -> 2.0188329 | ... AM67: =IF('Historic - uncorrected'!AL67<0,"",'Historic - corrected'!$B$10/AM$10*'Historic - uncorrected'!AL67) -> 0 | AN67: =COUNTIF(C67:AM67,">0") -> 23
A68: Buteo sp. | B68: =AVERAGE(E68:AM68) -> 0 | C68: 0 | D68: 0 | E68: =IF('Historic - uncorrected'!D68<0,"",'Historic - corrected'!$B$10/E$10*'Historic - uncorrected'!D68) -> 0 | F68: =IF('Historic - uncorrected'!E68<0,"",'Historic - corrected'!$B$10/F$10*'Historic - uncorrected'!E68) -> 0 | G68: =IF('Historic - uncorrected'!F68<0,"",'Historic - corrected'!$B$10/G$10*'Historic - uncorrected'!F68) -> 0 | H68: =IF('Historic - uncorrected'!G68<0,"",'Historic - corrected'!$B$10/H$10*'Historic - uncorrected'!G68) -> 0 | I68: =IF('Historic - uncorrected'!H68<0,"",'Historic - corrected'!$B$10/I$10*'Historic - uncorrected'!H68) -> 0 | J68: =IF('Historic - uncorrected'!I68<0,"",'Historic - corrected'!$B$10/J$10*'Historic - uncorrected'!I68) -> 0 | K68: =IF('Historic - uncorrected'!J68<0,"",'Historic - corrected'!$B$10/K$10*'Historic - uncorrected'!J68) -> 0 | L68: =IF('Historic - uncorrected'!K68<0,"",'Historic - corrected'!$B$10/L$10*'Historic - uncorrected'!K68) -> 0 | ... AM68: =IF('Historic - uncorrected'!AL68<0,"",'Historic - corrected'!$B$10/AM$10*'Historic - uncorrected'!AL68) -> 0 | AN68: =COUNTIF(C68:AM68,"<>0") -> 0
A69: Red-tailed Hawk | B69: =AVERAGE(E69:AM69) -> 0.025391507 | C69: 0 | D69: 0 | E69: =IF('Historic - uncorrected'!D69<0,"",'Historic - corrected'!$B$10/E$10*'Historic - uncorrected'!D69) -> 0 | F69: =IF('Historic - uncorrected'!E69<0,"",'Historic - corrected'!$B$10/F$10*'Historic - uncorrected'!E69) -> 0 | G69: =IF('Historic - uncorrected'!F69<0,"",'Historic - corrected'!$B$10/G$10*'Historic - uncorrected'!F69) -> 0 | H69: =IF('Historic - uncorrected'!G69<0,"",'Historic - corrected'!$B$10/H$10*'Historic - uncorrected'!G69) -> 0 | I69: =IF('Historic - uncorrected'!H69<0,"",'Historic - corrected'!$B$10/I$10*'Historic - uncorrected'!H69) -> 0 | J69: =IF('Historic - uncorrected'!I69<0,"",'Historic - corrected'!$B$10/J$10*'Historic - uncorrected'!I69) -> 0 | K69: =IF('Historic - uncorrected'!J69<0,"",'Historic - corrected'!$B$10/K$10*'Historic - uncorrected'!J69) -> 0 | L69: =IF('Historic - uncorrected'!K69<0,"",'Historic - corrected'!$B$10/L$10*'Historic - uncorrected'!K69) -> 0 | ... AM69: =IF('Historic - uncorrected'!AL69<0,"",'Historic - corrected'!$B$10/AM$10*'Historic - uncorrected'!AL69) -> 0 | AN69: =COUNTIF(C69:AM69,">0") -> 1
A70: Rough-legged Hawk | B70: =AVERAGE(E70:AM70) -> 0.19926352 | C70: 0 | D70: 0 | E70: =IF('Historic - uncorrected'!D70<0,"",'Historic - corrected'!$B$10/E$10*'Historic - uncorrected'!D70) -> 1.0125783 | F70: =IF('Historic - uncorrected'!E70<0,"",'Historic - corrected'!$B$10/F$10*'Historic - uncorrected'!E70) -> 0 | G70: =IF('Historic - uncorrected'!F70<0,"",'Historic - corrected'!$B$10/G$10*'Historic - uncorrected'!F70) -> 0 | H70: =IF('Historic - uncorrected'!G70<0,"",'Historic - corrected'!$B$10/H$10*'Historic - uncorrected'!G70) -> 0 | I70: =IF('Historic - uncorrected'!H70<0,"",'Historic - corrected'!$B$10/I$10*'Historic - uncorrected'!H70) -> 0 | J70: =IF('Historic - uncorrected'!I70<0,"",'Historic - corrected'!$B$10/J$10*'Historic - uncorrected'!I70) -> 0 | K70: =IF('Historic - uncorrected'!J70<0,"",'Historic - corrected'!$B$10/K$10*'Historic - uncorrected'!J70) -> 0 | L70: =IF('Historic - uncorrected'!K70<0,"",'Historic - corrected'!$B$10/L$10*'Historic - uncorrected'!K70) -> 0 | ... AM70: =IF('Historic - uncorrected'!AL70<0,"",'Historic - corrected'!$B$10/AM$10*'Historic - uncorrected'!AL70) -> 0 | AN70: =COUNTIF(C70:AM70,">0") -> 5
A71: Owl sp. | B71: =AVERAGE(E71:AM71) -> 0 | C71: 0 | D71: 0 | E71: =IF('Historic - uncorrected'!D71<0,"",'Historic - corrected'!$B$10/E$10*'Historic - uncorrected'!D71) -> 0 | F71: =IF('Historic - uncorrected'!E71<0,"",'Historic - corrected'!$B$10/F$10*'Historic - uncorrected'!E71) -> 0 | G71: =IF('Historic - uncorrected'!F71<0,"",'Historic - corrected'!$B$10/G$10*'Historic - uncorrected'!F71) -> 0 | H71: =IF('Historic - uncorrected'!G71<0,"",'Historic - corrected'!$B$10/H$10*'Historic - uncorrected'!G71) -> 0 | I71: =IF('Historic - uncorrected'!H71<0,"",'Historic - corrected'!$B$10/I$10*'Historic - uncorrected'!H71) -> 0 | J71: =IF('Historic - uncorrected'!I71<0,"",'Historic - corrected'!$B$10/J$10*'Historic - uncorrected'!I71) -> 0 | K71: =IF('Historic - uncorrected'!J71<0,"",'Historic - corrected'!$B$10/K$10*'Historic - uncorrected'!J71) -> 0 | L71: =IF('Historic - uncorrected'!K71<0,"",'Historic - corrected'!$B$10/L$10*'Historic - uncorrected'!K71) -> 0 | ... AM71: =IF('Historic - uncorrected'!AL71<0,"",'Historic - corrected'!$B$10/AM$10*'Historic - uncorrected'!AL71) -> 0 | AN71: =COUNTIF(C71:AM71,"<>0") -> 0
A72: Snowy Owl | B72: =AVERAGE(E72:AM72) -> 3.1440896 | C72: 0 | D72: 0 | E72: =IF('Historic - uncorrected'!D72<0,"",'Historic - corrected'!$B$10/E$10*'Historic - uncorrected'!D72) -> 3.0377349 | F72: =IF('Historic - uncorrected'!E72<0,"",'Historic - corrected'!$B$10/F$10*'Historic - uncorrected'!E72) -> 0 | G72: =IF('Historic - uncorrected'!F72<0,"",'Historic - corrected'!$B$10/G$10*'Historic - uncorrected'!F72) -> 1.9711319 | H72: =IF('Historic - uncorrected'!G72<0,"",'Historic - corrected'!$B$10/H$10*'Historic - uncorrected'!G72) -> 2.1596033 | I72: =IF('Historic - uncorrected'!H72<0,"",'Historic - corrected'!$B$10/I$10*'Historic - uncorrected'!H72) -> 1.585607 | J72: =IF('Historic - uncorrected'!I72<0,"",'Historic - corrected'!$B$10/J$10*'Historic - uncorrected'!I72) | K72: =IF('Historic - uncorrected'!J72<0,"",'Historic - corrected'!$B$10/K$10*'Historic - uncorrected'!J72) -> 4.6850091 | L72: =IF('Historic - uncorrected'!K72<0,"",'Historic - corrected'!$B$10/L$10*'Historic - uncorrected'!K72) -> 2.0188329 | ... AM72: =IF('Historic - uncorrected'!AL72<0,"",'Historic - corrected'!$B$10/AM$10*'Historic - uncorrected'!AL72) -> 6.5471519 | AN72: =COUNTIF(C72:AM72,">0") -> 31
A73: Great Horned Owl | B73: =AVERAGE(E73:AM73) -> 3.6016618 | C73: 0 | D73: 0 | E73: =IF('Historic - uncorrected'!D73<0,"",'Historic - corrected'!$B$10/E$10*'Historic - uncorrected'!D73) -> 4.0503132 | F73: =IF('Historic - uncorrected'!E73<0,"",'Historic - corrected'!$B$10/F$10*'Historic - uncorrected'!E73) -> 2.2896193 | G73: =IF('Historic - uncorrected'!F73<0,"",'Historic - corrected'!$B$10/G$10*'Historic - uncorrected'!F73) -> 2.9566978 | H73: =IF('Historic - uncorrected'!G73<0,"",'Historic - corrected'!$B$10/H$10*'Historic - uncorrected'!G73) -> 2.1596033 | I73: =IF('Historic - uncorrected'!H73<0,"",'Historic - corrected'!$B$10/I$10*'Historic - uncorrected'!H73) -> 3.9640175 | J73: =IF('Historic - uncorrected'!I73<0,"",'Historic - corrected'!$B$10/J$10*'Historic - uncorrected'!I73) -> 1.0074503 | K73: =IF('Historic - uncorrected'!J73<0,"",'Historic - corrected'!$B$10/K$10*'Historic - uncorrected'!J73) -> 4.6850091 | L73: =IF('Historic - uncorrected'!K73<0,"",'Historic - corrected'!$B$10/L$10*'Historic - uncorrected'!K73) -> 4.0376659 | ... AM73: =IF('Historic - uncorrected'!AL73<0,"",'Historic - corrected'!$B$10/AM$10*'Historic - uncorrected'!AL73) -> 0 | AN73: =COUNTIF(C73:AM73,">0") -> 34
A74: Northern Hawk Owl | B74: =AVERAGE(E74:AM74) -> 0.027145789 | C74: 0 | D74: 0 | E74: =IF('Historic - uncorrected'!D74<0,"",'Historic - corrected'!$B$10/E$10*'Historic - uncorrected'!D74) -> 0 | F74: =IF('Historic - uncorrected'!E74<0,"",'Historic - corrected'!$B$10/F$10*'Historic - uncorrected'!E74) -> 0 | G74: =IF('Historic - uncorrected'!F74<0,"",'Historic - corrected'!$B$10/G$10*'Historic - uncorrected'!F74) -> 0 | H74: =IF('Historic - uncorrected'!G74<0,"",'Historic - corrected'!$B$10/H$10*'Historic - uncorrected'!G74) -> 0 | I74: =IF('Historic - uncorrected'!H74<0,"",'Historic - corrected'!$B$10/I$10*'Historic - uncorrected'!H74) -> 0 | J74: =IF('Historic - uncorrected'!I74<0,"",'Historic - corrected'!$B$10/J$10*'Historic - uncorrected'!I74) | K74: =IF('Historic - uncorrected'!J74<0,"",'Historic - corrected'!$B$10/K$10*'Historic - uncorrected'!J74) -> 0 | L74: =IF('Historic - uncorrected'!K74<0,"",'Historic - corrected'!$B$10/L$10*'Historic - uncorrected'!K74) -> 0 | ... AM74: =IF('Historic - uncorrected'!AL74<0,"",'Historic - corrected'!$B$10/AM$10*'Historic - uncorrected'!AL74) -> 0 | AN74: =COUNTIF(C74:AM74,">0") -> 1
A75: Great Gray Owl | B75: =AVERAGE(E75:AM75) -> 0.036008424 | C75: 0 | D75: 0 | E75: =IF('Historic - uncorrected'!D75<0,"",'Historic - corrected'!$B$10/E$10*'Historic - uncorrected'!D75) -> 0 | F75: =IF('Historic - uncorrected'!E75<0,"",'Historic - corrected'!$B$10/F$10*'Historic - uncorrected'!E75) -> 0 | G75: =IF('Historic - uncorrected'!F75<0,"",'Historic - corrected'!$B$10/G$10*'Historic - uncorrected'!F75) -> 0 | H75: =IF('Historic - uncorrected'!G75<0,"",'Historic - corrected'!$B$10/H$10*'Historic - uncorrected'!G75) -> 0 | I75: =IF('Historic - uncorrected'!H75<0,"",'Historic - corrected'!$B$10/I$10*'Historic - uncorrected'!H75) -> 0 | J75: =IF('Historic - uncorrected'!I75<0,"",'Historic - corrected'!$B$10/J$10*'Historic - uncorrected'!I75) -> 0 | K75: =IF('Historic - uncorrected'!J75<0,"",'Historic - corrected'!$B$10/K$10*'Historic - uncorrected'!J75) -> 0 | L75: =IF('Historic - uncorrected'!K75<0,"",'Historic - corrected'!$B$10/L$10*'Historic - uncorrected'!K75) -> 0 | ... AM75: =IF('Historic - uncorrected'!AL75<0,"",'Historic - corrected'!$B$10/AM$10*'Historic - uncorrected'!AL75) -> 0 | AN75: =COUNTIF(C75:AM75,">0") -> 1
A76: Short-eared Owl | B76: =AVERAGE(E76:AM76) -> 0.14165623 | C76: 0 | D76: 0 | E76: =IF('Historic - uncorrected'!D76<0,"",'Historic - corrected'!$B$10/E$10*'Historic - uncorrected'!D76) -> 0 | F76: =IF('Historic - uncorrected'!E76<0,"",'Historic - corrected'!$B$10/F$10*'Historic - uncorrected'!E76) -> 1.1448097 | G76: =IF('Historic - uncorrected'!F76<0,"",'Historic - corrected'!$B$10/G$10*'Historic - uncorrected'!F76) -> 0 | H76: =IF('Historic - uncorrected'!G76<0,"",'Historic - corrected'!$B$10/H$10*'Historic - uncorrected'!G76) -> 0 | I76: =IF('Historic - uncorrected'!H76<0,"",'Historic - corrected'!$B$10/I$10*'Historic - uncorrected'!H76) -> 0 | J76: =IF('Historic - uncorrected'!I76<0,"",'Historic - corrected'!$B$10/J$10*'Historic - uncorrected'!I76) -> 0 | K76: =IF('Historic - uncorrected'!J76<0,"",'Historic - corrected'!$B$10/K$10*'Historic - uncorrected'!J76) -> 0 | L76: =IF('Historic - uncorrected'!K76<0,"",'Historic - corrected'!$B$10/L$10*'Historic - uncorrected'!K76) -> 0 | ... AM76: =IF('Historic - uncorrected'!AL76<0,"",'Historic - corrected'!$B$10/AM$10*'Historic - uncorrected'!AL76) -> 0 | AN76: =COUNTIF(C76:AM76,">0") -> 4
A77: Boreal Owl | B77: =AVERAGE(E77:AM77) -> 0 | C77: 0 | D77: 0 | E77: =IF('Historic - uncorrected'!D77<0,"",'Historic - corrected'!$B$10/E$10*'Historic - uncorrected'!D77) -> 0 | F77: =IF('Historic - uncorrected'!E77<0,"",'Historic - corrected'!$B$10/F$10*'Historic - uncorrected'!E77) | G77: =IF('Historic - uncorrected'!F77<0,"",'Historic - corrected'!$B$10/G$10*'Historic - uncorrected'!F77) -> 0 | H77: =IF('Historic - uncorrected'!G77<0,"",'Historic - corrected'!$B$10/H$10*'Historic - uncorrected'!G77) -> 0 | I77: =IF('Historic - uncorrected'!H77<0,"",'Historic - corrected'!$B$10/I$10*'Historic - uncorrected'!H77) -> 0 | J77: =IF('Historic - uncorrected'!I77<0,"",'Historic - corrected'!$B$10/J$10*'Historic - uncorrected'!I77) -> 0 | K77: =IF('Historic - uncorrected'!J77<0,"",'Historic - corrected'!$B$10/K$10*'Historic - uncorrected'!J77) -> 0 | L77: =IF('Historic - uncorrected'!K77<0,"",'Historic - corrected'!$B$10/L$10*'Historic - uncorrected'!K77) -> 0 | ... AM77: =IF('Historic - uncorrected'!AL77<0,"",'Historic - corrected'!$B$10/AM$10*'Historic - uncorrected'!AL77) -> 0 | AN77: =COUNTIF(C77:AM77,">0") -> 0
A78: Northern Saw-whet Owl | B78: =AVERAGE(E78:AM78) -> 0 | C78: 0 | D78: 0 | E78: =IF('Historic - uncorrected'!D78<0,"",'Historic - corrected'!$B$10/E$10*'Historic - uncorrected'!D78) -> 0 | F78: =IF('Historic - uncorrected'!E78<0,"",'Historic - corrected'!$B$10/F$10*'Historic - uncorrected'!E78) -> 0 | G78: =IF('Historic - uncorrected'!F78<0,"",'Historic - corrected'!$B$10/G$10*'Historic - uncorrected'!F78) -> 0 | H78: =IF('Historic - uncorrected'!G78<0,"",'Historic - corrected'!$B$10/H$10*'Historic - uncorrected'!G78) -> 0 | I78: =IF('Historic - uncorrected'!H78<0,"",'Historic - corrected'!$B$10/I$10*'Historic - uncorrected'!H78) -> 0 | J78: =IF('Historic - uncorrected'!I78<0,"",'Historic - corrected'!$B$10/J$10*'Historic - uncorrected'!I78) -> 0 | K78: =IF('Historic - uncorrected'!J78<0,"",'Historic - corrected'!$B$10/K$10*'Historic - uncorrected'!J78) -> 0 | L78: =IF('Historic - uncorrected'!K78<0,"",'Historic - corrected'!$B$10/L$10*'Historic - uncorrected'!K78) -> 0 | ... AM78: =IF('Historic - uncorrected'!AL78<0,"",'Historic - corrected'!$B$10/AM$10*'Historic - uncorrected'!AL78) -> 0 | AN78: =COUNTIF(C78:AM78,">0") -> 0
A79: Belted Kingfisher | B79: =AVERAGE(E79:AM79) -> 0 | C79: 0 | D79: 0 | E79: =IF('Historic - uncorrected'!D79<0,"",'Historic - corrected'!$B$10/E$10*'Historic - uncorrected'!D79) -> 0 | F79: =IF('Historic - uncorrected'!E79<0,"",'Historic - corrected'!$B$10/F$10*'Historic - uncorrected'!E79) -> 0 | G79: =IF('Historic - uncorrected'!F79<0,"",'Historic - corrected'!$B$10/G$10*'Historic - uncorrected'!F79) -> 0 | H79: =IF('Historic - uncorrected'!G79<0,"",'Historic - corrected'!$B$10/H$10*'Historic - uncorrected'!G79) -> 0 | I79: =IF('Historic - uncorrected'!H79<0,"",'Historic - corrected'!$B$10/I$10*'Historic - uncorrected'!H79) -> 0 | J79: =IF('Historic - uncorrected'!I79<0,"",'Historic - corrected'!$B$10/J$10*'Historic - uncorrected'!I79) -> 0 | K79: =IF('Historic - uncorrected'!J79<0,"",'Historic - corrected'!$B$10/K$10*'Historic - uncorrected'!J79) -> 0 | L79: =IF('Historic - uncorrected'!K79<0,"",'Historic - corrected'!$B$10/L$10*'Historic - uncorrected'!K79) -> 0 | ... AM79: =IF('Historic - uncorrected'!AL79<0,"",'Historic - corrected'!$B$10/AM$10*'Historic - uncorrected'!AL79) -> 0 | AN79: =COUNTIF(C79:AM79,"<>0") -> 0
A80: Woodpecker sp. | B80: =AVERAGE(E80:AM80) -> 0.33320516 | C80: 0 | D80: 0 | E80: =IF('Historic - uncorrected'!D80<0,"",'Historic - corrected'!$B$10/E$10*'Historic - uncorrected'!D80) -> 0 | F80: =IF('Historic - uncorrected'!E80<0,"",'Historic - corrected'!$B$10/F$10*'Historic - uncorrected'!E80) -> 0 | G80: =IF('Historic - uncorrected'!F80<0,"",'Historic - corrected'!$B$10/G$10*'Historic - uncorrected'!F80) -> 0 | H80: =IF('Historic - uncorrected'!G80<0,"",'Historic - corrected'!$B$10/H$10*'Historic - uncorrected'!G80) -> 3.239405 | I80: =IF('Historic - uncorrected'!H80<0,"",'Historic - corrected'!$B$10/I$10*'Historic - uncorrected'!H80) -> 0 | J80: =IF('Historic - uncorrected'!I80<0,"",'Historic - corrected'!$B$10/J$10*'Historic - uncorrected'!I80) -> 0 | K80: =IF('Historic - uncorrected'!J80<0,"",'Historic - corrected'!$B$10/K$10*'Historic - uncorrected'!J80) -> 0 | L80: =IF('Historic - uncorrected'!K80<0,"",'Historic - corrected'!$B$10/L$10*'Historic - uncorrected'!K80) -> 0 | ... AM80: =IF('Historic - uncorrected'!AL80<0,"",'Historic - corrected'!$B$10/AM$10*'Historic - uncorrected'!AL80) -> 2.182384 | AN80: =COUNTIF(C80:AM80,">0") -> 8 | AP80: 1991 | AQ80: 1992 | AR80: 1993 | AS80: 1994 | AT80: 1995 | AU80: 1996 | AV80: 1997 | AW80: 1998 | AX80: 1999 | AY80: 2000 | AZ80: 2001 | BA80: 2002 | BB80: 2003 | BC80: 2004 | BD80: 2005 | BE80: 2006 | BF80: 2007 | BG80: 2008 | BH80: 2009 | BI80: 2010 | BJ80: 2011 | BK80: 2012 | BL80: 2013 | BM80: 2014 | BN80: 2015 | BO80: 2016 | BP80: 2017 | BQ80: 2018 | BR80: 2019 | BS80: 2020 | BT80: 2021 | BU80: 2022 | BV80: 2023 | BW80: 2024 | BX80: 2025
A81: Yellow-bellied Sapsucker | B81: =AVERAGE(E81:AM81) -> 0 | C81: 0 | D81: 0 | E81: =IF('Historic - uncorrected'!D81<0,"",'Historic - corrected'!$B$10/E$10*'Historic - uncorrected'!D81) -> 0 | F81: =IF('Historic - uncorrected'!E81<0,"",'Historic - corrected'!$B$10/F$10*'Historic - uncorrected'!E81) -> 0 | G81: =IF('Historic - uncorrected'!F81<0,"",'Historic - corrected'!$B$10/G$10*'Historic - uncorrected'!F81) -> 0 | H81: =IF('Historic - uncorrected'!G81<0,"",'Historic - corrected'!$B$10/H$10*'Historic - uncorrected'!G81) -> 0 | I81: =IF('Historic - uncorrected'!H81<0,"",'Historic - corrected'!$B$10/I$10*'Historic - uncorrected'!H81) -> 0 | J81: =IF('Historic - uncorrected'!I81<0,"",'Historic - corrected'!$B$10/J$10*'Historic - uncorrected'!I81) -> 0 | K81: =IF('Historic - uncorrected'!J81<0,"",'Historic - corrected'!$B$10/K$10*'Historic - uncorrected'!J81) -> 0 | L81: =IF('Historic - uncorrected'!K81<0,"",'Historic - corrected'!$B$10/L$10*'Historic - uncorrected'!K81) -> 0 | ... AM81: =IF('Historic - uncorrected'!AL81<0,"",'Historic - corrected'!$B$10/AM$10*'Historic - uncorrected'!AL81) -> 0 | AN81: =COUNTIF(C81:AM81,"<>0") -> 0
A82: Picoides sp. | B82: =AVERAGE(E82:AM82) -> 0 | C82: 0 | D82: 0 | E82: =IF('Historic - uncorrected'!D82<0,"",'Historic - corrected'!$B$10/E$10*'Historic - uncorrected'!D82) -> 0 | F82: =IF('Historic - uncorrected'!E82<0,"",'Historic - corrected'!$B$10/F$10*'Historic - uncorrected'!E82) -> 0 | G82: =IF('Historic - uncorrected'!F82<0,"",'Historic - corrected'!$B$10/G$10*'Historic - uncorrected'!F82) -> 0 | H82: =IF('Historic - uncorrected'!G82<0,"",'Historic - corrected'!$B$10/H$10*'Historic - uncorrected'!G82) -> 0 | I82: =IF('Historic - uncorrected'!H82<0,"",'Historic - corrected'!$B$10/I$10*'Historic - uncorrected'!H82) -> 0 | J82: =IF('Historic - uncorrected'!I82<0,"",'Historic - corrected'!$B$10/J$10*'Historic - uncorrected'!I82) -> 0 | K82: =IF('Historic - uncorrected'!J82<0,"",'Historic - corrected'!$B$10/K$10*'Historic - uncorrected'!J82) -> 0 | L82: =IF('Historic - uncorrected'!K82<0,"",'Historic - corrected'!$B$10/L$10*'Historic - uncorrected'!K82) -> 0 | ... AM82: =IF('Historic - uncorrected'!AL82<0,"",'Historic - corrected'!$B$10/AM$10*'Historic - uncorrected'!AL82) -> 0 | AN82: =COUNTIF(C82:AM82,"<>0") -> 0
A83: American Three-toed Woodpecker | B83: =AVERAGE(E83:AM83) -> 0 | C83: 0 | D83: 0 | E83: =IF('Historic - uncorrected'!D83<0,"",'Historic - corrected'!$B$10/E$10*'Historic - uncorrected'!D83) -> 0 | F83: =IF('Historic - uncorrected'!E83<0,"",'Historic - corrected'!$B$10/F$10*'Historic - uncorrected'!E83) -> 0 | G83: =IF('Historic - uncorrected'!F83<0,"",'Historic - corrected'!$B$10/G$10*'Historic - uncorrected'!F83) -> 0 | H83: =IF('Historic - uncorrected'!G83<0,"",'Historic - corrected'!$B$10/H$10*'Historic - uncorrected'!G83) -> 0 | I83: =IF('Historic - uncorrected'!H83<0,"",'Historic - corrected'!$B$10/I$10*'Historic - uncorrected'!H83) -> 0 | J83: =IF('Historic - uncorrected'!I83<0,"",'Historic - corrected'!$B$10/J$10*'Historic - uncorrected'!I83) -> 0 | K83: =IF('Historic - uncorrected'!J83<0,"",'Historic - corrected'!$B$10/K$10*'Historic - uncorrected'!J83) -> 0 | L83: =IF('Historic - uncorrected'!K83<0,"",'Historic - corrected'!$B$10/L$10*'Historic - uncorrected'!K83) -> 0 | ... AM83: =IF('Historic - uncorrected'!AL83<0,"",'Historic - corrected'!$B$10/AM$10*'Historic - uncorrected'!AL83) -> 0 | AN83: =COUNTIF(C83:AM83,"<>0") -> 0
A84: Black-backed Woodpecker | B84: =AVERAGE(E84:AM84) -> 0 | C84: 0 | D84: 0 | E84: =IF('Historic - uncorrected'!D84<0,"",'Historic - corrected'!$B$10/E$10*'Historic - uncorrected'!D84) -> 0 | F84: =IF('Historic - uncorrected'!E84<0,"",'Historic - corrected'!$B$10/F$10*'Historic - uncorrected'!E84) -> 0 | G84: =IF('Historic - uncorrected'!F84<0,"",'Historic - corrected'!$B$10/G$10*'Historic - uncorrected'!F84) -> 0 | H84: =IF('Historic - uncorrected'!G84<0,"",'Historic - corrected'!$B$10/H$10*'Historic - uncorrected'!G84) -> 0 | I84: =IF('Historic - uncorrected'!H84<0,"",'Historic - corrected'!$B$10/I$10*'Historic - uncorrected'!H84) -> 0 | J84: =IF('Historic - uncorrected'!I84<0,"",'Historic - corrected'!$B$10/J$10*'Historic - uncorrected'!I84) -> 0 | K84: =IF('Historic - uncorrected'!J84<0,"",'Historic - corrected'!$B$10/K$10*'Historic - uncorrected'!J84) -> 0 | L84: =IF('Historic - uncorrected'!K84<0,"",'Historic - corrected'!$B$10/L$10*'Historic - uncorrected'!K84) -> 0 | ... AM84: =IF('Historic - uncorrected'!AL84<0,"",'Historic - corrected'!$B$10/AM$10*'Historic - uncorrected'!AL84) -> 0 | AN84: =COUNTIF(C84:AM84,"<>0") -> 0
A85: Downy Woodpecker | B85: =AVERAGE(E85:AM85) -> 8.7931027 | C85: 0 | D85: 0 | E85: =IF('Historic - uncorrected'!D85<0,"",'Historic - corrected'!$B$10/E$10*'Historic - uncorrected'!D85) -> 21.264144 | F85: =IF('Historic - uncorrected'!E85<0,"",'Historic - corrected'!$B$10/F$10*'Historic - uncorrected'!E85) -> 19.461764 | G85: =IF('Historic - uncorrected'!F85<0,"",'Historic - corrected'!$B$10/G$10*'Historic - uncorrected'!F85) -> 9.8556593 | H85: =IF('Historic - uncorrected'!G85<0,"",'Historic - corrected'!$B$10/H$10*'Historic - uncorrected'!G85) -> 15.117223 | I85: =IF('Historic - uncorrected'!H85<0,"",'Historic - corrected'!$B$10/I$10*'Historic - uncorrected'!H85) -> 16.648873 | J85: =IF('Historic - uncorrected'!I85<0,"",'Historic - corrected'!$B$10/J$10*'Historic - uncorrected'!I85) -> 7.0521523 | K85: =IF('Historic - uncorrected'!J85<0,"",'Historic - corrected'!$B$10/K$10*'Historic - uncorrected'!J85) -> 14.055027 | L85: =IF('Historic - uncorrected'!K85<0,"",'Historic - corrected'!$B$10/L$10*'Historic - uncorrected'!K85) -> 17.16008 | ... AM85: =IF('Historic - uncorrected'!AL85<0,"",'Historic - corrected'!$B$10/AM$10*'Historic - uncorrected'!AL85) -> 2.182384 | AN85: =COUNTIF(C85:AM85,">0") -> 34 | AP85: 2.182384 | AQ85: 0 | AR85: 2.1025407 | AS85: 2.9057584 | AT85: 3.2735759 | AU85: 5.0411793 | AV85: 4.7469255 | AW85: 5.4444737 | AX85: 5.5259081 | AY85: 5.7469444 | AZ85: 7.0530682 | BA85: 6.1953713 | BB85: 3.6918273 | BC85: 2.7867726 | BD85: 12.662759 | BE85: 17.69587 | BF85: 6.780103 | BG85: 5.6862907 | BH85: 8.1324686 | BI85: 1.9726354 | BJ85: 5.7469444 | BK85: 23.298423 | BL85: 15.996649 | BM85: 0.94522113 | BN85: 0.95782407 | BO85: 14.528792 | BP85: 16.042959 | BQ85: 17.16008 | BR85: 14.055027 | BS85: 7.0521523 | BT85: 16.648873 | BU85: 15.117223 | BV85: 9.8556593 | BW85: 19.461764 | BX85: 21.264144
A86: Hairy Woodpecker | B86: =AVERAGE(E86:AM86) -> 8.1570074 | C86: 0 | D86: 0 | E86: =IF('Historic - uncorrected'!D86<0,"",'Historic - corrected'!$B$10/E$10*'Historic - uncorrected'!D86) -> 10.125783 | F86: =IF('Historic - uncorrected'!E86<0,"",'Historic - corrected'!$B$10/F$10*'Historic - uncorrected'!E86) -> 9.1584772 | G86: =IF('Historic - uncorrected'!F86<0,"",'Historic - corrected'!$B$10/G$10*'Historic - uncorrected'!F86) -> 9.8556593 | H86: =IF('Historic - uncorrected'!G86<0,"",'Historic - corrected'!$B$10/H$10*'Historic - uncorrected'!G86) -> 16.197025 | I86: =IF('Historic - uncorrected'!H86<0,"",'Historic - corrected'!$B$10/I$10*'Historic - uncorrected'!H86) -> 0.79280349 | J86: =IF('Historic - uncorrected'!I86<0,"",'Historic - corrected'!$B$10/J$10*'Historic - uncorrected'!I86) -> 9.067053 | K86: =IF('Historic - uncorrected'!J86<0,"",'Historic - corrected'!$B$10/K$10*'Historic - uncorrected'!J86) -> 14.055027 | L86: =IF('Historic - uncorrected'!K86<0,"",'Historic - corrected'!$B$10/L$10*'Historic - uncorrected'!K86) -> 15.141247 | ... AM86: =IF('Historic - uncorrected'!AL86<0,"",'Historic - corrected'!$B$10/AM$10*'Historic - uncorrected'!AL86) -> 0 | AN86: =COUNTIF(C86:AM86,">0") -> 34 | AP86: 0 | AQ86: 0 | AR86: 0 | AS86: 0 | AT86: 0 | AU86: 1.2602948 | AV86: 0.9493851 | AW86: 0.90741228 | AX86: 2.2103632 | AY86: 0 | AZ86: 3.134697 | BA86: 2.6551591 | BB86: 0 | BC86: 0 | BD86: 1.9481168 | BE86: 7.5839443 | BF86: 6.780103 | BG86: 2.2745163 | BH86: 9.9396838 | BI86: 6.9042239 | BJ86: 0.95782407 | BK86: 1.7921864 | BL86: 5.3322165 | BM86: 4.7261056 | BN86: 3.8312963 | BO86: 8.7172753 | BP86: 18.18202 | BQ86: 17.16008 | BR86: 23.425045 | BS86: 12.089404 | BT86: 0.79280349 | BU86: 3.239405 | BV86: 10.841225 | BW86: 17.172145 | BX86: 24.301879
A87: Pileated Woodpecker | B87: =AVERAGE(E87:AM87) -> 0.083916873 | C87: 0 | D87: 0 | E87: =IF('Historic - uncorrected'!D87<0,"",'Historic - corrected'!$B$10/E$10*'Historic - uncorrected'!D87) -> 0 | F87: =IF('Historic - uncorrected'!E87<0,"",'Historic - corrected'!$B$10/F$10*'Historic - uncorrected'!E87) -> 0 | G87: =IF('Historic - uncorrected'!F87<0,"",'Historic - corrected'!$B$10/G$10*'Historic - uncorrected'!F87) -> 0 | H87: =IF('Historic - uncorrected'!G87<0,"",'Historic - corrected'!$B$10/H$10*'Historic - uncorrected'!G87) -> 1.0798017 | I87: =IF('Historic - uncorrected'!H87<0,"",'Historic - corrected'!$B$10/I$10*'Historic - uncorrected'!H87) -> 0 | J87: =IF('Historic - uncorrected'!I87<0,"",'Historic - corrected'!$B$10/J$10*'Historic - uncorrected'!I87) -> 0 | K87: =IF('Historic - uncorrected'!J87<0,"",'Historic - corrected'!$B$10/K$10*'Historic - uncorrected'!J87) -> 0 | L87: =IF('Historic - uncorrected'!K87<0,"",'Historic - corrected'!$B$10/L$10*'Historic - uncorrected'!K87) -> 0 | ... AM87: =IF('Historic - uncorrected'!AL87<0,"",'Historic - corrected'!$B$10/AM$10*'Historic - uncorrected'!AL87) -> 0 | AN87: =COUNTIF(C87:AM87,">0") -> 3
A88: Northern Flicker | B88: =AVERAGE(E88:AM88) -> 0.52976333 | C88: 0 | D88: 0 | E88: =IF('Historic - uncorrected'!D88<0,"",'Historic - corrected'!$B$10/E$10*'Historic - uncorrected'!D88) -> 0 | F88: =IF('Historic - uncorrected'!E88<0,"",'Historic - corrected'!$B$10/F$10*'Historic - uncorrected'!E88) -> 0 | G88: =IF('Historic - uncorrected'!F88<0,"",'Historic - corrected'!$B$10/G$10*'Historic - uncorrected'!F88) -> 0.98556593 | H88: =IF('Historic - uncorrected'!G88<0,"",'Historic - corrected'!$B$10/H$10*'Historic - uncorrected'!G88) -> 0 | I88: =IF('Historic - uncorrected'!H88<0,"",'Historic - corrected'!$B$10/I$10*'Historic - uncorrected'!H88) -> 0 | J88: =IF('Historic - uncorrected'!I88<0,"",'Historic - corrected'!$B$10/J$10*'Historic - uncorrected'!I88) -> 0 | K88: =IF('Historic - uncorrected'!J88<0,"",'Historic - corrected'!$B$10/K$10*'Historic - uncorrected'!J88) -> 0 | L88: =IF('Historic - uncorrected'!K88<0,"",'Historic - corrected'!$B$10/L$10*'Historic - uncorrected'!K88) -> 1.0094165 | ... AM88: =IF('Historic - uncorrected'!AL88<0,"",'Historic - corrected'!$B$10/AM$10*'Historic - uncorrected'!AL88) -> 0 | AN88: =COUNTIF(C88:AM88,">0") -> 12
A89: Northern Flicker(red-shafted) | B89: =AVERAGE(E89:AM89) -> 0 | C89: 0 | D89: 0 | E89: =IF('Historic - uncorrected'!D89<0,"",'Historic - corrected'!$B$10/E$10*'Historic - uncorrected'!D89) -> 0 | F89: =IF('Historic - uncorrected'!E89<0,"",'Historic - corrected'!$B$10/F$10*'Historic - uncorrected'!E89) -> 0 | G89: =IF('Historic - uncorrected'!F89<0,"",'Historic - corrected'!$B$10/G$10*'Historic - uncorrected'!F89) -> 0 | H89: =IF('Historic - uncorrected'!G89<0,"",'Historic - corrected'!$B$10/H$10*'Historic - uncorrected'!G89) -> 0 | I89: =IF('Historic - uncorrected'!H89<0,"",'Historic - corrected'!$B$10/I$10*'Historic - uncorrected'!H89) -> 0 | J89: =IF('Historic - uncorrected'!I89<0,"",'Historic - corrected'!$B$10/J$10*'Historic - uncorrected'!I89) -> 0 | K89: =IF('Historic - uncorrected'!J89<0,"",'Historic - corrected'!$B$10/K$10*'Historic - uncorrected'!J89) -> 0 | L89: =IF('Historic - uncorrected'!K89<0,"",'Historic - corrected'!$B$10/L$10*'Historic - uncorrected'!K89) -> 0 | ... AM89: =IF('Historic - uncorrected'!AL89<0,"",'Historic - corrected'!$B$10/AM$10*'Historic - uncorrected'!AL89) -> 0 | AN89: =COUNTIF(C89:AM89,"<>0") -> 0
A90: Falcon sp. | B90: =AVERAGE(E90:AM90) -> 0 | C90: 0 | D90: 0 | E90: =IF('Historic - uncorrected'!D90<0,"",'Historic - corrected'!$B$10/E$10*'Historic - uncorrected'!D90) -> 0 | F90: =IF('Historic - uncorrected'!E90<0,"",'Historic - corrected'!$B$10/F$10*'Historic - uncorrected'!E90) -> 0 | G90: =IF('Historic - uncorrected'!F90<0,"",'Historic - corrected'!$B$10/G$10*'Historic - uncorrected'!F90) -> 0 | H90: =IF('Historic - uncorrected'!G90<0,"",'Historic - corrected'!$B$10/H$10*'Historic - uncorrected'!G90) -> 0 | I90: =IF('Historic - uncorrected'!H90<0,"",'Historic - corrected'!$B$10/I$10*'Historic - uncorrected'!H90) -> 0 | J90: =IF('Historic - uncorrected'!I90<0,"",'Historic - corrected'!$B$10/J$10*'Historic - uncorrected'!I90) -> 0 | K90: =IF('Historic - uncorrected'!J90<0,"",'Historic - corrected'!$B$10/K$10*'Historic - uncorrected'!J90) -> 0 | L90: =IF('Historic - uncorrected'!K90<0,"",'Historic - corrected'!$B$10/L$10*'Historic - uncorrected'!K90) -> 0 | ... AM90: =IF('Historic - uncorrected'!AL90<0,"",'Historic - corrected'!$B$10/AM$10*'Historic - uncorrected'!AL90) -> 0 | AN90: =COUNTIF(C90:AM90,"<>0") -> 0
A91: American Kestrel | B91: =AVERAGE(E91:AM91) -> 0 | C91: 0 | D91: 0 | E91: =IF('Historic - uncorrected'!D91<0,"",'Historic - corrected'!$B$10/E$10*'Historic - uncorrected'!D91) -> 0 | F91: =IF('Historic - uncorrected'!E91<0,"",'Historic - corrected'!$B$10/F$10*'Historic - uncorrected'!E91) -> 0 | G91: =IF('Historic - uncorrected'!F91<0,"",'Historic - corrected'!$B$10/G$10*'Historic - uncorrected'!F91) -> 0 | H91: =IF('Historic - uncorrected'!G91<0,"",'Historic - corrected'!$B$10/H$10*'Historic - uncorrected'!G91) -> 0 | I91: =IF('Historic - uncorrected'!H91<0,"",'Historic - corrected'!$B$10/I$10*'Historic - uncorrected'!H91) -> 0 | J91: =IF('Historic - uncorrected'!I91<0,"",'Historic - corrected'!$B$10/J$10*'Historic - uncorrected'!I91) -> 0 | K91: =IF('Historic - uncorrected'!J91<0,"",'Historic - corrected'!$B$10/K$10*'Historic - uncorrected'!J91) -> 0 | L91: =IF('Historic - uncorrected'!K91<0,"",'Historic - corrected'!$B$10/L$10*'Historic - uncorrected'!K91) -> 0 | ... AM91: =IF('Historic - uncorrected'!AL91<0,"",'Historic - corrected'!$B$10/AM$10*'Historic - uncorrected'!AL91) -> 0 | AN91: =COUNTIF(C91:AM91,"<>0") -> 0
A92: Merlin | B92: =AVERAGE(E92:AM92) -> 0.79128452 | C92: 0 | D92: 0 | E92: =IF('Historic - uncorrected'!D92<0,"",'Historic - corrected'!$B$10/E$10*'Historic - uncorrected'!D92) -> 0 | F92: =IF('Historic - uncorrected'!E92<0,"",'Historic - corrected'!$B$10/F$10*'Historic - uncorrected'!E92) -> 1.1448097 | G92: =IF('Historic - uncorrected'!F92<0,"",'Historic - corrected'!$B$10/G$10*'Historic - uncorrected'!F92) -> 0.98556593 | H92: =IF('Historic - uncorrected'!G92<0,"",'Historic - corrected'!$B$10/H$10*'Historic - uncorrected'!G92) -> 2.1596033 | I92: =IF('Historic - uncorrected'!H92<0,"",'Historic - corrected'!$B$10/I$10*'Historic - uncorrected'!H92) -> 0 | J92: =IF('Historic - uncorrected'!I92<0,"",'Historic - corrected'!$B$10/J$10*'Historic - uncorrected'!I92) -> 2.0149007 | K92: =IF('Historic - uncorrected'!J92<0,"",'Historic - corrected'!$B$10/K$10*'Historic - uncorrected'!J92) -> 0.93700181 | L92: =IF('Historic - uncorrected'!K92<0,"",'Historic - corrected'!$B$10/L$10*'Historic - uncorrected'!K92) -> 1.0094165 | ... AM92: =IF('Historic - uncorrected'!AL92<0,"",'Historic - corrected'!$B$10/AM$10*'Historic - uncorrected'!AL92) -> 0 | AN92: =COUNTIF(C92:AM92,">0") -> 19
A93: Gyrfalcon | B93: =AVERAGE(E93:AM93) -> 0.17375202 | C93: 0 | D93: 0 | E93: =IF('Historic - uncorrected'!D93<0,"",'Historic - corrected'!$B$10/E$10*'Historic - uncorrected'!D93) -> 0 | F93: =IF('Historic - uncorrected'!E93<0,"",'Historic - corrected'!$B$10/F$10*'Historic - uncorrected'!E93) -> 0 | G93: =IF('Historic - uncorrected'!F93<0,"",'Historic - corrected'!$B$10/G$10*'Historic - uncorrected'!F93) -> 0 | H93: =IF('Historic - uncorrected'!G93<0,"",'Historic - corrected'!$B$10/H$10*'Historic - uncorrected'!G93) -> 0 | I93: =IF('Historic - uncorrected'!H93<0,"",'Historic - corrected'!$B$10/I$10*'Historic - uncorrected'!H93) -> 0 | J93: =IF('Historic - uncorrected'!I93<0,"",'Historic - corrected'!$B$10/J$10*'Historic - uncorrected'!I93) -> 0 | K93: =IF('Historic - uncorrected'!J93<0,"",'Historic - corrected'!$B$10/K$10*'Historic - uncorrected'!J93) -> 0 | L93: =IF('Historic - uncorrected'!K93<0,"",'Historic - corrected'!$B$10/L$10*'Historic - uncorrected'!K93) -> 0 | ... AM93: =IF('Historic - uncorrected'!AL93<0,"",'Historic - corrected'!$B$10/AM$10*'Historic - uncorrected'!AL93) -> 0 | AN93: =COUNTIF(C93:AM93,">0") -> 6
A94: Prairie Falcon | B94: =AVERAGE(E94:AM94) -> 0.022390693 | C94: 0 | D94: 0 | E94: =IF('Historic - uncorrected'!D94<0,"",'Historic - corrected'!$B$10/E$10*'Historic - uncorrected'!D94) -> 0 | F94: =IF('Historic - uncorrected'!E94<0,"",'Historic - corrected'!$B$10/F$10*'Historic - uncorrected'!E94) -> 0 | G94: =IF('Historic - uncorrected'!F94<0,"",'Historic - corrected'!$B$10/G$10*'Historic - uncorrected'!F94) -> 0 | H94: =IF('Historic - uncorrected'!G94<0,"",'Historic - corrected'!$B$10/H$10*'Historic - uncorrected'!G94) -> 0 | I94: =IF('Historic - uncorrected'!H94<0,"",'Historic - corrected'!$B$10/I$10*'Historic - uncorrected'!H94) -> 0 | J94: =IF('Historic - uncorrected'!I94<0,"",'Historic - corrected'!$B$10/J$10*'Historic - uncorrected'!I94) -> 0 | K94: =IF('Historic - uncorrected'!J94<0,"",'Historic - corrected'!$B$10/K$10*'Historic - uncorrected'!J94) -> 0 | L94: =IF('Historic - uncorrected'!K94<0,"",'Historic - corrected'!$B$10/L$10*'Historic - uncorrected'!K94) -> 0 | ... AM94: =IF('Historic - uncorrected'!AL94<0,"",'Historic - corrected'!$B$10/AM$10*'Historic - uncorrected'!AL94) -> 0 | AN94: =COUNTIF(C94:AM94,">0") -> 1
A95: Northern Shrike | B95: =AVERAGE(E95:AM95) -> 0.54295621 | C95: 0 | D95: 0 | E95: =IF('Historic - uncorrected'!D95<0,"",'Historic - corrected'!$B$10/E$10*'Historic - uncorrected'!D95) -> 1.0125783 | F95: =IF('Historic - uncorrected'!E95<0,"",'Historic - corrected'!$B$10/F$10*'Historic - uncorrected'!E95) -> 3.434429 | G95: =IF('Historic - uncorrected'!F95<0,"",'Historic - corrected'!$B$10/G$10*'Historic - uncorrected'!F95) -> 0 | H95: =IF('Historic - uncorrected'!G95<0,"",'Historic - corrected'!$B$10/H$10*'Historic - uncorrected'!G95) -> 1.0798017 | I95: =IF('Historic - uncorrected'!H95<0,"",'Historic - corrected'!$B$10/I$10*'Historic - uncorrected'!H95) -> 0 | J95: =IF('Historic - uncorrected'!I95<0,"",'Historic - corrected'!$B$10/J$10*'Historic - uncorrected'!I95) -> 0 | K95: =IF('Historic - uncorrected'!J95<0,"",'Historic - corrected'!$B$10/K$10*'Historic - uncorrected'!J95) -> 0 | L95: =IF('Historic - uncorrected'!K95<0,"",'Historic - corrected'!$B$10/L$10*'Historic - uncorrected'!K95) -> 2.0188329 | ... AM95: =IF('Historic - uncorrected'!AL95<0,"",'Historic - corrected'!$B$10/AM$10*'Historic - uncorrected'!AL95) -> 0 | AN95: =COUNTIF(C95:AM95,">0") -> 15
A96: Canada Jay | B96: =AVERAGE(E96:AM96) -> 0 | C96: 0 | D96: 0 | E96: =IF('Historic - uncorrected'!D96<0,"",'Historic - corrected'!$B$10/E$10*'Historic - uncorrected'!D96) -> 0 | F96: =IF('Historic - uncorrected'!E96<0,"",'Historic - corrected'!$B$10/F$10*'Historic - uncorrected'!E96) -> 0 | G96: =IF('Historic - uncorrected'!F96<0,"",'Historic - corrected'!$B$10/G$10*'Historic - uncorrected'!F96) -> 0 | H96: =IF('Historic - uncorrected'!G96<0,"",'Historic - corrected'!$B$10/H$10*'Historic - uncorrected'!G96) -> 0 | I96: =IF('Historic - uncorrected'!H96<0,"",'Historic - corrected'!$B$10/I$10*'Historic - uncorrected'!H96) -> 0 | J96: =IF('Historic - uncorrected'!I96<0,"",'Historic - corrected'!$B$10/J$10*'Historic - uncorrected'!I96) -> 0 | K96: =IF('Historic - uncorrected'!J96<0,"",'Historic - corrected'!$B$10/K$10*'Historic - uncorrected'!J96) -> 0 | L96: =IF('Historic - uncorrected'!K96<0,"",'Historic - corrected'!$B$10/L$10*'Historic - uncorrected'!K96) -> 0 | ... AM96: =IF('Historic - uncorrected'!AL96<0,"",'Historic - corrected'!$B$10/AM$10*'Historic - uncorrected'!AL96) -> 0 | AN96: =COUNTIF(C96:AM96,"<>0") -> 0
A97: Blue Jay | B97: =AVERAGE(E97:AM97) -> 5.6888232 | C97: 0 | D97: 0 | E97: =IF('Historic - uncorrected'!D97<0,"",'Historic - corrected'!$B$10/E$10*'Historic - uncorrected'!D97) -> 24.301879 | F97: =IF('Historic - uncorrected'!E97<0,"",'Historic - corrected'!$B$10/F$10*'Historic - uncorrected'!E97) -> 17.172145 | G97: =IF('Historic - uncorrected'!F97<0,"",'Historic - corrected'!$B$10/G$10*'Historic - uncorrected'!F97) -> 10.841225 | H97: =IF('Historic - uncorrected'!G97<0,"",'Historic - corrected'!$B$10/H$10*'Historic - uncorrected'!G97) -> 3.239405 | I97: =IF('Historic - uncorrected'!H97<0,"",'Historic - corrected'!$B$10/I$10*'Historic - uncorrected'!H97) -> 0.79280349 | J97: =IF('Historic - uncorrected'!I97<0,"",'Historic - corrected'!$B$10/J$10*'Historic - uncorrected'!I97) -> 12.089404 | K97: =IF('Historic - uncorrected'!J97<0,"",'Historic - corrected'!$B$10/K$10*'Historic - uncorrected'!J97) -> 23.425045 | L97: =IF('Historic - uncorrected'!K97<0,"",'Historic - corrected'!$B$10/L$10*'Historic - uncorrected'!K97) -> 17.16008 | ... AM97: =IF('Historic - uncorrected'!AL97<0,"",'Historic - corrected'!$B$10/AM$10*'Historic - uncorrected'!AL97) -> 0 | AN97: =COUNTIF(C97:AM97,">0") -> 27
A98: Black-billed Magpie | B98: =AVERAGE(E98:AM98) -> 232.85693 | C98: 0 | D98: 0 | E98: =IF('Historic - uncorrected'!D98<0,"",'Historic - corrected'!$B$10/E$10*'Historic - uncorrected'!D98) -> 82.018843 | F98: =IF('Historic - uncorrected'!E98<0,"",'Historic - corrected'!$B$10/F$10*'Historic - uncorrected'!E98) -> 176.30069 | G98: =IF('Historic - uncorrected'!F98<0,"",'Historic - corrected'!$B$10/G$10*'Historic - uncorrected'!F98) -> 145.86376 | H98: =IF('Historic - uncorrected'!G98<0,"",'Historic - corrected'!$B$10/H$10*'Historic - uncorrected'!G98) -> 318.54149 | I98: =IF('Historic - uncorrected'!H98<0,"",'Historic - corrected'!$B$10/I$10*'Historic - uncorrected'!H98) -> 191.06564 | J98: =IF('Historic - uncorrected'!I98<0,"",'Historic - corrected'!$B$10/J$10*'Historic - uncorrected'!I98) -> 263.95199 | K98: =IF('Historic - uncorrected'!J98<0,"",'Historic - corrected'!$B$10/K$10*'Historic - uncorrected'!J98) -> 3.7480072 | L98: =IF('Historic - uncorrected'!K98<0,"",'Historic - corrected'!$B$10/L$10*'Historic - uncorrected'!K98) -> 257.4012 | ... AM98: =IF('Historic - uncorrected'!AL98<0,"",'Historic - corrected'!$B$10/AM$10*'Historic - uncorrected'!AL98) -> 250.97416 | AN98: =COUNTIF(C98:AM98,">0") -> 35
A99: American Crow | B99: =AVERAGE(E99:AM99) -> 0.17766437 | C99: 0 | D99: 0 | E99: =IF('Historic - uncorrected'!D99<0,"",'Historic - corrected'!$B$10/E$10*'Historic - uncorrected'!D99) -> 2.0251566 | F99: =IF('Historic - uncorrected'!E99<0,"",'Historic - corrected'!$B$10/F$10*'Historic - uncorrected'!E99) -> 0 | G99: =IF('Historic - uncorrected'!F99<0,"",'Historic - corrected'!$B$10/G$10*'Historic - uncorrected'!F99) -> 0 | H99: =IF('Historic - uncorrected'!G99<0,"",'Historic - corrected'!$B$10/H$10*'Historic - uncorrected'!G99) -> 1.0798017 | I99: =IF('Historic - uncorrected'!H99<0,"",'Historic - corrected'!$B$10/I$10*'Historic - uncorrected'!H99) -> 0 | J99: =IF('Historic - uncorrected'!I99<0,"",'Historic - corrected'!$B$10/J$10*'Historic - uncorrected'!I99) -> 1.0074503 | K99: =IF('Historic - uncorrected'!J99<0,"",'Historic - corrected'!$B$10/K$10*'Historic - uncorrected'!J99) -> 0 | L99: =IF('Historic - uncorrected'!K99<0,"",'Historic - corrected'!$B$10/L$10*'Historic - uncorrected'!K99) -> 0 | ... AM99: =IF('Historic - uncorrected'!AL99<0,"",'Historic - corrected'!$B$10/AM$10*'Historic - uncorrected'!AL99) -> 0 | AN99: =COUNTIF(C99:AM99,">0") -> 5
A100: Common Raven | B100: =AVERAGE(E100:AM100) -> 95.599419 | C100: 0 | D100: 0 | E100: =IF('Historic - uncorrected'!D100<0,"",'Historic - corrected'!$B$10/E$10*'Historic - uncorrected'!D100) -> 107.3333 | F100: =IF('Historic - uncorrected'!E100<0,"",'Historic - corrected'!$B$10/F$10*'Historic - uncorrected'!E100) -> 103.03287 | G100: =IF('Historic - uncorrected'!F100<0,"",'Historic - corrected'!$B$10/G$10*'Historic - uncorrected'!F100) -> 126.15244 | H100: =IF('Historic - uncorrected'!G100<0,"",'Historic - corrected'!$B$10/H$10*'Historic - uncorrected'!G100) -> 179.24708 | I100: =IF('Historic - uncorrected'!H100<0,"",'Historic - corrected'!$B$10/I$10*'Historic - uncorrected'!H100) -> 183.93041 | J100: =IF('Historic - uncorrected'!I100<0,"",'Historic - corrected'!$B$10/J$10*'Historic - uncorrected'!I100) -> 162.1995 | K100: =IF('Historic - uncorrected'!J100<0,"",'Historic - corrected'!$B$10/K$10*'Historic - uncorrected'!J100) -> 322.32862 | L100: =IF('Historic - uncorrected'!K100<0,"",'Historic - corrected'!$B$10/L$10*'Historic - uncorrected'!K100) -> 245.2882 | ... AM100: =IF('Historic - uncorrected'!AL100<0,"",'Historic - corrected'!$B$10/AM$10*'Historic - uncorrected'!AL100) -> 6.5471519 | AN100: =COUNTIF(C100:AM100,">0") -> 33
A101: Black-capped Chickadee | B101: =AVERAGE(E101:AM101) -> 107.39092 | C101: 0 | D101: 0 | E101: =IF('Historic - uncorrected'!D101<0,"",'Historic - corrected'!$B$10/E$10*'Historic - uncorrected'!D101) -> 144.7987 | F101: =IF('Historic - uncorrected'!E101<0,"",'Historic - corrected'!$B$10/F$10*'Historic - uncorrected'!E101) -> 141.9564 | G101: =IF('Historic - uncorrected'!F101<0,"",'Historic - corrected'!$B$10/G$10*'Historic - uncorrected'!F101) -> 155.71942 | H101: =IF('Historic - uncorrected'!G101<0,"",'Historic - corrected'!$B$10/H$10*'Historic - uncorrected'!G101) -> 14.037422 | I101: =IF('Historic - uncorrected'!H101<0,"",'Historic - corrected'!$B$10/I$10*'Historic - uncorrected'!H101) -> 108.61408 | J101: =IF('Historic - uncorrected'!I101<0,"",'Historic - corrected'!$B$10/J$10*'Historic - uncorrected'!I101) -> 147.08775 | K101: =IF('Historic - uncorrected'!J101<0,"",'Historic - corrected'!$B$10/K$10*'Historic - uncorrected'!J101) -> 172.40833 | L101: =IF('Historic - uncorrected'!K101<0,"",'Historic - corrected'!$B$10/L$10*'Historic - uncorrected'!K101) -> 197.84563 | ... AM101: =IF('Historic - uncorrected'!AL101<0,"",'Historic - corrected'!$B$10/AM$10*'Historic - uncorrected'!AL101) -> 32.735759 | AN101: =COUNTIF(C101:AM101,">0") -> 35
A102: Boreal Chickadee | B102: =AVERAGE(E102:AM102) -> 0.027830239 | C102: 0 | D102: 0 | E102: =IF('Historic - uncorrected'!D102<0,"",'Historic - corrected'!$B$10/E$10*'Historic - uncorrected'!D102) -> 0 | F102: =IF('Historic - uncorrected'!E102<0,"",'Historic - corrected'!$B$10/F$10*'Historic - uncorrected'!E102) -> 0 | G102: =IF('Historic - uncorrected'!F102<0,"",'Historic - corrected'!$B$10/G$10*'Historic - uncorrected'!F102) -> 0 | H102: =IF('Historic - uncorrected'!G102<0,"",'Historic - corrected'!$B$10/H$10*'Historic - uncorrected'!G102) -> 0 | I102: =IF('Historic - uncorrected'!H102<0,"",'Historic - corrected'!$B$10/I$10*'Historic - uncorrected'!H102) -> 0 | J102: =IF('Historic - uncorrected'!I102<0,"",'Historic - corrected'!$B$10/J$10*'Historic - uncorrected'!I102) -> 0 | K102: =IF('Historic - uncorrected'!J102<0,"",'Historic - corrected'!$B$10/K$10*'Historic - uncorrected'!J102) -> 0 | L102: =IF('Historic - uncorrected'!K102<0,"",'Historic - corrected'!$B$10/L$10*'Historic - uncorrected'!K102) -> 0 | ... AM102: =IF('Historic - uncorrected'!AL102<0,"",'Historic - corrected'!$B$10/AM$10*'Historic - uncorrected'!AL102) -> 0 | AN102: =COUNTIF(C102:AM102,">0") -> 1
A103: Horned Lark | B103: =AVERAGE(E103:AM103) -> 0.60187351 | C103: 0 | D103: 0 | E103: =IF('Historic - uncorrected'!D103<0,"",'Historic - corrected'!$B$10/E$10*'Historic - uncorrected'!D103) -> 0 | F103: =IF('Historic - uncorrected'!E103<0,"",'Historic - corrected'!$B$10/F$10*'Historic - uncorrected'!E103) -> 0 | G103: =IF('Historic - uncorrected'!F103<0,"",'Historic - corrected'!$B$10/G$10*'Historic - uncorrected'!F103) -> 0 | H103: =IF('Historic - uncorrected'!G103<0,"",'Historic - corrected'!$B$10/H$10*'Historic - uncorrected'!G103) -> 0 | I103: =IF('Historic - uncorrected'!H103<0,"",'Historic - corrected'!$B$10/I$10*'Historic - uncorrected'!H103) -> 0 | J103: =IF('Historic - uncorrected'!I103<0,"",'Historic - corrected'!$B$10/J$10*'Historic - uncorrected'!I103) -> 0 | K103: =IF('Historic - uncorrected'!J103<0,"",'Historic - corrected'!$B$10/K$10*'Historic - uncorrected'!J103) -> 0 | L103: =IF('Historic - uncorrected'!K103<0,"",'Historic - corrected'!$B$10/L$10*'Historic - uncorrected'!K103) -> 3.0282494 | ... AM103: =IF('Historic - uncorrected'!AL103<0,"",'Historic - corrected'!$B$10/AM$10*'Historic - uncorrected'!AL103) -> 0 | AN103: =COUNTIF(C103:AM103,">0") -> 8
A104: Golden-crowned Kinglet | B104: =AVERAGE(E104:AM104) -> 0.23554527 | C104: 0 | D104: 0 | E104: =IF('Historic - uncorrected'!D104<0,"",'Historic - corrected'!$B$10/E$10*'Historic - uncorrected'!D104) -> 0 | F104: =IF('Historic - uncorrected'!E104<0,"",'Historic - corrected'!$B$10/F$10*'Historic - uncorrected'!E104) -> 2.2896193 | G104: =IF('Historic - uncorrected'!F104<0,"",'Historic - corrected'!$B$10/G$10*'Historic - uncorrected'!F104) -> 0 | H104: =IF('Historic - uncorrected'!G104<0,"",'Historic - corrected'!$B$10/H$10*'Historic - uncorrected'!G104) -> 0 | I104: =IF('Historic - uncorrected'!H104<0,"",'Historic - corrected'!$B$10/I$10*'Historic - uncorrected'!H104) -> 0 | J104: =IF('Historic - uncorrected'!I104<0,"",'Historic - corrected'!$B$10/J$10*'Historic - uncorrected'!I104) -> 0 | K104: =IF('Historic - uncorrected'!J104<0,"",'Historic - corrected'!$B$10/K$10*'Historic - uncorrected'!J104) -> 0 | L104: =IF('Historic - uncorrected'!K104<0,"",'Historic - corrected'!$B$10/L$10*'Historic - uncorrected'!K104) -> 0 | ... AM104: =IF('Historic - uncorrected'!AL104<0,"",'Historic - corrected'!$B$10/AM$10*'Historic - uncorrected'!AL104) -> 0 | AN104: =COUNTIF(C104:AM104,">0") -> 4
A105: Nuthatch sp. | B105: =AVERAGE(E105:AM105) -> 0 | C105: 0 | D105: 0 | E105: =IF('Historic - uncorrected'!D105<0,"",'Historic - corrected'!$B$10/E$10*'Historic - uncorrected'!D105) -> 0 | F105: =IF('Historic - uncorrected'!E105<0,"",'Historic - corrected'!$B$10/F$10*'Historic - uncorrected'!E105) -> 0 | G105: =IF('Historic - uncorrected'!F105<0,"",'Historic - corrected'!$B$10/G$10*'Historic - uncorrected'!F105) -> 0 | H105: =IF('Historic - uncorrected'!G105<0,"",'Historic - corrected'!$B$10/H$10*'Historic - uncorrected'!G105) -> 0 | I105: =IF('Historic - uncorrected'!H105<0,"",'Historic - corrected'!$B$10/I$10*'Historic - uncorrected'!H105) -> 0 | J105: =IF('Historic - uncorrected'!I105<0,"",'Historic - corrected'!$B$10/J$10*'Historic - uncorrected'!I105) -> 0 | K105: =IF('Historic - uncorrected'!J105<0,"",'Historic - corrected'!$B$10/K$10*'Historic - uncorrected'!J105) -> 0 | L105: =IF('Historic - uncorrected'!K105<0,"",'Historic - corrected'!$B$10/L$10*'Historic - uncorrected'!K105) -> 0 | ... AM105: =IF('Historic - uncorrected'!AL105<0,"",'Historic - corrected'!$B$10/AM$10*'Historic - uncorrected'!AL105) -> 0 | AN105: =COUNTIF(C105:AM105,"<>0") -> 0
A106: Red-breasted Nuthatch | B106: =AVERAGE(E106:AM106) -> 7.0437475 | C106: 0 | D106: 0 | E106: =IF('Historic - uncorrected'!D106<0,"",'Historic - corrected'!$B$10/E$10*'Historic - uncorrected'!D106) -> 5.0628915 | F106: =IF('Historic - uncorrected'!E106<0,"",'Historic - corrected'!$B$10/F$10*'Historic - uncorrected'!E106) -> 13.737716 | G106: =IF('Historic - uncorrected'!F106<0,"",'Historic - corrected'!$B$10/G$10*'Historic - uncorrected'!F106) -> 4.9278296 | H106: =IF('Historic - uncorrected'!G106<0,"",'Historic - corrected'!$B$10/H$10*'Historic - uncorrected'!G106) -> 20.516232 | I106: =IF('Historic - uncorrected'!H106<0,"",'Historic - corrected'!$B$10/I$10*'Historic - uncorrected'!H106) -> 3.9640175 | J106: =IF('Historic - uncorrected'!I106<0,"",'Historic - corrected'!$B$10/J$10*'Historic - uncorrected'!I106) -> 14.104305 | K106: =IF('Historic - uncorrected'!J106<0,"",'Historic - corrected'!$B$10/K$10*'Historic - uncorrected'!J106) -> 12.181024 | L106: =IF('Historic - uncorrected'!K106<0,"",'Historic - corrected'!$B$10/L$10*'Historic - uncorrected'!K106) -> 17.16008 | ... AM106: =IF('Historic - uncorrected'!AL106<0,"",'Historic - corrected'!$B$10/AM$10*'Historic - uncorrected'!AL106) -> 0 | AN106: =COUNTIF(C106:AM106,">0") -> 25
A107: White-breasted Nuthatch | B107: =AVERAGE(E107:AM107) -> 1.3104161 | C107: 0 | D107: 0 | E107: =IF('Historic - uncorrected'!D107<0,"",'Historic - corrected'!$B$10/E$10*'Historic - uncorrected'!D107) -> 0 | F107: =IF('Historic - uncorrected'!E107<0,"",'Historic - corrected'!$B$10/F$10*'Historic - uncorrected'!E107) -> 2.2896193 | G107: =IF('Historic - uncorrected'!F107<0,"",'Historic - corrected'!$B$10/G$10*'Historic - uncorrected'!F107) -> 9.8556593 | H107: =IF('Historic - uncorrected'!G107<0,"",'Historic - corrected'!$B$10/H$10*'Historic - uncorrected'!G107) -> 3.239405 | I107: =IF('Historic - uncorrected'!H107<0,"",'Historic - corrected'!$B$10/I$10*'Historic - uncorrected'!H107) -> 2.3784105 | J107: =IF('Historic - uncorrected'!I107<0,"",'Historic - corrected'!$B$10/J$10*'Historic - uncorrected'!I107) -> 2.0149007 | K107: =IF('Historic - uncorrected'!J107<0,"",'Historic - corrected'!$B$10/K$10*'Historic - uncorrected'!J107) -> 0.93700181 | L107: =IF('Historic - uncorrected'!K107<0,"",'Historic - corrected'!$B$10/L$10*'Historic - uncorrected'!K107) -> 7.0659153 | ... AM107: =IF('Historic - uncorrected'!AL107<0,"",'Historic - corrected'!$B$10/AM$10*'Historic - uncorrected'!AL107) -> 0 | AN107: =COUNTIF(C107:AM107,">0") -> 13
...

Sheet Historic - uncorrected
A1: Clark's Crossing Christmas Bird Counts, 1991/92 - 2025/26 (uncorrected) | AG1: Page 2 of 2
A6: Count Date | D6: 12/20 2025 | E6: 12/14 2024 | F6: 12/16 2023 | G6: 12/17 2022 | H6: 12/18 2021 | I6: 12/19 2020 | J6: 12/21 2019 | K6: 12/15 2018 | L6: 12/16 2017 | M6: 12/17 2016 | N6: 12/19 2015 | O6: 12/20 2014 | P6: 12/14 2013 | Q6: 12/15 2012 | R6: 12/17 2011 | S6: 18/12 2010 | T6: 19/12 2009 | U6: 12/20 2008 | V6: 12/15 2007 | W6: 12/16 2006 | X6: 12/17 2005 | Y6: 12/18 2004 | Z6: 12/20 2003 | AA6: 12/14 2002 | AB6: 12/15 2001 | AC6: 12/16 2000 | AD6: 12/18 1999 | AE6: 12/19 1998 | AF6: 12/20 1997 | AG6: 12/21 1996 | AH6: 12/16 1995 | AI6: 12/17 1994 | AJ6: 1993 | AK6: 1992 | AL6: 1991
A8: Total Species - count day | D8: 27 | E8: 31 | F8: 31 | G8: 30 | H8: 27 | I8: 27 | J8: 29 | K8: 26 | L8: 30 | M8: 36 | N8: 29 | O8: 34 | P8: 26 | Q8: 28 | R8: 31 | S8: 29 | T8: 30 | U8: 32 | V8: 27 | W8: 28 | X8: 23 | Y8: 23 | Z8: 27 | AA8: 26 | AB8: 27 | AC8: 33 | AD8: 24 | AE8: 26 | AF8: 26 | AG8: 27 | AH8: 21 | AI8: 24 | AJ8: 19 | AK8: 24 | AL8: 17
A9: Total Species - count period | D9: 0 | E9: 1 | G9: 0 | H9: 2 | I9: 2 | J9: 4 | K9: 1 | L9: 1 | M9: 0 | N9: 0 | O9: 0 | P9: 0 | Q9: 1 | R9: 0 | S9: 0 | T9: 0 | U9: 0 | V9: 0 | W9: 1 | X9: 0 | Y9: 1 | Z9: 0 | AA9: 0 | AB9: 0 | AC9: 1 | AD9: 0 | AE9: 2 | AF9: 0 | AG9: 0 | AH9: 0 | AI9: 0 | AJ9: 1 | AK9: 0 | AL9: 0
A10: Party Hours | D10: 42.566667 | E10: 37.65 | F10: 43.733333 | G10: 39.916667 | H10: 54.366667 | I10: 42.783333 | J10: 46 | K10: 42.7 | L10: 40.3 | M10: 44.5 | N10: 45 | O10: 45.6 | P10: 48.5 | Q10: 48.1 | R10: 45 | S10: 43.7 | T10: 47.7 | U10: 37.9 | V10: 44.5 | W10: 34.1 | X10: 44.25 | Y10: 46.4 | Z10: 46.7 | AA10: 48.7 | AB10: 55 | AC10: 45 | AD10: 39 | AE10: 47.5 | AF10: 45.4 | AG10: 34.2 | AH10: 39.5 | AI10: 44.5 | AJ10: 41 | AK10: 31.7 | AL10: 19.75
A11: Participants | D11: 18 | E11: 18 | F11: 19 | G11: 28 | H11: 28 | I11: 25 | J11: 31 | K11: 29 | L11: 24 | M11: 25 | N11: 20 | O11: 18 | P11: 22 | Q11: 28 | R11: 24 | S11: 25 | T11: 28 | U11: 23 | V11: 28 | W11: 25 | X11: 28 | Y11: 32 | Z11: 23 | AA11: 29 | AB11: 27 | AC11: 20 | AD11: 25 | AE11: 29 | AF11: 22 | AG11: 18 | AH11: 27 | AI11: 23 | AJ11: 22 | AK11: 14 | AL11: 10
AM13: Filter blank rows
A14: BIRDS
A15: Snow Goose | B15: 0 | C15: 0 | D15: 0 | E15: 0 | F15: 0 | G15: 0 | H15: 0 | I15: 0 | J15: 0 | K15: 0 | L15: 0 | M15: 0 | N15: 0 | O15: 0 | P15: 0 | Q15: 0 | R15: 0 | S15: 0 | T15: 0 | U15: 0 | V15: 0 | W15: 0 | X15: 0 | Y15: 0 | Z15: 0 | AA15: 0 | AB15: 0 | AC15: 0 | AD15: 0 | AE15: 0 | AF15: 0 | AG15: 0 | AH15: 0 | AI15: 0 | AJ15: 0 | AK15: 0 | AL15: 0 | AM15: =COUNTIF(B15:AL15,"<>0") -> 0
A16: Greater White-fronted Goose | B16: 0 | C16: 0 | D16: 0 | E16: 0 | F16: 0 | G16: 0 | H16: 0 | I16: 0 | J16: 0 | K16: 0 | L16: 0 | M16: 0 | N16: 0 | O16: 0 | P16: 0 | Q16: 0 | R16: 0 | S16: 0 | T16: 0 | U16: 0 | V16: 0 | W16: 0 | X16: 0 | Y16: 0 | Z16: 0 | AA16: 0 | AB16: 0 | AC16: 0 | AD16: 0 | AE16: 0 | AF16: 0 | AG16: 0 | AH16: 0 | AI16: 0 | AJ16: 0 | AK16: 0 | AL16: 0 | AM16: =COUNTIF(B16:AL16,"<>0") -> 0
A17: Cackling Goose | B17: 0 | C17: 0 | D17: 0 | E17: 0 | F17: 12 | G17: 0 | H17: 0 | I17: 0 | J17: 0 | K17: 0 | L17: 0 | M17: 0 | N17: 0 | O17: 0 | P17: 0 | Q17: 0 | R17: 0 | S17: 0 | T17: 1 | U17: 0 | V17: 0 | W17: 0 | X17: 0 | Y17: 0 | Z17: 0 | AA17: 0 | AB17: 0 | AC17: 0 | AD17: 0 | AE17: 0 | AF17: 0 | AG17: 0 | AH17: 0 | AI17: 0 | AJ17: 0 | AK17: 0 | AL17: 0 | AM17: =COUNTIF(B17:AL17,"<>0") -> 2
A18: Canada Goose | B18: 0 | C18: 0 | D18: 0 | E18: 0 | F18: 2063 | G18: 0 | H18: -25 | I18: 1 | J18: 6 | K18: 483 | L18: 35 | M18: 544 | N18: 92 | O18: 24 | P18: 1 | Q18: 0 | R18: 75 | S18: 36 | T18: 87 | U18: 0 | V18: 0 | W18: 19 | X18: 131 | Y18: 1361 | Z18: 493 | AA18: 1391 | AB18: 31 | AC18: 0 | AD18: 115 | AE18: 125 | AF18: 36 | AG18: 0 | AH18: 1 | AI18: 0 | AJ18: 0 | AK18: 0 | AL18: 0 | AM18: =COUNTIF(B18:AL18,"<>0") -> 23
A19: Tundra Swan | B19: 0 | C19: 0 | D19: 0 | E19: 0 | F19: 0 | G19: 0 | H19: 0 | I19: 0 | J19: 0 | K19: 0 | L19: 0 | M19: 0 | N19: 0 | O19: 0 | P19: 0 | Q19: 0 | R19: 0 | S19: 0 | T19: 0 | U19: 0 | V19: 0 | W19: 0 | X19: 0 | Y19: 0 | Z19: 0 | AA19: 0 | AB19: 0 | AC19: 0 | AD19: 0 | AE19: 0 | AF19: 0 | AG19: 0 | AH19: 0 | AI19: 0 | AJ19: 0 | AK19: 0 | AL19: 0 | AM19: =COUNTIF(B19:AL19,"<>0") -> 0
A20: Duck sp. | B20: 0 | C20: 0 | D20: 0 | E20: 0 | F20: 300 | G20: 0 | H20: 0 | I20: 0 | J20: 0 | K20: 0 | L20: 0 | M20: 0 | N20: 0 | O20: 0 | P20: 0 | Q20: 0 | R20: 0 | S20: 0 | T20: 0 | U20: 0 | V20: 0 | W20: 0 | X20: 0 | Y20: 0 | Z20: 0 | AA20: 0 | AB20: 0 | AC20: 0 | AD20: 0 | AE20: 0 | AF20: 0 | AG20: 0 | AH20: 0 | AI20: 0 | AJ20: 0 | AK20: 0 | AL20: 0 | AM20: =COUNTIF(B20:AL20,"<>0") -> 1
A21: Northern Shoveler | B21: 0 | C21: 0 | D21: 0 | E21: 0 | F21: 0 | G21: 0 | H21: 0 | I21: 0 | J21: 0 | K21: 0 | L21: 0 | M21: 0 | N21: 0 | O21: 0 | P21: 0 | Q21: 0 | R21: 0 | S21: 0 | T21: 0 | U21: 0 | V21: 0 | W21: 0 | X21: 0 | Y21: 0 | Z21: 0 | AA21: 0 | AB21: 0 | AC21: 0 | AD21: 0 | AE21: 0 | AF21: 0 | AG21: 0 | AH21: 0 | AI21: 0 | AJ21: 0 | AK21: 0 | AL21: 0 | AM21: =COUNTIF(B21:AL21,"<>0") -> 0
A22: Gadwall | B22: 0 | C22: 0 | D22: 0 | E22: 0 | F22: 0 | G22: 0 | H22: 0 | I22: 0 | J22: 0 | K22: 0 | L22: 0 | M22: 0 | N22: 0 | O22: 0 | P22: 0 | Q22: 0 | R22: 0 | S22: 0 | T22: 0 | U22: 0 | V22: 0 | W22: 0 | X22: 0 | Y22: 0 | Z22: 0 | AA22: 0 | AB22: 0 | AC22: 0 | AD22: 0 | AE22: 0 | AF22: 0 | AG22: 0 | AH22: 0 | AI22: 0 | AJ22: 0 | AK22: 0 | AL22: 0 | AM22: =COUNTIF(B22:AL22,"<>0") -> 0
A23: American Wigeon | B23: 0 | C23: 0 | D23: 0 | E23: 0 | F23: 0 | G23: 0 | H23: 0 | I23: 0 | J23: 0 | K23: 0 | L23: 0 | M23: 0 | N23: 0 | O23: 0 | P23: 0 | Q23: 0 | R23: 0 | S23: 0 | T23: 0 | U23: 0 | V23: 0 | W23: 0 | X23: 0 | Y23: 0 | Z23: 0 | AA23: 0 | AB23: 0 | AC23: 0 | AD23: 0 | AE23: 0 | AF23: 0 | AG23: 0 | AH23: 0 | AI23: 0 | AJ23: 0 | AK23: 0 | AL23: 0 | AM23: =COUNTIF(B23:AL23,"<>0") -> 0
A24: Mallard | B24: 0 | C24: 0 | D24: 0 | E24: 0 | F24: 90 | G24: 0 | H24: 5 | I24: 0 | J24: 0 | K24: 2 | L24: 0 | M24: 1 | N24: 0 | O24: 0 | P24: 0 | Q24: 4 | R24: 2 | S24: 0 | T24: 0 | U24: 0 | V24: 0 | W24: 0 | X24: 0 | Y24: 0 | Z24: 0 | AA24: 18 | AB24: 3 | AC24: 0 | AD24: 1 | AE24: 0 | AF24: 1 | AG24: 0 | AH24: 0 | AI24: 0 | AJ24: 0 | AK24: 0 | AL24: 0 | AM24: =COUNTIF(B24:AL24,"<>0") -> 10
A25: Northern Pintail | B25: 0 | C25: 0 | D25: 0 | E25: 0 | F25: 0 | G25: 0 | H25: 0 | I25: 0 | J25: 0 | K25: 0 | L25: 0 | M25: 0 | N25: 0 | O25: 0 | P25: 0 | Q25: 0 | R25: 0 | S25: 0 | T25: 0 | U25: 0 | V25: 0 | W25: 0 | X25: 0 | Y25: 0 | Z25: 0 | AA25: 0 | AB25: 0 | AC25: 0 | AD25: 0 | AE25: 0 | AF25: 0 | AG25: 0 | AH25: 0 | AI25: 0 | AJ25: 0 | AK25: 0 | AL25: 0 | AM25: =COUNTIF(B25:AL25,"<>0") -> 0
A26: Green-winged Teal | B26: 0 | C26: 0 | D26: 0 | E26: 0 | F26: 0 | G26: 0 | H26: 0 | I26: 0 | J26: 0 | K26: 0 | L26: 0 | M26: 0 | N26: 0 | O26: 0 | P26: 0 | Q26: 0 | R26: 0 | S26: 0 | T26: 0 | U26: 0 | V26: 0 | W26: 0 | X26: 0 | Y26: 0 | Z26: 0 | AA26: 0 | AB26: 0 | AC26: 0 | AD26: 0 | AE26: 0 | AF26: 0 | AG26: 0 | AH26: 0 | AI26: 0 | AJ26: 0 | AK26: 0 | AL26: 0 | AM26: =COUNTIF(B26:AL26,"<>0") -> 0
... A76: Short-eared Owl | B76: 0 | C76: 0 | D76: 0 | E76: 1 | F76: 0 | G76: 0 | H76: 0 | I76: 0 | J76: 0 | K76: 0 | L76: 0 | M76: 0 | N76: 0 | O76: 0 | P76: 0 | Q76: 0 | R76: 2 | S76: 0 | T76: 0 | U76: 0 | V76: 1 | W76: 0 | X76: 0 | Y76: 1 | Z76: 0 | AA76: 0 | AB76: 0 | AC76: 0 | AD76: 0 | AE76: 0 | AF76: 0 | AG76: 0 | AH76: 0 | AI76: 0 | AJ76: 0 | AK76: 0 | AL76: 0 | AM76: =COUNTIF(B76:AL76,"<>0") -> 4
A77: Boreal Owl | B77: 0 | C77: 0 | E77: -1 | F77: 0 | G77: 0 | H77: 0 | I77: 0 | J77: 0 | K77: 0 | L77: 0 | M77: 0 | N77: 0 | O77: 0 | P77: 0 | Q77: 0 | R77: 0 | S77: 0 | T77: 0 | U77: 0 | V77: 0 | W77: 0 | X77: 0 | Y77: 0 | Z77: 0 | AA77: 0 | AB77: 0 | AC77: 0 | AD77: 0 | AE77: 0 | AF77: 0 | AG77: 0 | AH77: 0 | AI77: 0 | AJ77: 0 | AK77: 0 | AL77: 0 | AM77: =COUNTIF(B77:AL77,"<>0") -> 2
A78: Northern Saw-whet Owl | B78: 0 | C78: 0 | D78: 0 | E78: 0 | F78: 0 | G78: 0 | H78: 0 | I78: 0 | J78: 0 | K78: 0 | L78: 0 | M78: 0 | N78: 0 | O78: 0 | P78: 0 | Q78: 0 | R78: 0 | S78: 0 | T78: 0 | U78: 0 | V78: -1 | W78: 0 | X78: 0 | Y78: 0 | Z78: 0 | AA78: 0 | AB78: 0 | AC78: 0 | AD78: 0 | AE78: 0 | AF78: 0 | AG78: 0 | AH78: 0 | AI78: 0 | AJ78: 0 | AK78: 0 | AL78: 0 | AM78: =COUNTIF(B78:AL78,"<>0") -> 1
A79: Belted Kingfisher | B79: 0 | C79: 0 | D79: 0 | E79: 0 | F79: 0 | G79: 0 | H79: 0 | I79: 0 | J79: 0 | K79: 0 | L79: 0 | M79: 0 | N79: 0 | O79: 0 | P79: 0 | Q79: 0 | R79: 0 | S79: 0 | T79: 0 | U79: 0 | V79: 0 | W79: 0 | X79: 0 | Y79: 0 | Z79: 0 | AA79: 0 | AB79: 0 | AC79: 0 | AD79: 0 | AE79: 0 | AF79: 0 | AG79: 0 | AH79: 0 | AI79: 0 | AJ79: 0 | AK79: 0 | AL79: 0 | AM79: =COUNTIF(B79:AL79,"<>0") -> 0
A80: Woodpecker sp. | B80: 0 | C80: 0 | D80: 0 | E80: 0 | F80: 0 | G80: 3 | H80: 0 | I80: 0 | J80: 0 | K80: 0 | L80: 0 | M80: 0 | N80: 0 | O80: 0 | P80: 0 | Q80: 0 | R80: 1 | S80: 0 | T80: 0 | U80: 0 | V80: 0 | W80: 0 | X80: 0 | Y80: 0 | Z80: 1 | AA80: 1 | AB80: 2 | AC80: 1 | AD80: 0 | AE80: 0 | AF80: 1 | AG80: 0 | AH80: 0 | AI80: 0 | AJ80: 0 | AK80: 0 | AL80: 1 | AM80: =COUNTIF(B80:AL80,"<>0") -> 8
A81: Yellow-bellied Sapsucker | B81: 0 | C81: 0 | D81: 0 | E81: 0 | F81: 0 | G81: 0 | H81: 0 | I81: 0 | J81: 0 | K81: 0 | L81: 0 | M81: 0 | N81: 0 | O81: 0 | P81: 0 | Q81: 0 | R81: 0 | S81: 0 | T81: 0 | U81: 0 | V81: 0 | W81: 0 | X81: 0 | Y81: 0 | Z81: 0 | AA81: 0 | AB81: 0 | AC81: 0 | AD81: 0 | AE81: 0 | AF81: 0 | AG81: 0 | AH81: 0 | AI81: 0 | AJ81: 0 | AK81: 0 | AL81: 0 | AM81: =COUNTIF(B81:AL81,"<>0") -> 0
A82: Picoides sp. | B82: 0 | C82: 0 | D82: 0 | E82: 0 | F82: 0 | G82: 0 | H82: 0 | I82: 0 | J82: 0 | K82: 0 | L82: 0 | M82: 0 | N82: 0 | O82: 0 | P82: 0 | Q82: 0 | R82: 0 | S82: 0 | T82: 0 | U82: 0 | V82: 0 | W82: 0 | X82: 0 | Y82: 0 | Z82: 0 | AA82: 0 | AB82: 0 | AC82: 0 | AD82: 0 | AE82: 0 | AF82: 0 | AG82: 0 | AH82: 0 | AI82: 0 | AJ82: 0 | AK82: 0 | AL82: 0 | AM82: =COUNTIF(B82:AL82,"<>0") -> 0
A83: American Three-toed Woodpecker | B83: 0 | C83: 0 | D83: 0 | E83: 0 | F83: 0 | G83: 0 | H83: 0 | I83: 0 | J83: 0 | K83: 0 | L83: 0 | M83: 0 | N83: 0 | O83: 0 | P83: 0 | Q83: 0 | R83: 0 | S83: 0 | T83: 0 | U83: 0 | V83: 0 | W83: 0 | X83: 0 | Y83: 0 | Z83: 0 | AA83: 0 | AB83: 0 | AC83: 0 | AD83: 0 | AE83: 0 | AF83: 0 | AG83: 0 | AH83: 0 | AI83: 0 | AJ83: 0 | AK83: 0 | AL83: 0 | AM83: =COUNTIF(B83:AL83,"<>0") -> 0
A84: Black-backed Woodpecker | B84: 0 | C84: 0 | D84: 0 | E84: 0 | F84: 0 | G84: 0 | H84: 0 | I84: 0 | J84: 0 | K84: 0 | L84: 0 | M84: 0 | N84: 0 | O84: 0 | P84: 0 | Q84: 0 | R84: 0 | S84: 0 | T84: 0 | U84: 0 | V84: 0 | W84: 0 | X84: 0 | Y84: 0 | Z84: 0 | AA84: 0 | AB84: 0 | AC84: 0 | AD84: 0 | AE84: 0 | AF84: 0 | AG84: 0 | AH84: 0 | AI84: 0 | AJ84: 0 | AK84: 0 | AL84: 0 | AM84: =COUNTIF(B84:AL84,"<>0") -> 0
A85: Downy Woodpecker | B85: 0 | C85: 0 | D85: 21 | E85: 17 | F85: 10 | G85: 14 | H85: 21 | I85: 7 | J85: 15 | K85: 17 | L85: 15 | M85: 15 | N85: 1 | O85: 1 | P85: 18 | Q85: 26 | R85: 6 | S85: 2 | T85: 9 | U85: 5 | V85: 7 | W85: 14 | X85: 13 | Y85: 3 | Z85: 4 | AA85: 7 | AB85: 9 | AC85: 6 | AD85: 5 | AE85: 6 | AF85: 5 | AG85: 4 | AH85: 3 | AI85: 3 | AJ85: 2 | AK85: 0 | AL85: 1 | AM85: =COUNTIF(B85:AL85,"<>0") -> 34
A86: Hairy Woodpecker | B86: 0 | C86: 0 | D86: 10 | E86: 8 | F86: 10 | G86: 15 | H86: 1 | I86: 9 | J86: 15 | K86: 15 | L86: 1 | M86: 14 | N86: 7 | O86: 8 | P86: 11 | Q86: 8 | R86: 1 | S86: 11 | T86: 13 | U86: 8 | V86: 8 | W86: 13 | X86: 17 | Y86: 1 | Z86: 7 | AA86: 11 | AB86: 5 | AC86: 11 | AD86: 13 | AE86: 9 | AF86: 3 | AG86: 6 | AH86: 6 | AI86: 4 | AJ86: 4 | AK86: 2 | AL86: 0 | AM86: =COUNTIF(B86:AL86,"<>0") -> 34
A87: Pileated Woodpecker | B87: 0 | C87: 0 | D87: 0 | E87: 0 | F87: 0 | G87: 1 | H87: 0 | I87: 0 | J87: 0 | K87: 0 | L87: 0 | M87: 0 | N87: 0 | O87: 0 | P87: 1 | Q87: 0 | R87: 0 | S87: 0 | T87: 0 | U87: 0 | V87: 1 | W87: 0 | X87: 0 | Y87: 0 | Z87: 0 | AA87: 0 | AB87: 0 | AC87: 0 | AD87: 0 | AE87: 0 | AF87: 0 | AG87: 0 | AH87: 0 | AI87: 0 | AJ87: 0 | AK87: 0 | AL87: 0 | AM87: =COUNTIF(B87:AL87,"<>0") -> 3
A88: Northern Flicker | B88: 0 | C88: 0 | D88: 0 | E88: 0 | F88: 1 | G88: 0 | H88: 0 | I88: 0 | J88: 0 | K88: 1 | L88: 1 | M88: 0 | N88: 2 | O88: 0 | P88: 0 | Q88: 1 | R88: 3 | S88: 1 | T88: 3 | U88: 0 | V88: 0 | W88: 0 | X88: 0 | Y88: 0 | Z88: 1 | AA88: 3 | AB88: 2 | AC88: 0 | AD88: 0 | AE88: 0 | AF88: 1 | AG88: 0 | AH88: 0 | AI88: 0 | AJ88: 0 | AK88: 0 | AL88: 0 | AM88: =COUNTIF(B88:AL88,"<>0") -> 12
A89: Northern Flicker(red-shafted) | B89: 0 | C89: 0 | D89: 0 | E89: 0 | F89: 0 | G89: 0 | H89: 0 | I89: 0 | J89: 0 | K89: 0 | L89: 0 | M89: 0 | N89: 0 | O89: 0 | P89: 0 | Q89: 0 | R89: 0 | S89: 0 | T89: 0 | U89: 0 | V89: 0 | W89: 0 | X89: 0 | Y89: 0 | Z89: 0 | AA89: 0 | AB89: 0 | AC89: 0 | AD89: 0 | AE89: 0 | AF89: 0 | AG89: 0 | AH89: 0 | AI89: 0 | AJ89: 0 | AK89: 0 | AL89: 0 | AM89: =COUNTIF(B89:AL89,"<>0") -> 0
... A146: Western Meadowlark | B146: 0 | C146: 0 | D146: 0 | E146: 0 | F146: 0 | G146: 0 | H146: 0 | I146: 0 | J146: 0 | K146: 0 | L146: 0 | M146: 0 | N146: 0 | O146: 0 | P146: 0 | Q146: 0 | R146: 0 | S146: 0 | T146: 0 | U146: 0 | V146: 0 | W146: 0 | X146: 0 | Y146: 0 | Z146: 0 | AA146: 0 | AB146: 0 | AC146: 0 | AD146: 0 | AE146: 0 | AF146: 0 | AG146: 0 | AH146: 0 | AI146: 0 | AJ146: 0 | AK146: 0 | AL146: 0 | AM146: =COUNTIF(B146:AL146,"<>0") -> 0
A147: Blackbird sp. | B147: 0 | C147: 0 | D147: 0 | E147: 0 | AM147: =COUNTIF(B147:AL147,"<>0") -> 33
A148: Red-winged Blackbird | B148: 0 | C148: 0 | D148: 0 | E148: 0 | F148: 0 | G148: 1 | H148: 0 | I148: 2 | J148: 0 | K148: -1 | L148: 0 | M148: 0 | N148: 0 | O148: 0 | P148: 0 | Q148: 0 | R148: 0 | S148: 0 | T148: 0 | U148: 0 | V148: 0 | W148: 0 | X148: 0 | Y148: 0 | Z148: 0 | AA148: 0 | AB148: 0 | AC148: 0 | AD148: 0 | AE148: 0 | AF148: 0 | AG148: 1 | AH148: 0 | AI148: 0 | AJ148: 0 | AK148: 0 | AL148: 0 | AM148: =COUNTIF(B148:AL148,"<>0") -> 4
A149: Brown-headed Cowbird | B149: 0 | C149: 0 | D149: 0 | E149: 0 | F149: 0 | G149: 0 | H149: 0 | I149: 0 | J149: 0 | K149: 0 | L149: 0 | M149: 0 | N149: 0 | O149: 0 | P149: 0 | Q149: 0 | R149: 0 | S149: 0 | T149: 0 | U149: 0 | V149: 0 | W149: 0 | X149: 0 | Y149: 0 | Z149: 0 | AA149: 0 | AB149: 0 | AC149: 0 | AD149: 0 | AE149: 0 | AF149: 0 | AG149: 0 | AH149: 0 | AI149: 0 | AJ149: 0 | AK149: 0 | AL149: 0 | AM149: =COUNTIF(B149:AL149,"<>0") -> 0
A150: Rusty Blackbird | B150: 0 | C150: 0 | D150: 0 | E150: 0 | F150: 0 | G150: 1 | H150: 0 | I150: 0 | J150: 0 | K150: 0 | L150: 0 | M150: 0 | N150: 0 | O150: 0 | P150: -3 | Q150: 0 | R150: 1 | S150: 0 | T150: 0 | U150: 0 | V150: 0 | W150: 0 | X150: 0 | Y150: 0 | Z150: 0 | AA150: 0 | AB150: 0 | AC150: 0 | AD150: 1 | AE150: 1 | AF150: 0 | AG150: 0 | AH150: 0 | AI150: 1 | AJ150: 0 | AK150: 0 | AL150: 0 | AM150: =COUNTIF(B150:AL150,"<>0") -> 6
A151: Brewer's Blackbird | B151: 0 | C151: 0 | D151: 0 | E151: 0 | F151: 0 | G151: 0 | H151: 0 | I151: 0 | J151: 0 | K151: 0 | L151: 0 | M151: 0 | N151: 0 | O151: 0 | P151: 0 | Q151: 0 | R151: 0 | S151: 0 | T151: 0 | U151: 0 | V151: 0 | W151: 0 | X151: 0 | Y151: 0 | Z151: 0 | AA151: 0 | AB151: 0 | AC151: 0 | AD151: 0 | AE151: 0 | AF151: 0 | AG151: 0 | AH151: 1 | AI151: 0 | AJ151: 0 | AK151: 0 | AL151: 0 | AM151: =COUNTIF(B151:AL151,"<>0") -> 1
A152: Common Grackle | B152: 0 | C152: 0 | D152: 0 | E152: 0 | F152: 0 | G152: 0 | H152: 0 | I152: 3 | J152: 0 | K152: 0 | L152: 0 | M152: 0 | N152: 0 | O152: 0 | P152: 0 | Q152: 0 | R152: 0 | S152: 0 | T152: 0 | U152: 1 | V152: 0 | W152: 0 | X152: 0 | Y152: 0 | Z152: 0 | AA152: 0 | AB152: 1 | AC152: 0 | AD152: 0 | AE152: 0 | AF152: 0 | AG152: 0 | AH152: 0 | AI152: 0 | AJ152: 0 | AK152: 0 | AL152: 0 | AM152: =COUNTIF(B152:AL152,"<>0") -> 3
A153: Orange-crowned Warbler | B153: 0 | C153: 0 | D153: 0 | E153: 0 | F153: 0 | G153: 0 | H153: 0 | I153: 0 | J153: 0 | K153: 0 | L153: 0 | M153: 0 | N153: 0 | O153: 0 | P153: 0 | Q153: 0 | R153: 0 | S153: 0 | T153: 0 | U153: 0 | V153: 0 | W153: 0 | X153: 0 | Y153: 0 | Z153: 0 | AA153: 0 | AB153: 0 | AC153: 0 | AD153: 0 | AE153: 0 | AF153: 0 | AG153: 0 | AH153: 0 | AI153: 0 | AJ153: 0 | AK153: 0 | AL153: 0 | AM153: =COUNTIF(B153:AL153,"<>0") -> 0
A154: Pine Warbler | B154: 0 | C154: 0 | D154: 0 | E154: 0 | F154: 0 | G154: 0 | H154: 0 | I154: 0 | J154: 0 | K154: 0 | L154: 0 | M154: 0 | N154: 0 | O154: 0 | P154: 0 | Q154: 0 | R154: 0 | S154: 0 | T154: 0 | U154: 0 | V154: 0 | W154: 0 | X154: 0 | Y154: 0 | Z154: 0 | AA154: 0 | AB154: 0 | AC154: 0 | AD154: 0 | AE154: 0 | AF154: 0 | AG154: 0 | AH154: 0 | AI154: 0 | AJ154: 0 | AK154: 0 | AL154: 0 | AM154: =COUNTIF(B154:AL154,"<>0") -> 0
A155: Northern Cardinal | B155: 0 | C155: 0 | D155: 0 | E155: 0 | F155: 0 | G155: 0 | H155: 0 | I155: 0 | J155: 0 | K155: 0 | L155: 0 | M155: 0 | N155: 0 | O155: 0 | P155: 0 | Q155: 0 | R155: 0 | S155: 0 | T155: 0 | U155: 0 | V155: 0 | W155: 0 | X155: 0 | Y155: 0 | Z155: 0 | AA155: 0 | AB155: 0 | AC155: 0 | AD155: 0 | AE155: 0 | AF155: 0 | AG155: 0 | AH155: 0 | AI155: 0 | AJ155: 0 | AK155: 0 | AL155: 0 | AM155: =COUNTIF(B155:AL155,"<>0") -> 0
A156: Total Birds - count day | B156: 0 | D156: 2612 | E156: 3150 | F156: 5448 | G156: 1344 | H156: 5094 | I156: 1522 | J156: 3329 | K156: 4062 | L156: 1571 | M156: 2036 | N156: 2276 | O156: 3357 | P156: 2378 | Q156: 5568 | R156: 2313 | S156: 3792 | T156: 1231 | U156: 2625 | V156: 4098 | W156: 2532 | X156: 2455 | Y156: 4597 | Z156: 3794 | AA156: 4197 | AB156: 2558 | AC156: 2873 | AD156: 1758 | AE156: 5359 | AF156: 3776 | AG156: 2662 | AH156: 3567 | AI156: 1025 | AJ156: 1733 | AK156: 2554 | AL156: 1338 | AM156: =COUNTIF(B156:AL156,"<>0") -> 36
A157: Total Birds - count period | B157: 0 | D157: 0 | E157: 1 | F157: 0 | G157: 0 | H157: 26 | I157: 6 | J157: 1 | K157: 1 | L157: 0 | M157: 0 | N157: 0 | O157: 0 | P157: 3 | Q157: 0 | R157: 0 | S157: 0 | T157: 0 | U157: 0 | V157: 1 | W157: 0 | X157: 1 | Y157: 0 | Z157: 0 | AA157: 0 | AB157: 1 | AC157: 0 | AD157: 2 | AE157: 0 | AF157: 0 | AG157: 0 | AH157: 0 | AI157: 1 | AJ157: 0 | AK157: 0 | AL157: 0 | AM157: =COUNTIF(B157:AL157,"<>0") -> 12
A158: - a number <0 is a count period observation
