Workbook

Sheet Raw counts
B1: The Historical Record of the Saskatoon Nature Society Spring Bird Count - Raw Counts - 1957 to 2025
B3: NOTE - To reduce fatigue, observers were historically given the option, for selected species, of counting only to 25 and recording flocks of 50 or more thereafter. From 1968 to 1981 there were short lists of species to be fully counted. Since then, observers have been asked to fully count an ever-increasing list of species. The under-count is less significant than it may appear because any species with less than 25 individuals counted per sector, has been fully counted, and regardless of the options, some sector leaders chose to fully count. The cells have been color-coded to give an idea of the extent of the under-counting. | P3: There was no significant under-reporting | X3: The count was under-reported in three or more sectors
P5: The count was under-reported in one sector | X5: The sector counts are unavailable, but are assumed to be under-reported if the count is >25 and the counts immediately before or after were under-reported
P7: The count was under-reported in two sectors
O9: 1968 | P9: Species fully counted - Mallard, American Coot, Willet, Marbled Godwit, Franklin's Gull,Black Tern, Rock Pigeon, Eastern Kingbird, Western Kingbird, Black-billed Magpie, American Crow, Mountain Bluebird, Loggerhead Shrike, Yellow Warbler,
P10: Western Meadowlark, Yellow-headed Blackbird, Red-winged Blackbird and Clay-colored Sparrow. All others were counted to 25 in each sector.
O11: 1969-81 | P11: Species fully counted - Mountain Bluebird, American Crow, Eastern Kingbird, Western Kingbird, Black-billed Magpie, Western Meadowlark, American Robin, Short-eared Owl and Loggerhead Shrike.
P12: All other species were counted only to 25 in each sector. In all years, some sector leaders fully counted in their sector regardless of the options.
A15: Current Taxonomic Order | B15: Species | C15: #Yrs Observed 1968-2025 | D15: #Yrs Observed 1957-1967 | E15: 2025 | F15: 2024 | G15: 2023 | H15: 2022 | I15: 2021 | J15: 2020 | K15: 2019 | L15: 2018 | M15: 2017 | N15: 2016 | O15: 2015 | P15: 2014 | Q15: 2013 | R15: 2012 | S15: 2011 | T15: 2010 | U15: 2009 | V15: 2008 | W15: 2007 | X15: 2006 | Y15: 2005 | Z15: 2004 | AA15: 2003 | AB15: 2002 | AC15: 2001 | AD15: 2000 | AE15: 1999 | AF15: 1998 | AG15: 1997 | AH15: 1996 | AI15: 1995 | AJ15: 1994 | AK15: 1993 | AL15: 1992 | AM15: 1991 | AN15: 1990 | AO15: 1989 | AP15: 1988 | AQ15: 1987 | AR15: 1986 | AS15: 1985 | AT15: 1984 | AU15: 1983 | AV15: 1982 | AW15: 1981 | AX15: 1980 | AY15: 1979 | AZ15: 1978 | BA15: 1977 | BB15: 1976 | BC15: 1975 | BD15: 1974 | BE15: 1973 | BF15: 1972 | BG15: 1971 | BH15: 1970 | BI15: 1969 | BJ15: 1968 | BK15: 1967 | BL15: 1966 | BM15: 1965 | BN15: 1964 | BO15: 1963 | BP15: 1962 | BQ15: 1961 | BR15: 1960 | BS15: 1959 | BT15: 1958 | BU15: 1957
A17: 1 | B17: • Goose sp. • | C17: 1 | D17: 0 | E17: 0 | F17: 0 | G17: 0 | H17: 0 | I17: 0 | J17: 0 | K17: 0 | L17: 0 | M17: 0 | N17: 0 | O17: 0 | P17: 0 | Q17: 0 | R17: 0 | S17: 0 | T17: 0 | U17: 0 | V17: 0 | W17: 0 | X17: 0 | Y17: 0 | Z17: 0 | AA17: 0 | AB17: 0 | AC17: 0 | AD17: 0 | AE17: 0 | AF17: 0 | AG17: 0 | AH17: 0 | AI17: 0 | AJ17: 0 | AK17: 0 | AL17: 0 | AM17: 0 | AN17: 0 | AO17: 0 | AP17: 101 | AQ17: 0 | AR17: 0 | AS17: 0 | AT17: 0 | AU17: 0 | AV17: 0 | AW17: 0 | AX17: 0 | AY17: 0 | AZ17: 0 | BA17: 0 | BB17: 0 | BC17: 0 | BD17: 0 | BE17: 0 | BF17: 0 | BG17: 0 | BH17: 0 | BI17: 0
A18: 2 | B18: Snow Goose | C18: =COUNTIF(E18:BJ18,">0") -> 42 | D18: =COUNTA(BK18:BU18) -> 0 | E18: 27 | F18: 21 | G18: 5 | H18: 17 | I18: 12 | J18: 30 | K18: 22 | L18: 68 | M18: 32 | N18: 65 | O18: 20 | P18: 6 | Q18: 8 | R18: 27 | S18: 9 | T18: 1 | U18: 8 | V18: 21 | W18: 3 | X18: 7 | Y18: 11 | Z18: 1 | AA18: 1 | AB18: 22 | AC18: 2 | AD18: 15 | AE18: 0 | AF18: 1 | AG18: 0 | AH18: 0 | AI18: 23 | AJ18: 2 | AK18: 1 | AL18: 4 | AM18: 12 | AN18: 0 | AO18: 0 | AP18: 0 | AQ18: 2 | AR18: 202 | AS18: 7 | AT18: 1 | AU18: 0 | AV18: 0 | AW18: 0 | AX18: 0 | AY18: 1 | AZ18: 2 | BA18: 3 | BB18: 0 | BC18: 0 | BD18: 46 | BE18: 284 | BF18: 0 | BG18: 68 | BH18: 0 | BI18: 0 | BJ18: 0
A19: 3 | B19: Ross's Goose | C19: =COUNTIF(E19:BJ19,">0") -> 16 | D19: =COUNTA(BK19:BU19) -> 0 | E19: 0 | F19: 0 | G19: 0 | I19: 0 | J19: 1 | K19: 0 | L19: 112 | M19: 3 | N19: 2 | O19: 0 | P19: 3 | Q19: 0 | R19: 2 | S19: 0 | T19: 0 | U19: 30 | V19: 0 | W19: 0 | X19: 0 | Y19: 0 | Z19: 0 | AA19: 0 | AB19: 10 | AC19: 0 | AD19: 2 | AE19: 0 | AF19: 0 | AG19: 15 | AH19: 0 | AI19: 12 | AJ19: 1 | AK19: 0 | AL19: 24 | AM19: 0 | AN19: 0 | AO19: 0 | AP19: 0 | AQ19: 0 | AR19: 0 | AS19: 0 | AT19: 1 | AU19: 0 | AV19: 0 | AW19: 35 | AX19: 0 | AY19: 0 | AZ19: 0 | BA19: 0 | BB19: 0 | BC19: 0 | BD19: 0 | BE19: 1 | BF19: 0 | BG19: 0 | BH19: 0 | BI19: 0 | BJ19: 0
A20: 4 | B20: Greater White-fronted Goose | C20: =COUNTIF(E20:BJ20,">0") -> 41 | D20: =COUNTA(BK20:BU20) -> 2 | E20: 4 | F20: 0 | G20: 1 | H20: 2 | I20: 2 | J20: 1 | K20: 2 | L20: 0 | M20: 5 | N20: 0 | O20: 1 | P20: 0 | Q20: 3 | R20: 0 | S20: 1 | T20: 1 | U20: 36 | V20: 0 | W20: 1 | X20: 1 | Y20: 0 | Z20: 1 | AA20: 0 | AB20: 47 | AC20: 17 | AD20: 1 | AE20: 0 | AF20: 1 | AG20: 20 | AH20: 1 | AI20: 1 | AJ20: 1 | AK20: 1 | AL20: 7 | AM20: 11 | AN20: 3 | AO20: 2 | AP20: 57 | AQ20: 0 | AR20: 30 | AS20: 11 | AT20: 2 | AU20: 2 | AV20: 0 | AW20: 7 | AX20: 1 | AY20: 6 | AZ20: 1 | BA20: 4 | BB20: 0 | BC20: 0 | BD20: 0 | BE20: 17 | BF20: 0 | BG20: 45 | BH20: 3 | BI20: 0 | BJ20: 0 | BL20: 1x | BM20: +
A21: 5 | B21: Cackling Goose | C21: =COUNTIF(E21:BJ21,">0") -> 3 | D21: =COUNTA(BK21:BU21) -> 0 | E21: 0 | F21: 0 | G21: 0 | H21: 0 | I21: 4 | J21: 1 | K21: 2 | L21: 0 | M21: 0 | N21: 0 | O21: 0 | P21: 0 | Q21: 0 | R21: 0 | S21: 0 | T21: 0 | U21: 0 | V21: 0 | W21: 0 | X21: 0 | Y21: 0 | Z21: 0 | AA21: 0 | AB21: 0 | AC21: 0 | AD21: 0 | AE21: 0 | AF21: 0 | AG21: 0 | AH21: 0 | AI21: 0 | AJ21: 0 | AK21: 0 | AL21: 0 | AM21: 0 | AN21: 0 | AO21: 0 | AP21: 0 | AQ21: 0 | AR21: 0 | AS21: 0 | AT21: 0 | AU21: 0 | AV21: 0 | AW21: 0 | AX21: 0 | AY21: 0 | AZ21: 0 | BA21: 0 | BB21: 0 | BC21: 0 | BD21: 0 | BE21: 0 | BF21: 0 | BG21: 0 | BH21: 0 | BI21: 0 | BJ21: 0
A22: 6 | B22: Canada Goose | C22: =COUNTIF(E22:BJ22,">0") -> 58 | D22: =COUNTA(BK22:BU22) -> 5 | E22: 1095 | F22: 1222 | G22: 973 | H22: 1803 | I22: 2050 | J22: 2717 | K22: 1485 | L22: 984 | M22: 1327 | N22: 1359 | O22: 880 | P22: 939 | Q22: 653 | R22: 942 | S22: 672 | T22: 793 | U22: 974 | V22: 702 | W22: 665 | X22: 720 | Y22: 769 | Z22: 683 | AA22: 1089 | AB22: 1130 | AC22: 865 | AD22: 1210 | AE22: 599 | AF22: 458 | AG22: 397 | AH22: 401 | AI22: 381 | AJ22: 433 | AK22: 1645 | AL22: 536 | AM22: 665 | AN22: 621 | AO22: 649 | AP22: 1093 | AQ22: 540 | AR22: 333 | AS22: 210 | AT22: 317 | AU22: 90 | AV22: 29 | AW22: 82 | AX22: 50 | AY22: 49 | AZ22: 37 | BA22: 116 | BB22: 25 | BC22: 28 | BD22: 20 | BE22: 11 | BF22: 3 | BG22: 8 | BH22: 8 | BI22: 5 | BJ22: 3 | BK22: 1x | BL22: 1x | BM22: + | BN22: + | BO22: +
A23: 7 | B23: Trumpeter Swan | C23: =COUNTIF(E23:BJ23,">0") -> 2 | D23: =COUNTA(BK23:BU23) -> 0 | E23: 0 | F23: 0 | G23: 0 | H23: 1 | I23: 0 | J23: 0 | K23: 0 | L23: 0 | M23: 0 | N23: 0 | O23: 0 | P23: 0 | Q23: 0 | R23: 0 | S23: 0 | T23: 0 | U23: 0 | V23: 0 | W23: 0 | X23: 0 | Y23: 1 | Z23: 0 | AA23: 0 | AB23: 0 | AC23: 0 | AD23: 0 | AE23: 0 | AF23: 0 | AG23: 0 | AH23: 0 | AI23: 0 | AJ23: 0 | AK23: 0 | AL23: 0 | AM23: 0 | AN23: 0 | AO23: 0 | AP23: 0 | AQ23: 0 | AR23: 0 | AS23: 0 | AT23: 0 | AU23: 0 | AV23: 0 | AW23: 0 | AX23: 0 | AY23: 0 | AZ23: 0 | BA23: 0 | BB23: 0 | BC23: 0 | BD23: 0 | BE23: 0 | BF23: 0 | BG23: 0 | BH23: 0 | BI23: 0 | BJ23: 0
A24: 8 | B24: Tundra Swan | C24: =COUNTIF(E24:BJ24,">0") -> 32 | D24: =COUNTA(BK24:BU24) -> 3 | E24: 0 | F24: 0 | G24: 0 | H24: 0 | I24: 0 | J24: 0 | K24: 0 | L24: 0 | M24: 1 | N24: 0 | O24: 0 | P24: 0 | Q24: 3 | R24: 5 | S24: 0 | T24: 0 | U24: 0 | V24: 5 | W24: 1 | X24: 6 | Y24: 2 | Z24: 0 | AA24: 5 | AB24: 6 | AC24: 6 | AD24: 0 | AE24: 0 | AF24: 1 | AG24: 0 | AH24: 0 | AI24: 1 | AJ24: 0 | AK24: 0 | AL24: 21 | AM24: 0 | AN24: 0 | AO24: 5 | AP24: 11 | AQ24: 192 | AR24: 54 | AS24: 0 | AT24: 13 | AU24: 1 | AV24: 1 | AW24: 1 | AX24: 0 | AY24: 22 | AZ24: 42 | BA24: 2 | BB24: 0 | BC24: 9 | BD24: 1 | BE24: 159 | BF24: 3 | BG24: 21 | BH24: 2 | BI24: 1 | BJ24: 3 | BK24: 2x | BL24: 3x | BM24: +
A25: 9 | B25: • Duck sp. • | C25: =COUNTIF(E25:BJ25,">0") -> 17 | D25: =COUNTA(BK25:BU25) -> 0 | E25: 1281 | F25: 5 | G25: 600 | H25: 2 | I25: 455 | J25: 366 | K25: 3 | L25: 75 | M25: 4 | N25: 32 | O25: 1255 | P25: 215 | Q25: 24 | R25: 0 | S25: 8 | T25: 6 | U25: 0 | V25: 0 | W25: 0 | X25: 0 | Y25: 33 | Z25: 0 | AA25: 0 | AB25: 0 | AC25: 0 | AD25: 0 | AE25: 0 | AF25: 0 | AG25: 0 | AH25: 0 | AI25: 0 | AJ25: 0 | AK25: 0 | AL25: 0 | AM25: 0 | AN25: 0 | AO25: 0 | AP25: 3020 | AQ25: 0 | AR25: 0 | AS25: 0 | AT25: 0 | AU25: 0 | AV25: 0 | AW25: 0 | AX25: 0 | AY25: 0 | AZ25: 0 | BA25: 0 | BB25: 0 | BC25: 0 | BD25: 0 | BE25: 0 | BF25: 0 | BG25: 0 | BH25: 0 | BI25: 0
A26: 10 | B26: Wood Duck | C26: =COUNTIF(E26:BJ26,">0") -> 14 | D26: =COUNTA(BK26:BU26) -> 1 | E26: 1 | F26: 2 | G26: 1 | H26: 0 | I26: 8 | J26: 6 | K26: 7 | L26: 0 | M26: 0 | N26: 2 | O26: 0 | P26: 0 | Q26: 0 | R26: 0 | S26: 0 | T26: 1 | U26: 2 | V26: 0 | W26: 0 | X26: 1 | Y26: 0 | Z26: 0 | AA26: 0 | AB26: 1 | AC26: 2 | AD26: 0 | AE26: 0 | AF26: 0 | AG26: 0 | AH26: 0 | AI26: 0 | AJ26: 5 | AK26: 0 | AL26: 5 | AM26: 0 | AN26: 0 | AO26: 0 | AP26: 0 | AQ26: 0 | AR26: 0 | AS26: 0 | AT26: 0 | AU26: 0 | AV26: 0 | AW26: 0 | AX26: 0 | AY26: 0 | AZ26: 0 | BA26: 0 | BB26: 0 | BC26: 0 | BD26: 0 | BE26: 0 | BF26: 0 | BG26: 0 | BH26: 0 | BI26: 0 | BJ26: 0 | BS26: 1
A27: 11 | B27: Blue-winged Teal | C27: =COUNTIF(E27:BJ27,">0") -> 58 | D27: =COUNTA(BK27:BU27) -> 11 | E27: 580 | F27: 569 | G27: 449 | H27: 373 | I27: 473 | J27: 542 | K27: 459 | L27: 694 | M27: 866 | N27: 494 | O27: 509 | P27: 439 | Q27: 543 | R27: 589 | S27: 432 | T27: 302 | U27: 406 | V27: 633 | W27: 356 | X27: 554 | Y27: 293 | Z27: 274 | AA27: 192 | AB27: 478 | AC27: 226 | AD27: 417 | AE27: 240 | AF27: 291 | AG27: 186 | AH27: 240 | AI27: 236 | AJ27: 306 | AK27: 270 | AL27: 825 | AM27: 585 | AN27: 437 | AO27: 301 | AP27: 548 | AQ27: 218 | AR27: 225 | AS27: 254 | AT27: 262 | AU27: 206 | AV27: 139 | AW27: 180 | AX27: 258 | AY27: 194 | AZ27: 139 | BA27: 288 | BB27: 234 | BC27: 284 | BD27: 220 | BE27: 188 | BF27: 199 | BG27: 264 | BH27: 220 | BI27: 170 | BJ27: 220 | BK27: 4x | BL27: 4x | BM27: + | BN27: + | BO27: + | BP27: + | BQ27: 78 | BR27: 10 | BS27: 72 | BT27: 85 | BU27: 97
A28: 12 | B28: Cinnamon Teal | C28: =COUNTIF(E28:BJ28,">0") -> 32 | D28: =COUNTA(BK28:BU28) -> 0 | E28: 1 | F28: 0 | G28: 0 | H28: 1 | I28: 0 | J28: 1 | K28: 0 | L28: 1 | M28: 0 | N28: 1 | O28: 1 | P28: 3 | Q28: 5 | R28: 0 | S28: 0 | T28: 2 | U28: 0 | V28: 0 | W28: 1 | X28: 2 | Y28: 2 | Z28: 0 | AA28: 0 | AB28: 2 | AC28: 0 | AD28: 1 | AE28: 2 | AF28: 2 | AG28: 0 | AH28: 3 | AI28: 2 | AJ28: 1 | AK28: 1 | AL28: 10 | AM28: 0 | AN28: 4 | AO28: 0 | AP28: 0 | AQ28: 2 | AR28: 2 | AS28: 7 | AT28: 2 | AU28: 0 | AV28: 0 | AW28: 0 | AX28: 3 | AY28: 1 | AZ28: 0 | BA28: 2 | BB28: 1 | BC28: 4 | BD28: 0 | BE28: 0 | BF28: 1 | BG28: 0 | BH28: 0 | BI28: 0 | BJ28: 0
A29: 13 | B29: Cinnamon/ Blue-winged Teal hybrid | C29: =COUNTIF(E29:BJ29,">0") -> 1 | D29: =COUNTA(BK29:BU29) -> 0 | E29: 0 | F29: 0 | G29: 0 | H29: 0 | I29: 0 | J29: 0 | K29: 0 | L29: 0 | M29: 0 | N29: 0 | O29: 0 | P29: 0 | Q29: 0 | R29: 0 | S29: 0 | T29: 0 | U29: 0 | V29: 0 | W29: 0 | X29: 0 | Y29: 0 | Z29: 0 | AA29: 0 | AB29: 0 | AC29: 0 | AD29: 0 | AE29: 1 | AF29: 0 | AG29: 0 | AH29: 0 | AI29: 0 | AJ29: 0 | AK29: 0 | AL29: 0 | AM29: 0 | AN29: 0 | AO29: 0 | AP29: 0 | AQ29: 0 | AR29: 0 | AS29: 0 | AT29: 0 | AU29: 0 | AV29: 0 | AW29: 0 | AX29: 0 | AY29: 0 | AZ29: 0 | BA29: 0 | BB29: 0 | BC29: 0 | BD29: 0 | BE29: 0 | BF29: 0 | BG29: 0 | BH29: 0 | BI29: 0 | BJ29: 0
A30: 14 | B30: Northern Shoveler | C30: =COUNTIF(E30:BJ30,">0") -> 58 | D30: =COUNTA(BK30:BU30) -> 11 | E30: 1476 | F30: 987 | G30: 738 | H30: 518 | I30: 610 | J30: 1173 | K30: 649 | L30: 649 | M30: 1086 | N30: 584 | O30: 456 | P30: 484 | Q30: 548 | R30: 632 | S30: 396 | T30: 319 | U30: 331 | V30: 815 | W30: 367 | X30: 1357 | Y30: 339 | Z30: 806 | AA30: 198 | AB30: 243 | AC30: 373 | AD30: 451 | AE30: 241 | AF30: 272 | AG30: 202 | AH30: 217 | AI30: 223 | AJ30: 222 | AK30: 393 | AL30: 658 | AM30: 757 | AN30: 512 | AO30: 267 | AP30: 971 | AQ30: 352 | AR30: 254 | AS30: 404 | AT30: 237 | AU30: 196 | AV30: 113 | AW30: 289 | AX30: 270 | AY30: 195 | AZ30: 208 | BA30: 300 | BB30: 558 | BC30: 239 | BD30: 211 | BE30: 201 | BF30: 307 | BG30: 358 | BH30: 213 | BI30: 203 | BJ30: 306 | BK30: 4x | BL30: 4x | BM30: + | BN30: + | BO30: + | BP30: + | BQ30: 38 | BR30: 25 | BS30: 32 | BT30: 33 | BU30: 59
A31: 15 | B31: Gadwall | C31: =COUNTIF(E31:BJ31,">0") -> 58 | D31: =COUNTA(BK31:BU31) -> 11 | E31: 556 | F31: 886 | G31: 317 | H31: 372 | I31: 462 | J31: 578 | K31: 573 | L31: 504 | M31: 397 | N31: 364 | O31: 414 | P31: 245 | Q31: 251 | R31: 399 | S31: 275 | T31: 297 | U31: 327 | V31: 717 | W31: 245 | X31: 265 | Y31: 169 | Z31: 247 | AA31: 153 | AB31: 425 | AC31: 239 | AD31: 335 | AE31: 165 | AF31: 223 | AG31: 157 | AH31: 168 | AI31: 187 | AJ31: 221 | AK31: 495 | AL31: 936 | AM31: 647 | AN31: 401 | AO31: 314 | AP31: 406 | AQ31: 268 | AR31: 181 | AS31: 203 | AT31: 303 | AU31: 160 | AV31: 103 | AW31: 149 | AX31: 210 | AY31: 140 | AZ31: 106 | BA31: 184 | BB31: 134 | BC31: 152 | BD31: 221 | BE31: 161 | BF31: 148 | BG31: 90 | BH31: 85 | BI31: 82 | BJ31: 143 | BK31: 4x | BL31: 4x | BM31: + | BN31: + | BO31: + | BP31: + | BQ31: 11 | BR31: 5 | BS31: 15 | BT31: 8 | BU31: 2
A32: 16 | B32: Eurasian Wigeon | C32: =COUNTIF(E32:BJ32,">0") -> 1 | D32: =COUNTA(BK32:BU32) -> 0 | E32: 0 | F32: 0 | G32: 0 | H32: 0 | I32: 0 | J32: 0 | K32: 0 | L32: 0 | M32: 0 | N32: 0 | O32: 0 | P32: 0 | Q32: 0 | R32: 0 | S32: 0 | T32: 0 | U32: 0 | V32: 0 | W32: 0 | X32: 0 | Y32: 0 | Z32: 0 | AA32: 0 | AB32: 0 | AC32: 0 | AD32: 0 | AE32: 1 | AF32: 0 | AG32: 0 | AH32: 0 | AI32: 0 | AJ32: 0 | AK32: 0 | AL32: 0 | AM32: 0 | AN32: 0 | AO32: 0 | AP32: 0 | AQ32: 0 | AR32: 0 | AS32: 0 | AT32: 0 | AU32: 0 | AV32: 0 | AW32: 0 | AX32: 0 | AY32: 0 | AZ32: 0 | BA32: 0 | BB32: 0 | BC32: 0 | BD32: 0 | BE32: 0 | BF32: 0 | BG32: 0 | BH32: 0 | BI32: 0 | BJ32: 0
A33: 17 | B33: American Wigeon | C33: =COUNTIF(E33:BJ33,">0") -> 58 | D33: =COUNTA(BK33:BU33) -> 11 | E33: 155 | F33: 139 | G33: 97 | H33: 133 | I33: 192 | J33: 167 | K33: 200 | L33: 214 | M33: 190 | N33: 207 | O33: 231 | P33: 124 | Q33: 159 | R33: 201 | S33: 161 | T33: 175 | U33: 195 | V33: 277 | W33: 145 | X33: 213 | Y33: 106 | Z33: 134 | AA33: 132 | AB33: 545 | AC33: 112 | AD33: 179 | AE33: 182 | AF33: 158 | AG33: 135 | AH33: 120 | AI33: 161 | AJ33: 156 | AK33: 222 | AL33: 367 | AM33: 256 | AN33: 256 | AO33: 178 | AP33: 344 | AQ33: 231 | AR33: 154 | AS33: 153 | AT33: 199 | AU33: 159 | AV33: 84 | AW33: 110 | AX33: 207 | AY33: 171 | AZ33: 147 | BA33: 209 | BB33: 171 | BC33: 221 | BD33: 167 | BE33: 198 | BF33: 189 | BG33: 241 | BH33: 196 | BI33: 142 | BJ33: 241 | BK33: 4x | BL33: 4x | BM33: + | BN33: + | BO33: + | BP33: + | BQ33: 32 | BR33: 19 | BS33: 15 | BT33: 50 | BU33: 55
A34: 18 | B34: Mallard | C34: =COUNTIF(E34:BJ34,">0") -> 58 | D34: =COUNTA(BK34:BU34) -> 11 | E34: 798 | F34: 708 | G34: 791 | H34: 771 | I34: 941 | J34: 1213 | K34: 1296 | L34: 927 | M34: 1029 | N34: 857 | O34: 725 | P34: 589 | Q34: 667 | R34: 723 | S34: 577 | T34: 594 | U34: 455 | V34: 610 | W34: 365 | X34: 386 | Y34: 389 | Z34: 861 | AA34: 419 | AB34: 811 | AC34: 606 | AD34: 1767 | AE34: 401 | AF34: 381 | AG34: 244 | AH34: 295 | AI34: 326 | AJ34: 519 | AK34: 749 | AL34: 920 | AM34: 762 | AN34: 537 | AO34: 397 | AP34: 1235 | AQ34: 294 | AR34: 319 | AS34: 291 | AT34: 304 | AU34: 226 | AV34: 257 | AW34: 355 | AX34: 200 | AY34: 200 | AZ34: 200 | BA34: 330 | BB34: 220 | BC34: 752 | BD34: 216 | BE34: 250 | BF34: 525 | BG34: 450 | BH34: 225 | BI34: 222 | BJ34: 671 | BK34: 4x | BL34: 4x | BM34: + | BN34: + | BO34: + | BP34: + | BQ34: 165 | BR34: 92 | BS34: 114 | BT34: 130 | BU34: 120
A35: 19 | B35: American Black Duck | C35: =COUNTIF(E35:BJ35,">0") -> 2 | D35: =COUNTA(BK35:BU35) -> 0 | E35: 0 | F35: 0 | G35: 0 | H35: 0 | I35: 0 | J35: 0 | K35: 0 | L35: 0 | M35: 0 | N35: 0 | O35: 0 | P35: 0 | Q35: 0 | R35: 0 | S35: 0 | T35: 0 | U35: 0 | V35: 0 | W35: 0 | X35: 0 | Y35: 0 | Z35: 0 | AA35: 0 | AB35: 0 | AC35: 0 | AD35: 0 | AE35: 0 | AF35: 0 | AG35: 0 | AH35: 1 | AI35: 0 | AJ35: 0 | AK35: 0 | AL35: 0 | AM35: 0 | AN35: 0 | AO35: 0 | AP35: 0 | AQ35: 0 | AR35: 0 | AS35: 0 | AT35: 0 | AU35: 0 | AV35: 0 | AW35: 0 | AX35: 1 | AY35: 0 | AZ35: 0 | BA35: 0 | BB35: 0 | BC35: 0 | BD35: 0 | BE35: 0 | BF35: 0 | BG35: 0 | BH35: 0 | BI35: 0 | BJ35: 0
A36: 20 | B36: Northern Pintail | C36: =COUNTIF(E36:BJ36,">0") -> 58 | D36: =COUNTA(BK36:BU36) -> 11 | E36: 187 | F36: 200 | G36: 163 | H36: 40 | I36: 44 | J36: 71 | K36: 114 | L36: 124 | M36: 140 | N36: 79 | O36: 120 | P36: 153 | Q36: 141 | R36: 170 | S36: 163 | T36: 96 | U36: 147 | V36: 231 | W36: 186 | X36: 325 | Y36: 254 | Z36: 86 | AA36: 100 | AB36: 95 | AC36: 92 | AD36: 172 | AE36: 121 | AF36: 85 | AG36: 119 | AH36: 146 | AI36: 168 | AJ36: 193 | AK36: 239 | AL36: 438 | AM36: 195 | AN36: 308 | AO36: 202 | AP36: 165 | AQ36: 162 | AR36: 180 | AS36: 219 | AT36: 187 | AU36: 173 | AV36: 88 | AW36: 167 | AX36: 374 | AY36: 189 | AZ36: 262 | BA36: 236 | BB36: 193 | BC36: 355 | BD36: 225 | BE36: 334 | BF36: 744 | BG36: 634 | BH36: 224 | BI36: 220 | BJ36: 294 | BK36: 4x | BL36: 4x | BM36: + | BN36: + | BO36: + | BP36: + | BQ36: 23 | BR36: 23 | BS36: 48 | BT36: 73 | BU36: 61
A37: 21 | B37: Green-winged Teal | C37: =COUNTIF(E37:BJ37,">0") -> 58 | D37: =COUNTA(BK37:BU37) -> 11 | E37: 126 | F37: 87 | G37: 142 | H37: 74 | I37: 104 | J37: 140 | K37: 106 | L37: 116 | M37: 162 | N37: 114 | O37: 88 | P37: 102 | Q37: 90 | R37: 131 | S37: 74 | T37: 94 | U37: 118 | V37: 143 | W37: 77 | X37: 88 | Y37: 54 | Z37: 30 | AA37: 41 | AB37: 33 | AC37: 24 | AD37: 39 | AE37: 39 | AF37: 53 | AG37: 32 | AH37: 64 | AI37: 103 | AJ37: 77 | AK37: 59 | AL37: 93 | AM37: 83 | AN37: 65 | AO37: 92 | AP37: 240 | AQ37: 68 | AR37: 39 | AS37: 32 | AT37: 50 | AU37: 57 | AV37: 18 | AW37: 29 | AX37: 64 | AY37: 19 | AZ37: 60 | BA37: 67 | BB37: 42 | BC37: 54 | BD37: 25 | BE37: 96 | BF37: 59 | BG37: 42 | BH37: 82 | BI37: 53 | BJ37: 51 | BK37: 4x | BL37: 4x | BM37: + | BN37: + | BO37: + | BP37: + | BQ37: 17 | BR37: 4 | BS37: 2 | BT37: 6 | BU37: 3
A38: 22 | B38: Canvasback | C38: =COUNTIF(E38:BJ38,">0") -> 58 | D38: =COUNTA(BK38:BU38) -> 11 | E38: 596 | F38: 273 | G38: 406 | H38: 196 | I38: 227 | J38: 655 | K38: 304 | L38: 301 | M38: 443 | N38: 532 | O38: 360 | P38: 365 | Q38: 412 | R38: 433 | S38: 437 | T38: 260 | U38: 331 | V38: 386 | W38: 487 | X38: 462 | Y38: 280 | Z38: 134 | AA38: 134 | AB38: 193 | AC38: 304 | AD38: 403 | AE38: 252 | AF38: 1095 | AG38: 249 | AH38: 322 | AI38: 541 | AJ38: 366 | AK38: 493 | AL38: 452 | AM38: 584 | AN38: 735 | AO38: 369 | AP38: 662 | AQ38: 300 | AR38: 280 | AS38: 301 | AT38: 232 | AU38: 174 | AV38: 109 | AW38: 474 | AX38: 258 | AY38: 271 | AZ38: 153 | BA38: 449 | BB38: 437 | BC38: 561 | BD38: 216 | BE38: 196 | BF38: 218 | BG38: 330 | BH38: 183 | BI38: 106 | BJ38: 267 | BK38: 4x | BL38: 4x | BM38: + | BN38: + | BO38: + | BP38: + | BQ38: 30 | BR38: 17 | BS38: 16 | BT38: 23 | BU38: 6
A39: 23 | B39: Redhead | C39: =COUNTIF(E39:BJ39,">0") -> 58 | D39: =COUNTA(BK39:BU39) -> 10 | E39: 403 | F39: 223 | G39: 130 | H39: 118 | I39: 153 | J39: 244 | K39: 101 | L39: 289 | M39: 434 | N39: 468 | O39: 307 | P39: 307 | Q39: 230 | R39: 384 | S39: 393 | T39: 145 | U39: 195 | V39: 379 | W39: 472 | X39: 367 | Y39: 208 | Z39: 284 | AA39: 154 | AB39: 298 | AC39: 170 | AD39: 333 | AE39: 210 | AF39: 304 | AG39: 182 | AH39: 303 | AI39: 392 | AJ39: 285 | AK39: 418 | AL39: 410 | AM39: 332 | AN39: 320 | AO39: 268 | AP39: 432 | AQ39: 277 | AR39: 219 | AS39: 221 | AT39: 192 | AU39: 159 | AV39: 84 | AW39: 150 | AX39: 156 | AY39: 108 | AZ39: 106 | BA39: 246 | BB39: 171 | BC39: 183 | BD39: 153 | BE39: 190 | BF39: 123 | BG39: 140 | BH39: 115 | BI39: 84 | BJ39: 109 | BK39: 4x | BL39: 4x | BM39: + | BN39: + | BO39: + | BP39: + | BQ39: 16 | BR39: 2 | BS39: 1 | BU39: 4
A40: 24 | B40: Ring-necked Duck | C40: =COUNTIF(E40:BJ40,">0") -> 58 | D40: =COUNTA(BK40:BU40) -> 6 | E40: 19 | F40: 20 | G40: 13 | H40: 7 | I40: 22 | J40: 32 | K40: 18 | L40: 24 | M40: 1 | N40: 45 | O40: 31 | P40: 34 | Q40: 21 | R40: 38 | S40: 70 | T40: 38 | U40: 26 | V40: 41 | W40: 66 | X40: 75 | Y40: 35 | Z40: 19 | AA40: 6 | AB40: 4 | AC40: 16 | AD40: 28 | AE40: 20 | AF40: 23 | AG40: 10 | AH40: 29 | AI40: 50 | AJ40: 23 | AK40: 41 | AL40: 43 | AM40: 51 | AN40: 31 | AO40: 36 | AP40: 31 | AQ40: 30 | AR40: 23 | AS40: 18 | AT40: 26 | AU40: 25 | AV40: 4 | AW40: 24 | AX40: 20 | AY40: 5 | AZ40: 11 | BA40: 9 | BB40: 19 | BC40: 13 | BD40: 49 | BE40: 20 | BF40: 32 | BG40: 13 | BH40: 20 | BI40: 22 | BJ40: 4 | BK40: 3x | BL40: 4x | BM40: + | BN40: + | BO40: + | BP40: +
A41: 25 | B41: Greater Scaup | C41: =COUNTIF(E41:BJ41,">0") -> 9 | D41: =COUNTA(BK41:BU41) -> 0 | E41: 0 | F41: 0 | G41: 2 | H41: 0 | I41: 0 | J41: 2 | K41: 3 | L41: 0 | M41: 0 | N41: 0 | O41: 0 | P41: 3 | Q41: 2 | R41: 0 | S41: 2 | T41: 0 | U41: 0 | V41: 0 | W41: 0 | X41: 0 | Y41: 0 | Z41: 0 | AA41: 0 | AB41: 0 | AC41: 0 | AD41: 2 | AE41: 0 | AF41: 0 | AG41: 0 | AH41: 0 | AI41: 0 | AJ41: 0 | AK41: 0 | AL41: 0 | AM41: 0 | AN41: 1 | AO41: 0 | AP41: 0 | AQ41: 0 | AR41: 1 | AS41: 0 | AT41: 0 | AU41: 0 | AV41: 0 | AW41: 0 | AX41: 0 | AY41: 0 | AZ41: 0 | BA41: 0 | BB41: 0 | BC41: 0 | BD41: 0 | BE41: 0 | BF41: 0 | BG41: 0 | BH41: 0 | BI41: 0 | BJ41: 0
A42: 26 | B42: Lesser Scaup | C42: =COUNTIF(E42:BJ42,">0") -> 58 | D42: =COUNTA(BK42:BU42) -> 11 | E42: 349 | F42: 354 | G42: 458 | H42: 515 | I42: 479 | J42: 641 | K42: 449 | L42: 527 | M42: 616 | N42: 544 | O42: 552 | P42: 515 | Q42: 514 | R42: 432 | S42: 516 | T42: 439 | U42: 514 | V42: 294 | W42: 358 | X42: 573 | Y42: 269 | Z42: 216 | AA42: 184 | AB42: 163 | AC42: 323 | AD42: 341 | AE42: 389 | AF42: 465 | AG42: 343 | AH42: 511 | AI42: 632 | AJ42: 550 | AK42: 849 | AL42: 756 | AM42: 811 | AN42: 469 | AO42: 286 | AP42: 307 | AQ42: 249 | AR42: 351 | AS42: 336 | AT42: 216 | AU42: 218 | AV42: 191 | AW42: 184 | AX42: 201 | AY42: 159 | AZ42: 192 | BA42: 311 | BB42: 431 | BC42: 423 | BD42: 195 | BE42: 377 | BF42: 225 | BG42: 499 | BH42: 238 | BI42: 165 | BJ42: 91 | BK42: 4x | BL42: 4x | BM42: + | BN42: + | BO42: + | BP42: + | BQ42: 52 | BR42: 50 | BS42: 22 | BT42: 32 | BU42: 79
A43: 27 | B43: Surf Scoter | C43: =COUNTIF(E43:BJ43,">0") -> 0 | D43: =COUNTA(BK43:BU43) -> 1 | E43: 0 | F43: 0 | G43: 0 | H43: 0 | I43: 0 | J43: 0 | K43: 0 | L43: 0 | M43: 0 | N43: 0 | O43: 0 | P43: 0 | Q43: 0 | R43: 0 | S43: 0 | T43: 0 | U43: 0 | V43: 0 | W43: 0 | X43: 0 | Y43: 0 | Z43: 0 | AA43: 0 | AB43: 0 | AC43: 0 | AD43: 0 | AE43: 0 | AF43: 0 | AG43: 0 | AH43: 0 | AI43: 0 | AJ43: 0 | AK43: 0 | AL43: 0 | AM43: 0 | AN43: 0 | AO43: 0 | AP43: 0 | AQ43: 0 | AR43: 0 | AS43: 0 | AT43: 0 | AU43: 0 | AV43: 0 | AW43: 0 | AX43: 0 | AY43: 0 | AZ43: 0 | BA43: 0 | BB43: 0 | BC43: 0 | BD43: 0 | BE43: 0 | BF43: 0 | BG43: 0 | BH43: 0 | BI43: 0 | BJ43: 0 | BO43: +
A44: 28 | B44: White-winged Scoter | C44: =COUNTIF(E44:BJ44,">0") -> 25 | D44: =COUNTA(BK44:BU44) -> 2 | E44: 0 | F44: 0 | G44: 0 | H44: 0 | I44: 1 | J44: 0 | K44: 0 | L44: 0 | M44: 3 | N44: 0 | O44: 0 | P44: 0 | Q44: 0 | R44: 1 | S44: 0 | T44: 0 | U44: 3 | V44: 0 | W44: 0 | X44: 0 | Y44: 0 | Z44: 0 | AA44: 1 | AB44: 0 | AC44: 0 | AD44: 6 | AE44: 0 | AF44: 0 | AG44: 2 | AH44: 0 | AI44: 11 | AJ44: 2 | AK44: 0 | AL44: 2 | AM44: 0 | AN44: 2 | AO44: 4 | AP44: 1 | AQ44: 0 | AR44: 1 | AS44: 2 | AT44: 1 | AU44: 2 | AV44: 1 | AW44: 0 | AX44: 0 | AY44: 0 | AZ44: 9 | BA44: 0 | BB44: 2 | BC44: 0 | BD44: 8 | BE44: 7 | BF44: 4 | BG44: 2 | BH44: 0 | BI44: 0 | BJ44: 3 | BN44: + | BO44: +
A45: 29 | B45: Long-tailed Duck | C45: =COUNTIF(E45:BJ45,">0") -> 1 | D45: =COUNTA(BK45:BU45) -> 0 | E45: 0 | F45: 0 | G45: 0 | H45: 0 | I45: 0 | J45: 0 | K45: 0 | L45: 0 | M45: 0 | N45: 0 | O45: 0 | P45: 0 | Q45: 0 | R45: 0 | S45: 0 | T45: 0 | U45: 0 | V45: 0 | W45: 0 | X45: 0 | Y45: 0 | Z45: 0 | AA45: 0 | AB45: 0 | AC45: 0 | AD45: 0 | AE45: 0 | AF45: 0 | AG45: 0 | AH45: 0 | AI45: 0 | AJ45: 0 | AK45: 0 | AL45: 0 | AM45: 0 | AN45: 0 | AO45: 0 | AP45: 0 | AQ45: 0 | AR45: 1 | AS45: 0 | AT45: 0 | AU45: 0 | AV45: 0 | AW45: 0 | AX45: 0 | AY45: 0 | AZ45: 0 | BA45: 0 | BB45: 0 | BC45: 0 | BD45: 0 | BE45: 0 | BF45: 0 | BG45: 0 | BH45: 0 | BI45: 0 | BJ45: 0
A46: 30 | B46: Bufflehead | C46: =COUNTIF(E46:BJ46,">0") -> 58 | D46: =COUNTA(BK46:BU46) -> 7 | E46: 119 | F46: 114 | G46: 164 | H46: 207 | I46: 177 | J46: 315 | K46: 224 | L46: 117 | M46: 105 | N46: 226 | O46: 116 | P46: 44 | Q46: 125 | R46: 114 | S46: 177 | T46: 162 | U46: 70 | V46: 72 | W46: 146 | X46: 305 | Y46: 151 | Z46: 70 | AA46: 55 | AB46: 100 | AC46: 99 | AD46: 141 | AE46: 91 | AF46: 146 | AG46: 74 | AH46: 181 | AI46: 203 | AJ46: 136 | AK46: 172 | AL46: 186 | AM46: 112 | AN46: 84 | AO46: 72 | AP46: 79 | AQ46: 62 | AR46: 51 | AS46: 61 | AT46: 60 | AU46: 62 | AV46: 15 | AW46: 36 | AX46: 63 | AY46: 54 | AZ46: 28 | BA46: 59 | BB46: 55 | BC46: 38 | BD46: 68 | BE46: 23 | BF46: 49 | BG46: 39 | BH46: 22 | BI46: 23 | BJ46: 8 | BK46: 3x | BL46: 3x | BM46: + | BN46: + | BO46: + | BP46: + | BQ46: 3
A47: 31 | B47: Common Goldeneye | C47: =COUNTIF(E47:BJ47,">0") -> 58 | D47: =COUNTA(BK47:BU47) -> 7 | E47: 14 | F47: 16 | G47: 28 | H47: 17 | I47: 31 | J47: 33 | K47: 38 | L47: 9 | M47: 11 | N47: 12 | O47: 51 | P47: 6 | Q47: 27 | R47: 16 | S47: 53 | T47: 5 | U47: 2 | V47: 7 | W47: 42 | X47: 30 | Y47: 54 | Z47: 9 | AA47: 34 | AB47: 12 | AC47: 3 | AD47: 15 | AE47: 13 | AF47: 20 | AG47: 3 | AH47: 62 | AI47: 16 | AJ47: 14 | AK47: 6 | AL47: 13 | AM47: 20 | AN47: 9 | AO47: 19 | AP47: 2 | AQ47: 5 | AR47: 15 | AS47: 4 | AT47: 13 | AU47: 1 | AV47: 12 | AW47: 9 | AX47: 10 | AY47: 20 | AZ47: 4 | BA47: 12 | BB47: 27 | BC47: 33 | BD47: 20 | BE47: 28 | BF47: 51 | BG47: 21 | BH47: 14 | BI47: 6 | BJ47: 11 | BK47: 2x | BL47: 3x | BM47: + | BN47: + | BO47: + | BQ47: 5 | BS47: 3
A48: 32 | B48: Barrow's Goldeneye | C48: =COUNTIF(E48:BJ48,">0") -> 1 | D48: =COUNTA(BK48:BU48) -> 0 | E48: 0 | F48: 0 | G48: 0 | H48: 0 | I48: 1
A49: 33 | B49: • Merganser sp. • | C49: =COUNTIF(E49:BJ49,">0") -> 3 | D49: =COUNTA(BK49:BU49) -> 0 | E49: 0 | F49: 0 | G49: 0 | H49: 0 | I49: 0 | J49: 0 | K49: 0 | L49: 0 | M49: 0 | N49: 0 | O49: 0 | P49: 0 | Q49: 0 | R49: 0 | S49: 0 | T49: 0 | U49: 0 | V49: 0 | W49: 0 | X49: 0 | Y49: 0 | Z49: 0 | AA49: 0 | AB49: 0 | AC49: 0 | AD49: 0 | AE49: 0 | AF49: 0 | AG49: 0 | AH49: 0 | AI49: 0 | AJ49: 0 | AK49: 0 | AL49: 0 | AM49: 0 | AN49: 0 | AO49: 0 | AP49: 0 | AQ49: 0 | AR49: 0 | AS49: 0 | AT49: 0 | AU49: 0 | AV49: 0 | AW49: 0 | AX49: 0 | AY49: 0 | AZ49: 0 | BA49: 0 | BB49: 1 | BC49: 1 | BD49: 0 | BE49: 1 | BF49: 0 | BG49: 0 | BH49: 0 | BI49: 0
A50: 34 | B50: Hooded Merganser | C50: =COUNTIF(E50:BJ50,">0") -> 33 | D50: =COUNTA(BK50:BU50) -> 0 | E50: 2 | F50: 1 | G50: 7 | H50: 5 | I50: 3 | J50: 6 | K50: 14 | L50: 1 | M50: 1 | N50: 4 | O50: 0 | P50: 1 | Q50: 0 | R50: 13 | S50: 11 | T50: 1 | U50: 2 | V50: 3 | W50: 3 | X50: 2 | Y50: 0 | Z50: 0 | AA50: 1 | AB50: 3 | AC50: 0 | AD50: 0 | AE50: 3 | AF50: 3 | AG50: 0 | AH50: 3 | AI50: 2 | AJ50: 1 | AK50: 1 | AL50: 1 | AM50: 1 | AN50: 0 | AO50: 3 | AP50: 0 | AQ50: 0 | AR50: 0 | AS50: 2 | AT50: 1 | AU50: 0 | AV50: 0 | AW50: 1 | AX50: 0 | AY50: 0 | AZ50: 0 | BA50: 1 | BB50: 0 | BC50: 0 | BD50: 0 | BE50: 0 | BF50: 0 | BG50: 0 | BH50: 0 | BI50: 0 | BJ50: 0
A51: 35 | B51: Common Merganser | C51: =COUNTIF(E51:BJ51,">0") -> 47 | D51: =COUNTA(BK51:BU51) -> 0 | E51: 17 | F51: 9 | G51: 5 | H51: 13 | I51: 47 | J51: 8 | K51: 29 | L51: 8 | M51: 15 | N51: 8 | O51: 4 | P51: 18 | Q51: 10 | R51: 15 | S51: 9 | T51: 5 | U51: 16 | V51: 8 | W51: 17 | X51: 14 | Y51: 26 | Z51: 32 | AA51: 17 | AB51: 19 | AC51: 21 | AD51: 30 | AE51: 34 | AF51: 7 | AG51: 10 | AH51: 12 | AI51: 27 | AJ51: 4 | AK51: 12 | AL51: 5 | AM51: 14 | AN51: 3 | AO51: 25 | AP51: 5 | AQ51: 1 | AR51: 0 | AS51: 1 | AT51: 9 | AU51: 0 | AV51: 0 | AW51: 1 | AX51: 0 | AY51: 0 | AZ51: 2 | BA51: 1 | BB51: 0 | BC51: 0 | BD51: 0 | BE51: 0 | BF51: 2 | BG51: 0 | BH51: 4 | BI51: 1 | BJ51: 0
A52: 36 | B52: Red-breasted Merganser | C52: =COUNTIF(E52:BJ52,">0") -> 7 | D52: =COUNTA(BK52:BU52) -> 1 | E52: 0 | F52: 0 | G52: 0 | H52: 0 | I52: 0 | J52: 0 | K52: 0 | L52: 0 | M52: 0 | N52: 0 | O52: 0 | P52: 0 | Q52: 0 | R52: 3 | S52: 0 | T52: 0 | U52: 0 | V52: 0 | W52: 3 | X52: 0 | Y52: 0 | Z52: 0 | AA52: 0 | AB52: 0 | AC52: 0 | AD52: 0 | AE52: 0 | AF52: 0 | AG52: 1 | AH52: 0 | AI52: 2 | AJ52: 0 | AK52: 1 | AL52: 0 | AM52: 3 | AN52: 0 | AO52: 0 | AP52: 0 | AQ52: 2 | AR52: 0 | AS52: 0 | AT52: 0 | AU52: 0 | AV52: 0 | AW52: 0 | AX52: 0 | AY52: 0 | AZ52: 0 | BA52: 0 | BB52: 0 | BC52: 0 | BD52: 0 | BE52: 0 | BF52: 0 | BG52: 0 | BH52: 0 | BI52: 0 | BJ52: 0 | BO52: +
A53: 37 | B53: Ruddy Duck | C53: =COUNTIF(E53:BJ53,">0") -> 58 | D53: =COUNTA(BK53:BU53) -> 9 | E53: 771 | F53: 550 | G53: 407 | H53: 246 | I53: 218 | J53: 83 | K53: 113 | L53: 175 | M53: 331 | N53: 456 | O53: 422 | P53: 347 | Q53: 408 | R53: 526 | S53: 451 | T53: 412 | U53: 328 | V53: 542 | W53: 635 | X53: 542 | Y53: 215 | Z53: 130 | AA53: 95 | AB53: 220 | AC53: 233 | AD53: 434 | AE53: 528 | AF53: 335 | AG53: 249 | AH53: 397 | AI53: 503 | AJ53: 180 | AK53: 445 | AL53: 736 | AM53: 521 | AN53: 463 | AO53: 280 | AP53: 708 | AQ53: 291 | AR53: 269 | AS53: 245 | AT53: 189 | AU53: 130 | AV53: 165 | AW53: 162 | AX53: 291 | AY53: 118 | AZ53: 128 | BA53: 167 | BB53: 137 | BC53: 224 | BD53: 567 | BE53: 326 | BF53: 181 | BG53: 445 | BH53: 118 | BI53: 111 | BJ53: 133 | BK53: 4x | BL53: 4x | BM53: + | BN53: + | BO53: + | BP53: + | BR53: 8 | BS53: 2 | BT53: 1
A54: 38 | B54: Chukar | C54: =COUNTIF(E54:BJ54,">0") -> 0 | D54: =COUNTA(BK54:BU54) -> 1 | E54: 0 | H54: 0 | I54: 0 | J54: 0 | K54: 0 | L54: 0 | M54: 0 | N54: 0 | O54: 0 | P54: 0 | Q54: 0 | R54: 0 | S54: 0 | T54: 0 | U54: 0 | V54: 0 | W54: 0 | X54: 0 | Y54: 0 | Z54: 0 | AA54: 0 | AB54: 0 | AC54: 0 | AD54: 0 | AE54: 0 | AF54: 0 | AG54: 0 | AH54: 0 | AI54: 0 | AJ54: 0 | AK54: 0 | AL54: 0 | AM54: 0 | AN54: 0 | AO54: 0 | AP54: 0 | AQ54: 0 | AR54: 0 | AS54: 0 | AT54: 0 | AU54: 0 | AV54: 0 | AW54: 0 | AX54: 0 | AY54: 0 | AZ54: 0 | BA54: 0 | BB54: 0 | BC54: 0 | BD54: 0 | BE54: 0 | BF54: 0 | BG54: 0 | BH54: 0 | BI54: 0 | BJ54: 0 | BK54: 1x
A55: 39 | B55: Ruffed Grouse | C55: =COUNTIF(E55:BJ55,">0") -> 58 | D55: =COUNTA(BK55:BU55) -> 6 | E55: 7 | F55: 11 | G55: 9 | H55: 5 | I55: 8 | J55: 13 | K55: 10 | L55: 2 | M55: 9 | N55: 11 | O55: 8 | P55: 8 | Q55: 13 | R55: 16 | S55: 6 | T55: 6 | U55: 8 | V55: 1 | W55: 6 | X55: 7 | Y55: 11 | Z55: 2 | AA55: 14 | AB55: 2 | AC55: 4 | AD55: 9 | AE55: 16 | AF55: 20 | AG55: 8 | AH55: 9 | AI55: 10 | AJ55: 1 | AK55: 12 | AL55: 21 | AM55: 17 | AN55: 13 | AO55: 19 | AP55: 12 | AQ55: 9 | AR55: 10 | AS55: 8 | AT55: 9 | AU55: 14 | AV55: 4 | AW55: 12 | AX55: 9 | AY55: 11 | AZ55: 12 | BA55: 12 | BB55: 14 | BC55: 11 | BD55: 7 | BE55: 6 | BF55: 2 | BG55: 13 | BH55: 7 | BI55: 7 | BJ55: 6 | BK55: 3x | BL55: 3x | BM55: + | BN55: + | BO55: + | BS55: 3
A56: 40 | B56: Sharp-tailed Grouse | C56: =COUNTIF(E56:BJ56,">0") -> 57 | D56: =COUNTA(BK56:BU56) -> 10 | E56: 43 | F56: 15 | G56: 13 | H56: 37 | I56: 10 | J56: 22 | K56: 61 | L56: 3 | M56: 13 | N56: 4 | O56: 7 | P56: 14 | Q56: 2 | R56: 1 | S56: 6 | T56: 1 | U56: 9 | V56: 8 | W56: 10 | X56: 32 | Y56: 7 | Z56: 12 | AA56: 16 | AB56: 36 | AC56: 0 | AD56: 14 | AE56: 19 | AF56: 58 | AG56: 1 | AH56: 2 | AI56: 53 | AJ56: 19 | AK56: 34 | AL56: 50 | AM56: 34 | AN56: 60 | AO56: 13 | AP56: 54 | AQ56: 9 | AR56: 7 | AS56: 13 | AT56: 16 | AU56: 23 | AV56: 1 | AW56: 33 | AX56: 26 | AY56: 35 | AZ56: 14 | BA56: 2 | BB56: 20 | BC56: 15 | BD56: 22 | BE56: 18 | BF56: 40 | BG56: 35 | BH56: 65 | BI56: 83 | BJ56: 19 | BK56: 3x | BL56: 4x | BM56: + | BN56: + | BO56: + | BP56: + | BQ56: 25 | BR56: 2 | BS56: 3 | BU56: 2
A57: 41 | B57: Gray Partridge | C57: =COUNTIF(E57:BJ57,">0") -> 58 | D57: =COUNTA(BK57:BU57) -> 10 | E57: 23 | F57: 37 | G57: 19 | H57: 7 | I57: 10 | J57: 27 | K57: 19 | L57: 14 | M57: 16 | N57: 10 | O57: 9 | P57: 3 | Q57: 5 | R57: 10 | S57: 8 | T57: 8 | U57: 16 | V57: 4 | W57: 13 | X57: 18 | Y57: 26 | Z57: 36 | AA57: 33 | AB57: 19 | AC57: 17 | AD57: 30 | AE57: 11 | AF57: 16 | AG57: 2 | AH57: 9 | AI57: 14 | AJ57: 14 | AK57: 24 | AL57: 20 | AM57: 12 | AN57: 33 | AO57: 20 | AP57: 19 | AQ57: 20 | AR57: 6 | AS57: 9 | AT57: 14 | AU57: 24 | AV57: 14 | AW57: 13 | AX57: 10 | AY57: 40 | AZ57: 19 | BA57: 8 | BB57: 8 | BC57: 4 | BD57: 7 | BE57: 22 | BF57: 17 | BG57: 39 | BH57: 64 | BI57: 36 | BJ57: 27 | BK57: 4x | BL57: 4x | BM57: + | BN57: + | BO57: + | BP57: + | BQ57: 6 | BS57: 2 | BT57: 4 | BU57: 2
A58: 42 | B58: Ring-necked Pheasant | C58: =COUNTIF(E58:BJ58,">0") -> 23 | D58: =COUNTA(BK58:BU58) -> 9 | E58: 0 | F58: 0 | G58: 0 | H58: 0 | I58: 0 | J58: 0 | K58: 0 | L58: 0 | M58: 0 | N58: 0 | O58: 0 | P58: 0 | Q58: 0 | R58: 0 | S58: 0 | T58: 0 | U58: 0 | V58: 0 | W58: 1 | X58: 0 | Y58: 0 | Z58: 0 | AA58: 0 | AB58: 0 | AC58: 0 | AD58: 0 | AE58: 1 | AF58: 0 | AG58: 0 | AH58: 0 | AI58: 1 | AJ58: 0 | AK58: 0 | AL58: 0 | AM58: 1 | AN58: 1 | AO58: 1 | AP58: 0 | AQ58: 0 | AR58: 0 | AS58: 0 | AT58: 3 | AU58: 4 | AV58: 1 | AW58: 3 | AX58: 2 | AY58: 2 | AZ58: 6 | BA58: 10 | BB58: 10 | BC58: 2 | BD58: 3 | BE58: 12 | BF58: 19 | BG58: 10 | BH58: 10 | BI58: 12 | BJ58: 5 | BK58: 3x | BL58: 3x | BN58: + | BO58: + | BP58: + | BQ58: 9 | BR58: 6 | BS58: 14 | BU58: 5
A59: 43 | B59: Pied-billed Grebe | C59: =COUNTIF(E59:BJ59,">0") -> 58 | D59: =COUNTA(BK59:BU59) -> 8 | E59: 32 | F59: 13 | G59: 7 | H59: 1 | I59: 12 | J59: 6 | K59: 7 | L59: 29 | M59: 24 | N59: 37 | O59: 26 | P59: 19 | Q59: 52 | R59: 40 | S59: 26 | T59: 22 | U59: 32 | V59: 41 | W59: 34 | X59: 33 | Y59: 25 | Z59: 19 | AA59: 11 | AB59: 32 | AC59: 11 | AD59: 42 | AE59: 22 | AF59: 23 | AG59: 15 | AH59: 42 | AI59: 36 | AJ59: 26 | AK59: 41 | AL59: 33 | AM59: 30 | AN59: 20 | AO59: 43 | AP59: 50 | AQ59: 41 | AR59: 44 | AS59: 29 | AT59: 30 | AU59: 25 | AV59: 9 | AW59: 27 | AX59: 42 | AY59: 14 | AZ59: 15 | BA59: 42 | BB59: 26 | BC59: 15 | BD59: 22 | BE59: 38 | BF59: 35 | BG59: 12 | BH59: 17 | BI59: 13 | BJ59: 17 | BK59: 4x | BL59: 3x | BM59: + | BN59: + | BO59: + | BP59: + | BR59: 4 | BU59: 1
A60: 44 | B60: Horned Grebe | C60: =COUNTIF(E60:BJ60,">0") -> 58 | D60: =COUNTA(BK60:BU60) -> 11 | E60: 52 | F60: 57 | G60: 37 | H60: 19 | I60: 42 | J60: 47 | K60: 70 | L60: 63 | M60: 77 | N60: 117 | O60: 192 | P60: 127 | Q60: 148 | R60: 187 | S60: 93 | T60: 85 | U60: 58 | V60: 101 | W60: 240 | X60: 115 | Y60: 163 | Z60: 42 | AA60: 56 | AB60: 86 | AC60: 88 | AD60: 117 | AE60: 86 | AF60: 107 | AG60: 78 | AH60: 90 | AI60: 159 | AJ60: 46 | AK60: 60 | AL60: 68 | AM60: 75 | AN60: 76 | AO60: 81 | AP60: 73 | AQ60: 107 | AR60: 78 | AS60: 175 | AT60: 91 | AU60: 111 | AV60: 75 | AW60: 82 | AX60: 136 | AY60: 114 | AZ60: 88 | BA60: 125 | BB60: 199 | BC60: 183 | BD60: 136 | BE60: 162 | BF60: 154 | BG60: 174 | BH60: 130 | BI60: 102 | BJ60: 107 | BK60: 4x | BL60: 4x | BM60: + | BN60: + | BO60: + | BP60: + | BQ60: 20 | BR60: 21 | BS60: 2 | BT60: 12 | BU60: 26
A61: 45 | B61: Red-necked Grebe | C61: =COUNTIF(E61:BJ61,">0") -> 56 | D61: =COUNTA(BK61:BU61) -> 5 | E61: 52 | F61: 54 | G61: 38 | H61: 51 | I61: 50 | J61: 58 | K61: 67 | L61: 46 | M61: 52 | N61: 43 | O61: 46 | P61: 30 | Q61: 64 | R61: 50 | S61: 37 | T61: 36 | U61: 34 | V61: 25 | W61: 36 | X61: 30 | Y61: 22 | Z61: 16 | AA61: 14 | AB61: 36 | AC61: 23 | AD61: 23 | AE61: 32 | AF61: 20 | AG61: 8 | AH61: 12 | AI61: 24 | AJ61: 4 | AK61: 23 | AL61: 17 | AM61: 12 | AN61: 13 | AO61: 13 | AP61: 2 | AQ61: 7 | AR61: 7 | AS61: 4 | AT61: 7 | AU61: 0 | AV61: 0 | AW61: 3 | AX61: 4 | AY61: 3 | AZ61: 1 | BA61: 1 | BB61: 3 | BC61: 7 | BD61: 5 | BE61: 3 | BF61: 3 | BG61: 3 | BH61: 6 | BI61: 4 | BJ61: 2 | BK61: 1x | BL61: 1x | BM61: + | BN61: + | BO61: +
A62: 46 | B62: Eared Grebe | C62: =COUNTIF(E62:BJ62,">0") -> 58 | D62: =COUNTA(BK62:BU62) -> 10 | E62: 2653 | F62: 369 | G62: 93 | H62: 300 | I62: 179 | J62: 288 | K62: 1451 | L62: 505 | M62: 256 | N62: 913 | O62: 1116 | P62: 2053 | Q62: 752 | R62: 402 | S62: 179 | T62: 904 | U62: 966 | V62: 818 | W62: 1021 | X62: 2371 | Y62: 1579 | Z62: 293 | AA62: 25 | AB62: 209 | AC62: 542 | AD62: 1059 | AE62: 90 | AF62: 75 | AG62: 149 | AH62: 242 | AI62: 781 | AJ62: 274 | AK62: 1026 | AL62: 1579 | AM62: 423 | AN62: 691 | AO62: 296 | AP62: 535 | AQ62: 405 | AR62: 280 | AS62: 371 | AT62: 185 | AU62: 344 | AV62: 43 | AW62: 162 | AX62: 269 | AY62: 460 | AZ62: 324 | BA62: 171 | BB62: 111 | BC62: 338 | BD62: 194 | BE62: 255 | BF62: 182 | BG62: 188 | BH62: 108 | BI62: 35 | BJ62: 50 | BK62: 4x | BL62: 4x | BM62: + | BN62: + | BO62: + | BP62: + | BQ62: 3 | BR62: 6 | BS62: 1 | BU62: 4
A63: 47 | B63: Western Grebe | C63: =COUNTIF(E63:BJ63,">0") -> 58 | D63: =COUNTA(BK63:BU63) -> 10 | E63: 48 | F63: 10 | G63: 5 | H63: 5 | I63: 2 | J63: 15 | K63: 34 | L63: 6 | M63: 5 | N63: 6 | O63: 11 | P63: 32 | Q63: 41 | R63: 19 | S63: 15 | T63: 4 | U63: 133 | V63: 43 | W63: 69 | X63: 29 | Y63: 57 | Z63: 120 | AA63: 10 | AB63: 42 | AC63: 75 | AD63: 119 | AE63: 56 | AF63: 114 | AG63: 26 | AH63: 433 | AI63: 148 | AJ63: 8 | AK63: 80 | AL63: 111 | AM63: 68 | AN63: 80 | AO63: 69 | AP63: 185 | AQ63: 71 | AR63: 616 | AS63: 120 | AT63: 72 | AU63: 103 | AV63: 14 | AW63: 22 | AX63: 22 | AY63: 33 | AZ63: 42 | BA63: 53 | BB63: 8 | BC63: 101 | BD63: 105 | BE63: 20 | BF63: 10 | BG63: 48 | BH63: 277 | BI63: 34 | BJ63: 12 | BK63: 4x | BL63: 3x | BM63: + | BN63: + | BO63: + | BP63: + | BQ63: 5 | BS63: 4 | BT63: 1 | BU63: 4
A64: 48 | B64: Clark's Grebe | C64: =COUNTIF(E64:BJ64,">0") -> 2 | D64: =COUNTA(BK64:BU64) -> 0 | E64: 0 | F64: 0 | G64: 0 | H64: 0 | I64: 0 | J64: 0 | K64: 0 | L64: 0 | M64: 0 | N64: 0 | O64: 0 | P64: 0 | Q64: 0 | R64: 0 | S64: 0 | T64: 0 | U64: 0 | V64: 0 | W64: 0 | X64: 1 | Y64: 0 | Z64: 0 | AA64: 0 | AB64: 0 | AC64: 0 | AD64: 0 | AE64: 0 | AF64: 0 | AG64: 0 | AH64: 0 | AI64: 0 | AJ64: 0 | AK64: 0 | AL64: 0 | AM64: 0 | AN64: 0 | AO64: 0 | AP64: 1 | AQ64: 0 | AR64: 0 | AS64: 0 | AT64: 0 | AU64: 0 | AV64: 0 | AW64: 0 | AX64: 0 | AY64: 0 | AZ64: 0 | BA64: 0 | BB64: 0 | BC64: 0 | BD64: 0 | BE64: 0 | BF64: 0 | BG64: 0 | BH64: 0 | BI64: 0 | BJ64: 0
A65: 49 | B65: Rock Pigeon | C65: =COUNTIF(E65:BJ65,">0") -> 58 | D65: =COUNTA(BK65:BU65) -> 9 | E65: 610 | F65: 450 | G65: 748 | H65: 678 | I65: 469 | J65: 529 | K65: 861 | L65: 429 | M65: 444 | N65: 376 | O65: 371 | P65: 460 | Q65: 401 | R65: 619 | S65: 341 | T65: 716 | U65: 701 | V65: 520 | W65: 678 | X65: 902 | Y65: 806 | Z65: 1151 | AA65: 571 | AB65: 420 | AC65: 399 | AD65: 801 | AE65: 813 | AF65: 662 | AG65: 727 | AH65: 975 | AI65: 217 | AJ65: 404 | AK65: 940 | AL65: 421 | AM65: 332 | AN65: 376 | AO65: 311 | AP65: 187 | AQ65: 156 | AR65: 119 | AS65: 161 | AT65: 174 | AU65: 118 | AV65: 45 | AW65: 131 | AX65: 116 | AY65: 133 | AZ65: 125 | BA65: 140 | BB65: 187 | BC65: 327 | BD65: 93 | BE65: 115 | BF65: 289 | BG65: 120 | BH65: 114 | BI65: 84 | BJ65: 120 | BK65: 4x | BL65: 4x | BM65: + | BN65: + | BO65: + | BP65: + | BQ65: 65 | BR65: 24 | BS65: nc
A66: 50 | B66: Eurasian Collared-Dove | C66: =COUNTIF(E66:BJ66,">0") -> 18 | D66: =COUNTA(BK66:BU66) -> 0 | E66: 15 | F66: 21 | G66: 8 | H66: 15 | I66: 10 | J66: 14 | K66: 20 | L66: 14 | M66: 9 | N66: 10 | O66: 4 | P66: 5 | Q66: 5 | R66: 3 | S66: 1 | T66: 4 | U66: 0 | V66: 0 | W66: 2 | X66: 0 | Y66: 1 | Z66: 0 | AA66: 0 | AB66: 0 | AC66: 0 | AD66: 0 | AE66: 0 | AF66: 0 | AG66: 0 | AH66: 0 | AI66: 0 | AJ66: 0 | AK66: 0 | AL66: 0 | AM66: 0 | AN66: 0 | AO66: 0 | AP66: 0 | AQ66: 0 | AR66: 0 | AS66: 0 | AT66: 0 | AU66: 0 | AV66: 0 | AW66: 0 | AX66: 0 | AY66: 0 | AZ66: 0 | BA66: 0 | BB66: 0 | BC66: 0 | BD66: 0 | BE66: 0 | BF66: 0 | BG66: 0 | BH66: 0 | BI66: 0 | BJ66: 0
A67: 51 | B67: Mourning Dove | C67: =COUNTIF(E67:BJ67,">0") -> 58 | D67: =COUNTA(BK67:BU67) -> 11 | E67: 273 | F67: 176 | G67: 450 | H67: 206 | I67: 232 | J67: 297 | K67: 215 | L67: 300 | M67: 150 | N67: 181 | O67: 252 | P67: 214 | Q67: 185 | R67: 203 | S67: 126 | T67: 106 | U67: 270 | V67: 168 | W67: 165 | X67: 152 | Y67: 133 | Z67: 134 | AA67: 136 | AB67: 101 | AC67: 79 | AD67: 155 | AE67: 99 | AF67: 115 | AG67: 74 | AH67: 96 | AI67: 103 | AJ67: 128 | AK67: 168 | AL67: 156 | AM67: 162 | AN67: 121 | AO67: 187 | AP67: 152 | AQ67: 103 | AR67: 121 | AS67: 127 | AT67: 142 | AU67: 106 | AV67: 44 | AW67: 113 | AX67: 92 | AY67: 151 | AZ67: 117 | BA67: 147 | BB67: 107 | BC67: 133 | BD67: 138 | BE67: 109 | BF67: 120 | BG67: 87 | BH67: 118 | BI67: 85 | BJ67: 99 | BK67: 4x | BL67: 4x | BM67: + | BN67: + | BO67: + | BP67: + | BQ67: 69 | BR67: 29 | BS67: 62 | BT67: 25 | BU67: 30
A68: 52 | B68: Black-billed Cuckoo | C68: =COUNTIF(E68:BJ68,">0") -> 11 | D68: =COUNTA(BK68:BU68) -> 0 | E68: 0 | F68: 0 | G68: 0 | H68: 0 | I68: 0 | J68: 1 | K68: 0 | L68: 0 | M68: 0 | N68: 0 | O68: 0 | P68: 0 | Q68: 0 | R68: 0 | S68: 0 | T68: 0 | U68: 0 | V68: 0 | W68: 0 | X68: 0 | Y68: 0 | Z68: 0 | AA68: 0 | AB68: 0 | AC68: 0 | AD68: 0 | AE68: 0 | AF68: 0 | AG68: 1 | AH68: 0 | AI68: 0 | AJ68: 1 | AK68: 0 | AL68: 0 | AM68: 1 | AN68: 1 | AO68: 0 | AP68: 2 | AQ68: 0 | AR68: 0 | AS68: 1 | AT68: 1 | AU68: 0 | AV68: 0 | AW68: 1 | AX68: 2 | AY68: 0 | AZ68: 0 | BA68: 4 | BB68: 0 | BC68: 0 | BD68: 0 | BE68: 0 | BF68: 0 | BG68: 0 | BH68: 0 | BI68: 0 | BJ68: 0
A69: 53 | B69: Common Nighthawk | C69: =COUNTIF(E69:BJ69,">0") -> 48 | D69: =COUNTA(BK69:BU69) -> 3 | E69: 0 | F69: 2 | G69: 2 | H69: 1 | I69: 2 | J69: 3 | K69: 0 | L69: 28 | M69: 0 | N69: 2 | O69: 0 | P69: 0 | Q69: 2 | R69: 2 | S69: 2 | T69: 1 | U69: 2 | V69: 1 | W69: 3 | X69: 2 | Y69: 2 | Z69: 4 | AA69: 3 | AB69: 2 | AC69: 2 | AD69: 5 | AE69: 4 | AF69: 4 | AG69: 2 | AH69: 3 | AI69: 0 | AJ69: 6 | AK69: 4 | AL69: 4 | AM69: 3 | AN69: 2 | AO69: 3 | AP69: 3 | AQ69: 2 | AR69: 0 | AS69: 15 | AT69: 3 | AU69: 8 | AV69: 14 | AW69: 1 | AX69: 3 | AY69: 2 | AZ69: 14 | BA69: 5 | BB69: 3 | BC69: 2 | BD69: 9 | BE69: 0 | BF69: 35 | BG69: 0 | BH69: 15 | BI69: 9 | BJ69: 0 | BK69: 2x | BM69: + | BU69: 3
A70: 54 | B70: Chimney Swift | C70: =COUNTIF(E70:BJ70,">0") -> 1 | D70: =COUNTA(BK70:BU70) -> 0 | E70: 0 | F70: 0 | G70: 0 | H70: 0 | I70: 0 | J70: 0 | K70: 0 | L70: 0 | M70: 0 | N70: 0 | O70: 0 | P70: 0 | Q70: 0 | R70: 0 | S70: 0 | T70: 0 | U70: 0 | V70: 0 | W70: 0 | X70: 0 | Y70: 0 | Z70: 0 | AA70: 0 | AB70: 0 | AC70: 0 | AD70: 0 | AE70: 0 | AF70: 0 | AG70: 0 | AH70: 0 | AI70: 0 | AJ70: 0 | AK70: 0 | AL70: 0 | AM70: 0 | AN70: 0 | AO70: 0 | AP70: 0 | AQ70: 0 | AR70: 0 | AS70: 0 | AT70: 0 | AU70: 0 | AV70: 0 | AW70: 0 | AX70: 1 | AY70: 0 | AZ70: 0 | BA70: 0 | BB70: 0 | BC70: 0 | BD70: 0 | BE70: 0 | BF70: 0 | BG70: 0 | BH70: 0 | BI70: 0 | BJ70: 0
A71: 55 | B71: Ruby-throated Hummingbird | C71: =COUNTIF(E71:BJ71,">0") -> 51 | D71: =COUNTA(BK71:BU71) -> 0 | E71: 2 | F71: 2 | G71: 3 | H71: 3 | I71: 4 | J71: 13 | K71: 6 | L71: 5 | M71: 4 | N71: 1 | O71: 8 | P71: 5 | Q71: 1 | R71: 5 | S71: 3 | T71: 0 | U71: 3 | V71: 7 | W71: 1 | X71: 5 | Y71: 2 | Z71: 4 | AA71: 4 | AB71: 3 | AC71: 6 | AD71: 6 | AE71: 3 | AF71: 9 | AG71: 4 | AH71: 3 | AI71: 3 | AJ71: 0 | AK71: 3 | AL71: 4 | AM71: 2 | AN71: 0 | AO71: 1 | AP71: 0 | AQ71: 1 | AR71: 8 | AS71: 1 | AT71: 6 | AU71: 8 | AV71: 2 | AW71: 1 | AX71: 3 | AY71: 2 | AZ71: 4 | BA71: 1 | BB71: 2 | BC71: 0 | BD71: 1 | BE71: 0 | BF71: 4 | BG71: 0 | BH71: 2 | BI71: 1 | BJ71: 1
A72: 56 | B72: Black-chinned Hummingbird | C72: =COUNTIF(E72:BJ72,">0") -> 1 | D72: =COUNTA(BK72:BU72) -> 0 | E72: 0 | F72: 0 | G72: 0 | H72: 0 | I72: 0 | J72: 0 | K72: 0 | L72: 0 | M72: 0 | N72: 0 | O72: 0 | P72: 0 | Q72: 0 | R72: 0 | S72: 0 | T72: 0 | U72: 0 | V72: 0 | W72: 0 | X72: 0 | Y72: 0 | Z72: 0 | AA72: 0 | AB72: 0 | AC72: 0 | AD72: 0 | AE72: 0 | AF72: 0 | AG72: 0 | AH72: 0 | AI72: 0 | AJ72: 0 | AK72: 0 | AL72: 0 | AM72: 0 | AN72: 0 | AO72: 1 | AP72: 0 | AQ72: 0 | AR72: 0 | AS72: 0 | AT72: 0 | AU72: 0 | AV72: 0 | AW72: 0 | AX72: 0 | AY72: 0 | AZ72: 0 | BA72: 0 | BB72: 0 | BC72: 0 | BD72: 0 | BE72: 0 | BF72: 0 | BG72: 0 | BH72: 0 | BI72: 0 | BJ72: 0
A73: 57 | B73: Virginia Rail | C73: =COUNTIF(E73:BJ73,">0") -> 34 | D73: =COUNTA(BK73:BU73) -> 0 | E73: 0 | F73: 0 | G73: 2 | H73: 2 | I73: 0 | J73: 8 | K73: 2 | L73: 2 | M73: 3 | N73: 1 | O73: 5 | P73: 2 | Q73: 0 | R73: 3 | S73: 3 | T73: 0 | U73: 0 | V73: 1 | W73: 1 | X73: 0 | Y73: 1 | Z73: 0 | AA73: 0 | AB73: 0 | AC73: 1 | AD73: 0 | AE73: 0 | AF73: 1 | AG73: 0 | AH73: 1 | AI73: 5 | AJ73: 4 | AK73: 2 | AL73: 6 | AM73: 0 | AN73: 0 | AO73: 1 | AP73: 1 | AQ73: 3 | AR73: 2 | AS73: 3 | AT73: 1 | AU73: 1 | AV73: 0 | AW73: 0 | AX73: 0 | AY73: 0 | AZ73: 2 | BA73: 2 | BB73: 0 | BC73: 1 | BD73: 1 | BE73: 1 | BF73: 0 | BG73: 1 | BH73: 0 | BI73: 0 | BJ73: 0
A74: 58 | B74: Sora | C74: =COUNTIF(E74:BJ74,">0") -> 58 | D74: =COUNTA(BK74:BU74) -> 11 | E74: 85 | F74: 77 | G74: 91 | H74: 35 | I74: 77 | J74: 59 | K74: 18 | L74: 93 | M74: 94 | N74: 89 | O74: 100 | P74: 97 | Q74: 101 | R74: 108 | S74: 94 | T74: 44 | U74: 45 | V74: 62 | W74: 91 | X74: 100 | Y74: 29 | Z74: 35 | AA74: 35 | AB74: 20 | AC74: 35 | AD74: 106 | AE74: 49 | AF74: 40 | AG74: 51 | AH74: 96 | AI74: 106 | AJ74: 101 | AK74: 102 | AL74: 126 | AM74: 65 | AN74: 48 | AO74: 49 | AP74: 70 | AQ74: 53 | AR74: 47 | AS74: 61 | AT74: 65 | AU74: 61 | AV74: 11 | AW74: 24 | AX74: 61 | AY74: 30 | AZ74: 19 | BA74: 66 | BB74: 75 | BC74: 108 | BD74: 64 | BE74: 36 | BF74: 67 | BG74: 23 | BH74: 40 | BI74: 28 | BJ74: 31 | BK74: 4x | BL74: 4x | BM74: + | BN74: + | BO74: + | BP74: + | BQ74: 1 | BR74: 2 | BT74: 5 | BU74: 2
A75: 59 | B75: American Coot | C75: =COUNTIF(E75:BJ75,">0") -> 58 | D75: =COUNTA(BK75:BU75) -> 11 | E75: 1005 | F75: 417 | G75: 99 | H75: 101 | I75: 308 | J75: 121 | K75: 93 | L75: 279 | M75: 471 | N75: 871 | O75: 771 | P75: 388 | Q75: 806 | R75: 1256 | S75: 503 | T75: 254 | U75: 824 | V75: 3097 | W75: 1245 | X75: 870 | Y75: 372 | Z75: 505 | AA75: 149 | AB75: 1093 | AC75: 176 | AD75: 3089 | AE75: 455 | AF75: 737 | AG75: 522 | AH75: 629 | AI75: 805 | AJ75: 250 | AK75: 812 | AL75: 959 | AM75: 680 | AN75: 731 | AO75: 634 | AP75: 1169 | AQ75: 523 | AR75: 356 | AS75: 414 | AT75: 302 | AU75: 313 | AV75: 122 | AW75: 179 | AX75: 305 | AY75: 202 | AZ75: 99 | BA75: 417 | BB75: 433 | BC75: 711 | BD75: 225 | BE75: 640 | BF75: 307 | BG75: 715 | BH75: 462 | BI75: 182 | BJ75: 2307 | BK75: 4x | BL75: 4x | BM75: + | BN75: + | BO75: + | BP75: + | BQ75: 114 | BR75: 55 | BS75: 37 | BT75: 32 | BU75: 24
A76: 60 | B76: Yellow Rail | C76: =COUNTIF(E76:BJ76,">0") -> 11 | D76: =COUNTA(BK76:BU76) -> 0 | E76: 0 | F76: 0 | G76: 0 | H76: 0 | I76: 0 | J76: 0 | K76: 0 | L76: 0 | M76: 0 | N76: 0 | O76: 0 | P76: 0 | Q76: 0 | R76: 0 | S76: 0 | T76: 0 | U76: 0 | V76: 0 | W76: 0 | X76: 0 | Y76: 0 | Z76: 0 | AA76: 0 | AB76: 0 | AC76: 0 | AD76: 0 | AE76: 0 | AF76: 0 | AG76: 0 | AH76: 1 | AI76: 5 | AJ76: 0 | AK76: 1 | AL76: 4 | AM76: 0 | AN76: 7 | AO76: 6 | AP76: 6 | AQ76: 1 | AR76: 0 | AS76: 1 | AT76: 1 | AU76: 0 | AV76: 0 | AW76: 0 | AX76: 0 | AY76: 0 | AZ76: 1 | BA76: 0 | BB76: 0 | BC76: 0 | BD76: 0 | BE76: 0 | BF76: 0 | BG76: 0 | BH76: 0 | BI76: 0 | BJ76: 0
A77: 61 | B77: Sandhill Crane | C77: =COUNTIF(E77:BJ77,">0") -> 50 | D77: =COUNTA(BK77:BU77) -> 3 | E77: 5 | F77: 10 | G77: 5 | H77: 14 | I77: 11 | J77: 40 | K77: 2 | L77: 8 | M77: 0 | N77: 0 | O77: 0 | P77: 347 | Q77: 13 | R77: 8 | S77: 0 | T77: 8 | U77: 7 | V77: 4 | W77: 0 | X77: 6 | Y77: 13 | Z77: 4 | AA77: 15 | AB77: 9 | AC77: 2 | AD77: 0 | AE77: 8 | AF77: 7 | AG77: 8 | AH77: 8 | AI77: 41 | AJ77: 0 | AK77: 5 | AL77: 32 | AM77: 17 | AN77: 15 | AO77: 1 | AP77: 13 | AQ77: 17 | AR77: 6 | AS77: 9 | AT77: 12 | AU77: 15 | AV77: 6 | AW77: 12 | AX77: 9 | AY77: 6 | AZ77: 3 | BA77: 28 | BB77: 4 | BC77: 3 | BD77: 6 | BE77: 7 | BF77: 15 | BG77: 44 | BH77: 5 | BI77: 5 | BJ77: 0 | BM77: + | BO77: + | BP77: +
A78: 62 | B78: • Shorebird sp. • | C78: =COUNTIF(E78:BJ78,">0") -> 19 | D78: =COUNTA(BK78:BU78) -> 0 | E78: 0 | F78: 0 | G78: 2 | H78: 38 | I78: 2011 | J78: 560 | K78: 247 | L78: 8 | M78: 0 | N78: 2 | O78: 9 | P78: 0 | Q78: 1 | R78: 1450 | S78: 0 | T78: 0 | U78: 0 | V78: 0 | W78: 18 | X78: 516 | Y78: 168 | Z78: 0 | AA78: 0 | AB78: 0 | AC78: 18 | AD78: 730 | AE78: 800 | AF78: 0 | AG78: 0 | AH78: 0 | AI78: 0 | AJ78: 0 | AK78: 3890 | AL78: 0 | AM78: 0 | AN78: 2000 | AO78: 0 | AP78: 102 | AQ78: 0 | AR78: 0 | AS78: 0 | AT78: 0 | AU78: 0 | AV78: 0 | AW78: 0 | AX78: 0 | AY78: 0 | AZ78: 0 | BA78: 0 | BB78: 0 | BC78: 0 | BD78: 0 | BE78: 0 | BF78: 0 | BG78: 0 | BH78: 0 | BI78: 0
A79: 63 | B79: Black-necked Stilt | C79: =COUNTIF(E79:BJ79,">0") -> 14 | D79: =COUNTA(BK79:BU79) -> 0 | E79: 20 | F79: 2 | G79: 1 | H79: 4 | I79: 5 | J79: 0 | K79: 0 | L79: 10 | M79: 2 | N79: 10 | O79: 18 | P79: 1 | Q79: 5 | R79: 6 | S79: 0 | T79: 0 | U79: 7 | V79: 5 | W79: 0 | X79: 0 | Y79: 0 | Z79: 0 | AA79: 0 | AB79: 0 | AC79: 0 | AD79: 0 | AE79: 0 | AF79: 0 | AG79: 0 | AH79: 0 | AI79: 0 | AJ79: 0 | AK79: 0 | AL79: 0 | AM79: 0 | AN79: 0 | AO79: 0 | AP79: 0 | AQ79: 0 | AR79: 0 | AS79: 0 | AT79: 0 | AU79: 0 | AV79: 0 | AW79: 0 | AX79: 0 | AY79: 0 | AZ79: 0 | BA79: 0 | BB79: 0 | BC79: 0 | BD79: 0 | BE79: 0 | BF79: 0 | BG79: 0 | BH79: 0 | BI79: 0 | BJ79: 0
A80: 64 | B80: American Avocet | C80: =COUNTIF(E80:BJ80,">0") -> 58 | D80: =COUNTA(BK80:BU80) -> 7 | E80: 319 | F80: 332 | G80: 154 | H80: 260 | I80: 362 | J80: 398 | K80: 289 | L80: 395 | M80: 273 | N80: 380 | O80: 246 | P80: 298 | Q80: 217 | R80: 249 | S80: 102 | T80: 251 | U80: 331 | V80: 555 | W80: 318 | X80: 314 | Y80: 436 | Z80: 150 | AA80: 109 | AB80: 63 | AC80: 122 | AD80: 242 | AE80: 277 | AF80: 207 | AG80: 185 | AH80: 442 | AI80: 211 | AJ80: 169 | AK80: 309 | AL80: 563 | AM80: 197 | AN80: 370 | AO80: 183 | AP80: 209 | AQ80: 164 | AR80: 160 | AS80: 145 | AT80: 254 | AU80: 189 | AV80: 11 | AW80: 59 | AX80: 226 | AY80: 101 | AZ80: 154 | BA80: 170 | BB80: 107 | BC80: 62 | BD80: 60 | BE80: 146 | BF80: 162 | BG80: 87 | BH80: 58 | BI80: 287 | BJ80: 170 | BK80: 3x | BL80: 3x | BM80: + | BN80: + | BO80: + | BP80: + | BT80: 6
A81: 65 | B81: Black-bellied Plover | C81: =COUNTIF(E81:BJ81,">0") -> 56 | D81: =COUNTA(BK81:BU81) -> 10 | E81: 16 | F81: 23 | G81: 5 | H81: 110 | I81: 188 | J81: 91 | K81: 43 | L81: 22 | M81: 75 | N81: 6 | O81: 75 | P81: 19 | Q81: 50 | R81: 175 | S81: 21 | T81: 55 | U81: 160 | V81: 166 | W81: 62 | X81: 18 | Y81: 38 | Z81: 0 | AA81: 71 | AB81: 6 | AC81: 79 | AD81: 206 | AE81: 100 | AF81: 392 | AG81: 45 | AH81: 442 | AI81: 561 | AJ81: 122 | AK81: 1190 | AL81: 530 | AM81: 667 | AN81: 327 | AO81: 332 | AP81: 725 | AQ81: 402 | AR81: 346 | AS81: 163 | AT81: 194 | AU81: 289 | AV81: 37 | AW81: 302 | AX81: 178 | AY81: 487 | AZ81: 801 | BA81: 218 | BB81: 70 | BC81: 29 | BD81: 101 | BE81: 33 | BF81: 193 | BG81: 0 | BH81: 176 | BI81: 123 | BJ81: 103 | BK81: 4x | BL81: 1x | BM81: + | BN81: + | BO81: + | BP81: + | BS81: 12 | BT81: 7 | BU81: 31
A82: 66 | B82: American Golden-Plover | C82: =COUNTIF(E82:BJ82,">0") -> 48 | D82: =COUNTA(BK82:BU82) -> 9 | E82: 26 | F82: 1 | G82: 8 | H82: 2 | I82: 185 | J82: 32 | K82: 76 | L82: 24 | M82: 37 | N82: 0 | O82: 89 | P82: 0 | Q82: 0 | R82: 0 | S82: 0 | T82: 55 | U82: 507 | V82: 2 | W82: 0 | X82: 26 | Y82: 87 | Z82: 1 | AA82: 146 | AB82: 31 | AC82: 2 | AD82: 41 | AE82: 0 | AF82: 8 | AG82: 59 | AH82: 0 | AI82: 189 | AJ82: 3 | AK82: 27 | AL82: 952 | AM82: 10 | AN82: 39 | AO82: 265 | AP82: 377 | AQ82: 141 | AR82: 3 | AS82: 23 | AT82: 109 | AU82: 239 | AV82: 35 | AW82: 17 | AX82: 33 | AY82: 0 | AZ82: 833 | BA82: 18 | BB82: 0 | BC82: 12 | BD82: 2 | BE82: 37 | BF82: 57 | BG82: 469 | BH82: 18 | BI82: 15 | BJ82: 2 | BK82: 1x | BL82: 2x | BM82: + | BN82: + | BO82: + | BP82: + | BQ82: 1 | BS82: 39 | BU82: 51
A83: 67 | B83: Semipalmated Plover | C83: =COUNTIF(E83:BJ83,">0") -> 48 | D83: =COUNTA(BK83:BU83) -> 8 | E83: 6 | F83: 0 | G83: 1 | H83: 2 | I83: 45 | J83: 1 | K83: 20 | L83: 13 | M83: 3 | N83: 1 | O83: 7 | P83: 3 | Q83: 0 | R83: 2 | S83: 1 | T83: 0 | U83: 26 | V83: 3 | W83: 35 | X83: 65 | Y83: 7 | Z83: 1 | AA83: 2 | AB83: 2 | AC83: 0 | AD83: 26 | AE83: 0 | AF83: 0 | AG83: 1 | AH83: 1 | AI83: 0 | AJ83: 1 | AK83: 1 | AL83: 3 | AM83: 0 | AN83: 1 | AO83: 16 | AP83: 0 | AQ83: 12 | AR83: 1 | AS83: 8 | AT83: 6 | AU83: 1 | AV83: 3 | AW83: 2 | AX83: 7 | AY83: 1 | AZ83: 4 | BA83: 1 | BB83: 10 | BC83: 2 | BD83: 2 | BE83: 50 | BF83: 9 | BG83: 13 | BH83: 4 | BI83: 0 | BJ83: 7 | BL83: 2x | BM83: + | BN83: + | BO83: + | BP83: + | BQ83: 2 | BS83: 7 | BU83: 2
A84: 68 | B84: Piping Plover | C84: =COUNTIF(E84:BJ84,">0") -> 34 | D84: =COUNTA(BK84:BU84) -> 2 | E84: 0 | F84: 1 | G84: 3 | H84: 0 | I84: 0 | J84: 2 | K84: 0 | L84: 0 | M84: 0 | N84: 0 | O84: 0 | P84: 2 | Q84: 1 | R84: 1 | S84: 3 | T84: 0 | U84: 1 | V84: 2 | W84: 4 | X84: 0 | Y84: 0 | Z84: 0 | AA84: 0 | AB84: 0 | AC84: 0 | AD84: 2 | AE84: 2 | AF84: 3 | AG84: 0 | AH84: 6 | AI84: 3 | AJ84: 0 | AK84: 2 | AL84: 4 | AM84: 1 | AN84: 3 | AO84: 2 | AP84: 2 | AQ84: 2 | AR84: 0 | AS84: 2 | AT84: 0 | AU84: 0 | AV84: 0 | AW84: 0 | AX84: 1 | AY84: 3 | AZ84: 8 | BA84: 1 | BB84: 4 | BC84: 0 | BD84: 3 | BE84: 7 | BF84: 3 | BG84: 2 | BH84: 1 | BI84: 2 | BJ84: 0 | BK84: 2x | BL84: 1x
A85: 69 | B85: Killdeer | C85: =COUNTIF(E85:BJ85,">0") -> 58 | D85: =COUNTA(BK85:BU85) -> 11 | E85: 137 | F85: 108 | G85: 253 | H85: 157 | I85: 212 | J85: 231 | K85: 195 | L85: 186 | M85: 119 | N85: 162 | O85: 121 | P85: 132 | Q85: 132 | R85: 137 | S85: 147 | T85: 166 | U85: 216 | V85: 211 | W85: 191 | X85: 122 | Y85: 116 | Z85: 138 | AA85: 155 | AB85: 83 | AC85: 120 | AD85: 153 | AE85: 144 | AF85: 196 | AG85: 43 | AH85: 62 | AI85: 109 | AJ85: 107 | AK85: 184 | AL85: 162 | AM85: 215 | AN85: 140 | AO85: 203 | AP85: 244 | AQ85: 162 | AR85: 157 | AS85: 170 | AT85: 171 | AU85: 146 | AV85: 117 | AW85: 151 | AX85: 130 | AY85: 129 | AZ85: 171 | BA85: 212 | BB85: 169 | BC85: 134 | BD85: 175 | BE85: 139 | BF85: 167 | BG85: 147 | BH85: 122 | BI85: 118 | BJ85: 90 | BK85: 4x | BL85: 4x | BM85: + | BN85: + | BO85: + | BP85: + | BQ85: 28 | BR85: 12 | BS85: 38 | BT85: 54 | BU85: 25
A86: 70 | B86: Upland Sandpiper | C86: =COUNTIF(E86:BJ86,">0") -> 55 | D86: =COUNTA(BK86:BU86) -> 7 | E86: 9 | F86: 5 | G86: 1 | H86: 0 | I86: 3 | J86: 1 | K86: 4 | L86: 4 | M86: 2 | N86: 4 | O86: 5 | P86: 8 | Q86: 0 | R86: 7 | S86: 9 | T86: 7 | U86: 4 | V86: 4 | W86: 7 | X86: 1 | Y86: 2 | Z86: 2 | AA86: 3 | AB86: 6 | AC86: 3 | AD86: 4 | AE86: 9 | AF86: 14 | AG86: 1 | AH86: 2 | AI86: 8 | AJ86: 7 | AK86: 8 | AL86: 10 | AM86: 11 | AN86: 5 | AO86: 32 | AP86: 19 | AQ86: 6 | AR86: 3 | AS86: 10 | AT86: 11 | AU86: 12 | AV86: 0 | AW86: 9 | AX86: 17 | AY86: 3 | AZ86: 9 | BA86: 7 | BB86: 4 | BC86: 9 | BD86: 1 | BE86: 2 | BF86: 11 | BG86: 3 | BH86: 16 | BI86: 6 | BJ86: 10 | BK86: 3x | BL86: 1x | BM86: + | BN86: + | BO86: + | BP86: + | BU86: 1
A87: 71 | B87: Whimbrel | C87: =COUNTIF(E87:BJ87,">0") -> 5 | D87: =COUNTA(BK87:BU87) -> 0 | E87: 0 | F87: 0 | G87: 0 | H87: 0 | I87: 0 | J87: 0 | K87: 0 | L87: 0 | M87: 0 | N87: 0 | O87: 0 | P87: 0 | Q87: 1 | R87: 0 | S87: 2 | T87: 0 | U87: 0 | V87: 0 | W87: 1 | X87: 0 | Y87: 0 | Z87: 0 | AA87: 0 | AB87: 0 | AC87: 0 | AD87: 0 | AE87: 0 | AF87: 0 | AG87: 0 | AH87: 0 | AI87: 0 | AJ87: 0 | AK87: 0 | AL87: 0 | AM87: 0 | AN87: 0 | AO87: 1 | AP87: 0 | AQ87: 2 | AR87: 0 | AS87: 0 | AT87: 0 | AU87: 0 | AV87: 0 | AW87: 0 | AX87: 0 | AY87: 0 | AZ87: 0 | BA87: 0 | BB87: 0 | BC87: 0 | BD87: 0 | BE87: 0 | BF87: 0 | BG87: 0 | BH87: 0 | BI87: 0 | BJ87: 0
A88: 72 | B88: Long-billed Curlew | C88: =COUNTIF(E88:BJ88,">0") -> 52 | D88: =COUNTA(BK88:BU88) -> 5 | E88: 3 | F88: 8 | G88: 2 | H88: 3 | I88: 2 | J88: 4 | K88: 4 | L88: 8 | M88: 0 | N88: 3 | O88: 2 | P88: 4 | Q88: 0 | R88: 3 | S88: 1 | T88: 2 | U88: 3 | V88: 5 | W88: 2 | X88: 3 | Y88: 6 | Z88: 0 | AA88: 5 | AB88: 2 | AC88: 3 | AD88: 3 | AE88: 2 | AF88: 18 | AG88: 0 | AH88: 0 | AI88: 1 | AJ88: 6 | AK88: 13 | AL88: 23 | AM88: 19 | AN88: 10 | AO88: 12 | AP88: 10 | AQ88: 8 | AR88: 6 | AS88: 8 | AT88: 9 | AU88: 9 | AV88: 0 | AW88: 6 | AX88: 4 | AY88: 7 | AZ88: 15 | BA88: 10 | BB88: 2 | BC88: 4 | BD88: 8 | BE88: 3 | BF88: 11 | BG88: 3 | BH88: 10 | BI88: 2 | BJ88: 1 | BK88: 1x | BL88: 1x | BM88: + | BP88: + | BU88: 1
A89: 73 | B89: Hudsonian Godwit | C89: =COUNTIF(E89:BJ89,">0") -> 17 | D89: =COUNTA(BK89:BU89) -> 0 | E89: 0 | F89: 2 | G89: 0 | H89: 0 | I89: 0 | J89: 0 | K89: 0 | L89: 0 | M89: 0 | N89: 0 | O89: 0 | P89: 0 | Q89: 0 | R89: 0 | S89: 0 | T89: 0 | U89: 0 | V89: 0 | W89: 0 | X89: 0 | Y89: 0 | Z89: 0 | AA89: 0 | AB89: 3 | AC89: 1 | AD89: 0 | AE89: 0 | AF89: 0 | AG89: 8 | AH89: 0 | AI89: 0 | AJ89: 0 | AK89: 0 | AL89: 8 | AM89: 0 | AN89: 2 | AO89: 0 | AP89: 1 | AQ89: 2 | AR89: 2 | AS89: 7 | AT89: 2 | AU89: 3 | AV89: 0 | AW89: 0 | AX89: 2 | AY89: 0 | AZ89: 1 | BA89: 0 | BB89: 0 | BC89: 0 | BD89: 1 | BE89: 0 | BF89: 0 | BG89: 3 | BH89: 1 | BI89: 0 | BJ89: 0
A90: 74 | B90: Marbled Godwit | C90: =COUNTIF(E90:BJ90,">0") -> 58 | D90: =COUNTA(BK90:BU90) -> 11 | E90: 22 | F90: 17 | G90: 18 | H90: 26 | I90: 49 | J90: 51 | K90: 50 | L90: 51 | M90: 13 | N90: 23 | O90: 64 | P90: 32 | Q90: 32 | R90: 41 | S90: 35 | T90: 39 | U90: 62 | V90: 57 | W90: 60 | X90: 37 | Y90: 22 | Z90: 38 | AA90: 67 | AB90: 106 | AC90: 73 | AD90: 68 | AE90: 69 | AF90: 82 | AG90: 23 | AH90: 44 | AI90: 69 | AJ90: 78 | AK90: 124 | AL90: 96 | AM90: 114 | AN90: 89 | AO90: 114 | AP90: 131 | AQ90: 111 | AR90: 52 | AS90: 91 | AT90: 143 | AU90: 84 | AV90: 41 | AW90: 141 | AX90: 120 | AY90: 46 | AZ90: 155 | BA90: 139 | BB90: 95 | BC90: 52 | BD90: 92 | BE90: 102 | BF90: 92 | BG90: 81 | BH90: 78 | BI90: 59 | BJ90: 100 | BK90: 4x | BL90: 4x | BM90: + | BN90: + | BO90: + | BP90: + | BQ90: 16 | BR90: 1 | BS90: 7 | BT90: 12 | BU90: 3
A91: 75 | B91: Ruddy Turnstone | C91: =COUNTIF(E91:BJ91,">0") -> 44 | D91: =COUNTA(BK91:BU91) -> 5 | E91: 2 | F91: 0 | G91: 0 | H91: 0 | I91: 30 | J91: 0 | K91: 20 | L91: 15 | M91: 8 | N91: 0 | O91: 4 | P91: 4 | Q91: 23 | R91: 79 | S91: 2 | T91: 1 | U91: 11 | V91: 0 | W91: 17 | X91: 0 | Y91: 0 | Z91: 1 | AA91: 2 | AB91: 7 | AC91: 0 | AD91: 12 | AE91: 0 | AF91: 24 | AG91: 11 | AH91: 4 | AI91: 16 | AJ91: 27 | AK91: 9 | AL91: 29 | AM91: 11 | AN91: 0 | AO91: 12 | AP91: 2 | AQ91: 31 | AR91: 10 | AS91: 2 | AT91: 1 | AU91: 0 | AV91: 1 | AW91: 3 | AX91: 3 | AY91: 0 | AZ91: 25 | BA91: 1 | BB91: 13 | BC91: 3 | BD91: 2 | BE91: 7 | BF91: 28 | BG91: 0 | BH91: 32 | BI91: 27 | BJ91: 30 | BK91: 1x | BM91: + | BO91: + | BP91: + | BU91: 1
A92: 76 | B92: • Large Sandpiper sp. • | C92: =COUNTIF(E92:BJ92,">0") -> 1 | D92: =COUNTA(BK92:BU92) -> 0 | E92: 0 | F92: 0 | G92: 0 | H92: 0 | I92: 0 | J92: 0 | K92: 0 | L92: 0 | M92: 0 | N92: 0 | O92: 0 | P92: 0 | Q92: 0 | R92: 0 | S92: 0 | T92: 0 | U92: 0 | V92: 0 | W92: 0 | X92: 0 | Y92: 0 | Z92: 0 | AA92: 0 | AB92: 0 | AC92: 0 | AD92: 0 | AE92: 0 | AF92: 0 | AG92: 0 | AH92: 0 | AI92: 0 | AJ92: 0 | AK92: 0 | AL92: 0 | AM92: 3000 | AN92: 0 | AO92: 0 | AP92: 0 | AQ92: 0 | AR92: 0 | AS92: 0 | AT92: 0 | AU92: 0 | AV92: 0 | AW92: 0 | AX92: 0 | AY92: 0 | AZ92: 0 | BA92: 0 | BB92: 0 | BC92: 0 | BD92: 0 | BE92: 0 | BF92: 0 | BG92: 0 | BH92: 0 | BI92: 0
A93: 77 | B93: Red Knot | C93: =COUNTIF(E93:BJ93,">0") -> 26 | D93: =COUNTA(BK93:BU93) -> 2 | E93: 0 | F93: 0 | G93: 0 | H93: 0 | I93: 2 | J93: 0 | K93: 0 | L93: 0 | M93: 0 | N93: 0 | O93: 0 | P93: 0 | Q93: 0 | R93: 0 | S93: 0 | T93: 0 | U93: 0 | V93: 0 | W93: 0 | X93: 0 | Y93: 0 | Z93: 0 | AA93: 0 | AB93: 0 | AC93: 3 | AD93: 0 | AE93: 5 | AF93: 2 | AG93: 4 | AH93: 10 | AI93: 0 | AJ93: 0 | AK93: 4 | AL93: 2 | AM93: 11 | AN93: 5 | AO93: 0 | AP93: 9 | AQ93: 24 | AR93: 40 | AS93: 19 | AT93: 1 | AU93: 61 | AV93: 0 | AW93: 0 | AX93: 29 | AY93: 13 | AZ93: 36 | BA93: 5 | BB93: 0 | BC93: 0 | BD93: 0 | BE93: 24 | BF93: 17 | BG93: 2 | BH93: 4 | BI93: 8 | BJ93: 3 | BL93: 1x | BO93: +
A94: 78 | B94: Stilt Sandpiper | C94: =COUNTIF(E94:BJ94,">0") -> 58 | D94: =COUNTA(BK94:BU94) -> 8 | E94: 1170 | F94: 1336 | G94: 1207 | H94: 582 | I94: 992 | J94: 860 | K94: 2496 | L94: 1231 | M94: 808 | N94: 78 | O94: 113 | P94: 451 | Q94: 785 | R94: 351 | S94: 1262 | T94: 1110 | U94: 448 | V94: 2486 | W94: 395 | X94: 286 | Y94: 5271 | Z94: 270 | AA94: 1116 | AB94: 649 | AC94: 273 | AD94: 405 | AE94: 572 | AF94: 1050 | AG94: 810 | AH94: 930 | AI94: 9961 | AJ94: 451 | AK94: 4708 | AL94: 3105 | AM94: 3128 | AN94: 409 | AO94: 975 | AP94: 1236 | AQ94: 3651 | AR94: 2517 | AS94: 3216 | AT94: 3238 | AU94: 3135 | AV94: 198 | AW94: 1243 | AX94: 630 | AY94: 1113 | AZ94: 1205 | BA94: 90 | BB94: 139 | BC94: 127 | BD94: 430 | BE94: 559 | BF94: 835 | BG94: 27 | BH94: 1560 | BI94: 347 | BJ94: 1093 | BK94: 3x | BL94: 1x | BM94: + | BN94: + | BO94: + | BP94: + | BQ94: 10 | BT94: 51
A95: 79 | B95: Sanderling | C95: =COUNTIF(E95:BJ95,">0") -> 57 | D95: =COUNTA(BK95:BU95) -> 8 | E95: 79 | F95: 239 | G95: 194 | H95: 51 | I95: 114 | J95: 200 | K95: 166 | L95: 471 | M95: 2 | N95: 63 | O95: 5 | P95: 203 | Q95: 299 | R95: 131 | S95: 549 | T95: 235 | U95: 91 | V95: 13 | W95: 31 | X95: 13 | Y95: 36 | Z95: 133 | AA95: 27 | AB95: 16 | AC95: 18 | AD95: 106 | AE95: 19 | AF95: 3 | AG95: 96 | AH95: 133 | AI95: 381 | AJ95: 912 | AK95: 913 | AL95: 204 | AM95: 281 | AN95: 270 | AO95: 101 | AP95: 400 | AQ95: 99 | AR95: 118 | AS95: 121 | AT95: 84 | AU95: 27 | AV95: 133 | AW95: 27 | AX95: 32 | AY95: 56 | AZ95: 647 | BA95: 66 | BB95: 213 | BC95: 18 | BD95: 63 | BE95: 65 | BF95: 96 | BG95: 0 | BH95: 28 | BI95: 28 | BJ95: 117 | BK95: 2x | BL95: 1x | BM95: + | BN95: + | BP95: + | BQ95: 2 | BR95: 1 | BS95: 10
A96: 80 | B96: Dunlin | C96: =COUNTIF(E96:BJ96,">0") -> 30 | D96: =COUNTA(BK96:BU96) -> 2 | E96: 0 | F96: 0 | G96: 0 | H96: 1 | I96: 2 | J96: 1 | K96: 1 | L96: 0 | M96: 0 | N96: 0 | O96: 0 | P96: 0 | Q96: 2 | R96: 0 | S96: 0 | T96: 4 | U96: 2 | V96: 1 | W96: 0 | X96: 0 | Y96: 7 | Z96: 0 | AA96: 0 | AB96: 0 | AC96: 0 | AD96: 0 | AE96: 0 | AF96: 0 | AG96: 0 | AH96: 0 | AI96: 2 | AJ96: 0 | AK96: 1 | AL96: 3 | AM96: 2 | AN96: 1 | AO96: 1 | AP96: 8 | AQ96: 10 | AR96: 2 | AS96: 5 | AT96: 3 | AU96: 3 | AV96: 1 | AW96: 0 | AX96: 3 | AY96: 0 | AZ96: 2 | BA96: 1 | BB96: 1 | BC96: 0 | BD96: 1 | BE96: 3 | BF96: 0 | BG96: 0 | BH96: 6 | BI96: 2 | BJ96: 0 | BK96: 1x | BP96: +
A97: 81 | B97: • Peep sp. • | C97: =COUNTIF(E97:BJ97,">0") -> 37 | D97: =COUNTA(BK97:BU97) -> 0 | E97: 1069 | F97: 1879 | G97: 3136 | H97: 2070 | I97: 530 | J97: 493 | K97: 1139 | L97: 157 | M97: 0 | N97: 0 | O97: 140 | P97: 55 | Q97: 320 | R97: 41 | S97: 110 | T97: 88 | U97: 479 | V97: 3550 | W97: 78 | X97: 141 | Y97: 805 | Z97: 104 | AA97: 2952 | AB97: 2 | AC97: 7048 | AD97: 1665 | AE97: 420 | AF97: 7013 | AG97: 130 | AH97: 472 | AI97: 19764 | AJ97: 226 | AK97: 3998 | AL97: 2303 | AM97: 2263 | AN97: 1005 | AO97: 34 | AP97: 0 | AQ97: 820 | AR97: 500 | AS97: 0 | AT97: 0 | AU97: 0 | AV97: 0 | AW97: 0 | AX97: 0 | AY97: 0 | AZ97: 0 | BA97: 0 | BB97: 0 | BC97: 0 | BD97: 0 | BE97: 0 | BF97: 0 | BG97: 0 | BH97: 0 | BI97: 0
A98: 82 | B98: Baird's Sandpiper | C98: =COUNTIF(E98:BJ98,">0") -> 58 | D98: =COUNTA(BK98:BU98) -> 10 | E98: 401 | F98: 97 | G98: 491 | H98: 43 | I98: 39 | J98: 51 | K98: 33 | L98: 33 | M98: 11 | N98: 4 | O98: 42 | P98: 8 | Q98: 59 | R98: 57 | S98: 7 | T98: 26 | U98: 78 | V98: 24 | W98: 49 | X98: 18 | Y98: 47 | Z98: 80 | AA98: 446 | AB98: 506 | AC98: 213 | AD98: 211 | AE98: 13 | AF98: 60 | AG98: 8 | AH98: 32 | AI98: 326 | AJ98: 17 | AK98: 132 | AL98: 104 | AM98: 35 | AN98: 32 | AO98: 65 | AP98: 176 | AQ98: 254 | AR98: 29 | AS98: 37 | AT98: 129 | AU98: 118 | AV98: 300 | AW98: 410 | AX98: 171 | AY98: 57 | AZ98: 928 | BA98: 105 | BB98: 293 | BC98: 132 | BD98: 48 | BE98: 187 | BF98: 35 | BG98: 575 | BH98: 1210 | BI98: 14 | BJ98: 207 | BK98: 3x | BL98: 2x | BM98: + | BN98: + | BP98: + | BQ98: 1 | BR98: 60 | BS98: 15 | BT98: 20 | BU98: 12
A99: 83 | B99: Least Sandpiper | C99: =COUNTIF(E99:BJ99,">0") -> 56 | D99: =COUNTA(BK99:BU99) -> 8 | E99: 53 | F99: 153 | G99: 4 | H99: 27 | I99: 15 | J99: 30 | K99: 39 | L99: 23 | M99: 3 | N99: 0 | O99: 44 | P99: 19 | Q99: 30 | R99: 14 | S99: 1 | T99: 3 | U99: 287 | V99: 93 | W99: 0 | X99: 26 | Y99: 22 | Z99: 25 | AA99: 6 | AB99: 118 | AC99: 234 | AD99: 11 | AE99: 9 | AF99: 17 | AG99: 8 | AH99: 32 | AI99: 38 | AJ99: 6 | AK99: 7 | AL99: 111 | AM99: 40 | AN99: 18 | AO99: 42 | AP99: 14 | AQ99: 140 | AR99: 32 | AS99: 6 | AT99: 146 | AU99: 21 | AV99: 38 | AW99: 42 | AX99: 213 | AY99: 6 | AZ99: 39 | BA99: 122 | BB99: 52 | BC99: 28 | BD99: 20 | BE99: 531 | BF99: 17 | BG99: 68 | BH99: 41 | BI99: 4 | BJ99: 117 | BK99: 2x | BL99: 3x | BM99: + | BP99: + | BR99: 15 | BS99: 54 | BT99: 8 | BU99: 24
A100: 84 | B100: White-rumped Sandpiper | C100: =COUNTIF(E100:BJ100,">0") -> 56 | D100: =COUNTA(BK100:BU100) -> 6 | E100: 41 | F100: 27 | G100: 174 | H100: 70 | I100: 108 | J100: 108 | K100: 4 | L100: 31 | M100: 46 | N100: 21 | O100: 19 | P100: 2 | Q100: 63 | R100: 25 | S100: 8 | T100: 23 | U100: 39 | V100: 39 | W100: 7 | X100: 11 | Y100: 21 | Z100: 20 | AA100: 5 | AB100: 6 | AC100: 0 | AD100: 23 | AE100: 2 | AF100: 32 | AG100: 6 | AH100: 15 | AI100: 787 | AJ100: 19 | AK100: 59 | AL100: 13 | AM100: 888 | AN100: 14 | AO100: 153 | AP100: 71 | AQ100: 202 | AR100: 621 | AS100: 494 | AT100: 122 | AU100: 133 | AV100: 245 | AW100: 68 | AX100: 274 | AY100: 48 | AZ100: 213 | BA100: 13 | BB100: 103 | BC100: 13 | BD100: 15 | BE100: 7 | BF100: 283 | BG100: 0 | BH100: 368 | BI100: 17 | BJ100: 55 | BK100: 4x | BP100: + | BR100: 2 | BS100: 1 | BT100: 17 | BU100: 25
A101: 85 | B101: Buff-breasted Sandpiper | C101: =COUNTIF(E101:BJ101,">0") -> 27 | D101: =COUNTA(BK101:BU101) -> 1 | E101: 0 | F101: 0 | G101: 0 | H101: 0 | I101: 0 | J101: 0 | K101: 0 | L101: 25 | M101: 0 | N101: 0 | O101: 0 | P101: 0 | Q101: 0 | R101: 10 | S101: 0 | T101: 0 | U101: 19 | V101: 0 | W101: 0 | X101: 0 | Y101: 0 | Z101: 0 | AA101: 95 | AB101: 0 | AC101: 57 | AD101: 19 | AE101: 0 | AF101: 0 | AG101: 0 | AH101: 0 | AI101: 10 | AJ101: 0 | AK101: 0 | AL101: 70 | AM101: 4 | AN101: 0 | AO101: 0 | AP101: 22 | AQ101: 0 | AR101: 17 | AS101: 222 | AT101: 1 | AU101: 49 | AV101: 7 | AW101: 170 | AX101: 7 | AY101: 4 | AZ101: 5 | BA101: 7 | BB101: 0 | BC101: 25 | BD101: 6 | BE101: 0 | BF101: 1 | BG101: 4 | BH101: 107 | BI101: 25 | BJ101: 137 | BK101: 1x
A102: 86 | B102: Pectoral Sandpiper | C102: =COUNTIF(E102:BJ102,">0") -> 57 | D102: =COUNTA(BK102:BU102) -> 10 | E102: 15 | F102: 8 | G102: 131 | H102: 44 | I102: 16 | J102: 89 | K102: 9 | L102: 35 | M102: 6 | N102: 2 | O102: 80 | P102: 13 | Q102: 19 | R102: 21 | S102: 8 | T102: 0 | U102: 36 | V102: 297 | W102: 7 | X102: 6 | Y102: 3 | Z102: 3 | AA102: 68 | AB102: 24 | AC102: 66 | AD102: 31 | AE102: 4 | AF102: 50 | AG102: 3 | AH102: 19 | AI102: 264 | AJ102: 10 | AK102: 10 | AL102: 119 | AM102: 22 | AN102: 27 | AO102: 95 | AP102: 25 | AQ102: 98 | AR102: 44 | AS102: 63 | AT102: 23 | AU102: 58 | AV102: 4 | AW102: 119 | AX102: 695 | AY102: 248 | AZ102: 201 | BA102: 23 | BB102: 60 | BC102: 17 | BD102: 75 | BE102: 633 | BF102: 103 | BG102: 500 | BH102: 135 | BI102: 72 | BJ102: 82 | BK102: 4x | BL102: 4x | BM102: + | BN102: + | BO102: + | BP102: + | BR102: 17 | BS102: 34 | BT102: 22 | BU102: 14
A103: 87 | B103: Semipalmated Sandpiper | C103: =COUNTIF(E103:BJ103,">0") -> 58 | D103: =COUNTA(BK103:BU103) -> 9 | E103: 244 | F103: 2491 | G103: 1489 | H103: 667 | I103: 1113 | J103: 734 | K103: 474 | L103: 269 | M103: 38 | N103: 175 | O103: 56 | P103: 142 | Q103: 759 | R103: 368 | S103: 328 | T103: 371 | U103: 298 | V103: 290 | W103: 305 | X103: 102 | Y103: 641 | Z103: 785 | AA103: 139 | AB103: 64 | AC103: 1363 | AD103: 1161 | AE103: 54 | AF103: 457 | AG103: 57 | AH103: 285 | AI103: 2777 | AJ103: 174 | AK103: 426 | AL103: 761 | AM103: 1117 | AN103: 184 | AO103: 617 | AP103: 2336 | AQ103: 578 | AR103: 1721 | AS103: 263 | AT103: 234 | AU103: 411 | AV103: 1104 | AW103: 346 | AX103: 1621 | AY103: 107 | AZ103: 1337 | BA103: 358 | BB103: 472 | BC103: 352 | BD103: 138 | BE103: 239 | BF103: 1287 | BG103: 28 | BH103: 154 | BI103: 236 | BJ103: 529 | BK103: 3x | BL103: 2x | BM103: + | BN103: + | BP103: + | BQ103: 50 | BS103: 22 | BT103: 86
A104: 88 | B104: Western Sandpiper | C104: =COUNTIF(E104:BJ104,">0") -> 4 | D104: =COUNTA(BK104:BU104) -> 0 | E104: 0 | F104: 0 | G104: 0 | H104: 0 | I104: 2 | J104: 0 | K104: 0 | L104: 1 | M104: 0 | N104: 0 | O104: 0 | P104: 0 | Q104: 0 | R104: 2 | S104: 0 | T104: 0 | U104: 0 | V104: 0 | W104: 0 | X104: 0 | Y104: 0 | Z104: 0 | AA104: 0 | AB104: 0 | AC104: 0 | AD104: 0 | AE104: 0 | AF104: 0 | AG104: 0 | AH104: 0 | AI104: 0 | AJ104: 0 | AK104: 0 | AL104: 0 | AM104: 3 | AN104: 0 | AO104: 0 | AP104: 0 | AQ104: 0 | AR104: 0 | AS104: 0 | AT104: 0 | AU104: 0 | AV104: 0 | AW104: 0 | AX104: 0 | AY104: 0 | AZ104: 0 | BA104: 0 | BB104: 0 | BC104: 0 | BD104: 0 | BE104: 0 | BF104: 0 | BG104: 0 | BH104: 0 | BI104: 0 | BJ104: 0
A105: 89 | B105: • Dowitcher sp. • | C105: =COUNTIF(E105:BJ105,">0") -> 50 | D105: =COUNTA(BK105:BU105) -> 5 | E105: 26 | F105: 326 | G105: 110 | H105: 527 | I105: 14 | J105: 11 | K105: 11 | L105: 0 | M105: 0 | N105: 0 | O105: 63 | P105: 6 | Q105: 8 | R105: 6 | S105: 40 | T105: 0 | U105: 33 | V105: 23 | W105: 8 | X105: 0 | Y105: 0 | Z105: 23 | AA105: 26 | AB105: 3 | AC105: 756 | AD105: 14 | AE105: 25 | AF105: 40 | AG105: 59 | AH105: 26 | AI105: 1 | AJ105: 0 | AK105: 1 | AL105: 3 | AM105: 2 | AN105: 503 | AO105: 6 | AP105: 5 | AQ105: 0 | AR105: 79 | AS105: 129 | AT105: 4 | AU105: 16 | AV105: 4 | AW105: 21 | AX105: 17 | AY105: 32 | AZ105: 34 | BA105: 25 | BB105: 62 | BC105: 7 | BD105: 31 | BE105: 279 | BF105: 4 | BG105: 337 | BH105: 40 | BI105: 4 | BJ105: 7 | BK105: 2x | BL105: 3x | BN105: + | BO105: + | BS105: 19
A106: 90 | B106: Short-billed Dowitcher | C106: =COUNTIF(E106:BJ106,">0") -> 24 | D106: =COUNTA(BK106:BU106) -> 0 | E106: 10 | F106: 12 | G106: 0 | H106: 0 | I106: 0 | J106: 0 | K106: 0 | L106: 45 | M106: 0 | N106: 0 | O106: 1 | P106: 1 | Q106: 1 | R106: 0 | S106: 1 | T106: 0 | U106: 11 | V106: 10 | W106: 0 | X106: 31 | Y106: 105 | Z106: 0 | AA106: 37 | AB106: 1 | AC106: 0 | AD106: 3 | AE106: 174 | AF106: 0 | AG106: 0 | AH106: 0 | AI106: 31 | AJ106: 0 | AK106: 2 | AL106: 1 | AM106: 13 | AN106: 1 | AO106: 6 | AP106: 0 | AQ106: 155 | AR106: 2 | AS106: 0 | AT106: 1 | AU106: 0 | AV106: 0 | AW106: 0 | AX106: 0 | AY106: 0 | AZ106: 0 | BA106: 0 | BB106: 0 | BC106: 0 | BD106: 0 | BE106: 0 | BF106: 0 | BG106: 0 | BH106: 0 | BI106: 0 | BJ106: 0
A107: 91 | B107: Long-billed Dowitcher | C107: =COUNTIF(E107:BJ107,">0") -> 24 | D107: =COUNTA(BK107:BU107) -> 0 | E107: 7 | F107: 115 | G107: 64 | H107: 0 | I107: 151 | J107: 2 | K107: 16 | L107: 0 | M107: 28 | N107: 0 | O107: 20 | P107: 6 | Q107: 0 | R107: 0 | S107: 9 | T107: 1 | U107: 21 | V107: 1 | W107: 0 | X107: 15 | Y107: 0 | Z107: 8 | AA107: 13 | AB107: 0 | AC107: 0 | AD107: 0 | AE107: 0 | AF107: 1 | AG107: 0 | AH107: 0 | AI107: 0 | AJ107: 2 | AK107: 5 | AL107: 7 | AM107: 14 | AN107: 0 | AO107: 1 | AP107: 0 | AQ107: 6 | AR107: 3 | AS107: 0 | AT107: 0 | AU107: 0 | AV107: 0 | AW107: 0 | AX107: 0 | AY107: 0 | AZ107: 0 | BA107: 0 | BB107: 0 | BC107: 0 | BD107: 0 | BE107: 0 | BF107: 0 | BG107: 0 | BH107: 0 | BI107: 0 | BJ107: 0
...

Sheet Corrected Counts
B1: The Historical Record of the Saskatoon Nature Society Spring Bird Count, Counts Corrected for Effort - 1985 - 2025
B3: NOTE - To reduce fatigue, observers were historically given the option, for selected species, of counting only to 25 and recording flocks of 50 or more thereafter. From 1968 to 1981 there were short lists of species to be fully counted. Since then, observers have been asked to fully count an ever-increasing list of species. The under-count is less significant than it may appear because any species with less than 25 individuals counted per sector, has been fully counted, and regardless of the options, some sector leaders chose to fully count. The cells have been color-coded to give an idea of the extent of the under-counting. | R3: There was no significant under-reporting | AA3: The count was under-reported in three or more sectors
R5: The count was under-reported in one sector | AA5: The sector counts are unavailable, but are assumed to be under-reported if the count is >25 and the counts immediately before or after were under-reported
R7: The count was under-reported in two sectors
Q9: 1968 | R9: Species fully counted - Mallard, American Coot, Willet, Marbled Godwit, Franklin's Gull,Black Tern, Rock Pigeon, Eastern Kingbird, Western Kingbird, Black-billed Magpie, American Crow, Mountain Bluebird, Loggerhead Shrike, Yellow Warbler,
R10: Western Meadowlark, Yellow-headed Blackbird, Red-winged Blackbird and Clay-colored Sparrow. All others were counted to 25 in each sector.
Q11: 1969-81 | R11: Species fully counted - Mountain Bluebird, American Crow, Eastern Kingbird, Western Kingbird, Black-billed Magpie, Western Meadowlark, American Robin, Short-eared Owl and Loggerhead Shrike.
R12: All other species were counted only to 25 in each sector. In all years, some sector leaders fully counted in their sector regardless of the options.
A15: Current Taxonomic Order | B15: Species | C15: Long-term Average | D15: 2025 as %LTA | E15: 2021-25 as %LTA | F15: 2025 | G15: 2024 | H15: 2023 | I15: 2022 | J15: 2021 | K15: 2020 | L15: 2019 | M15: 2018 | N15: 2017 | O15: 2016 | P15: 2015 | Q15: 2014 | R15: 2013 | S15: 2012 | T15: 2011 | U15: 2010 | V15: 2009 | W15: 2008 | X15: 2007 | Y15: 2006 | Z15: 2005 | AA15: 2004 | AB15: 2003 | AC15: 2002 | AD15: 2001 | AE15: 2000 | AF15: 1999 | AG15: 1998 | AH15: 1997 | AI15: 1996 | AJ15: 1995 | AK15: 1994 | AL15: 1993 | AM15: 1992 | AN15: 1991 | AO15: 1990 | AP15: 1989 | AQ15: 1988 | AR15: 1987 | AS15: 1986 | AT15: 1985
B16: Hours of effort | C16: =AVERAGE(F16:AT16) -> 186.89446 | F16: 211 | G16: 195 | H16: 245 | I16: 239 | J16: 287 | K16: 276 | L16: 200.56667 | M16: 182.477 | N16: 202.9 | O16: 184.46 | P16: 181.85 | Q16: 184 | R16: 184.88 | S16: 201.54 | T16: 176 | U16: 166 | V16: 181.21 | W16: 183.752 | X16: 206.31 | Y16: 186.52 | Z16: 176.83 | AA16: 198.9902 | AB16: 222.267 | AC16: 216.83 | AD16: 179.62 | AE16: 204.77 | AF16: 161.7 | AG16: 150.9 | AH16: 102.3 | AI16: 137 | AJ16: 136 | AK16: 190 | AL16: 197 | AM16: 218 | AN16: 183 | AO16: 148 | AP16: 177 | AQ16: 172 | AR16: 136 | AS16: 124 | AT16: 155
A17: 1 | B17: • Goose sp. • | C17: =AVERAGE(F17:AT17) -> 2.6767357 | D17: =IF(C17=0,"",F17/C17*100) -> 0 | E17: =IF(C17=0,"",AVERAGE(F17:J17)/C17*100) -> 0 | F17: ='Raw counts'!E17*$C$16/F$16 -> 0 | G17: ='Raw counts'!F17*$C$16/G$16 -> 0 | H17: ='Raw counts'!G17*$C$16/H$16 -> 0 | I17: ='Raw counts'!H17*$C$16/I$16 -> 0 | J17: ='Raw counts'!I17*$C$16/J$16 -> 0 | K17: ='Raw counts'!J17*$C$16/K$16 -> 0 | L17: ='Raw counts'!K17*$C$16/L$16 -> 0 | M17: ='Raw counts'!L17*$C$16/M$16 -> 0 | ... AT17: ='Raw counts'!AS17*$C$16/AT$16 -> 0
A18: 2 | B18: Snow Goose | C18: =AVERAGE(F18:AT18) -> 19.507103 | D18: =IF(C18=0,"",F18/C18*100) -> 122.59844 | E18: =IF(C18=0,"",AVERAGE(F18:J18)/C18*100) -> 70.707395 | F18: ='Raw counts'!E18*$C$16/F$16 -> 23.915405 | G18: ='Raw counts'!F18*$C$16/G$16 -> 20.127096 | H18: ='Raw counts'!G18*$C$16/H$16 -> 3.8141727 | I18: ='Raw counts'!H18*$C$16/I$16 -> 13.293748 | J18: ='Raw counts'!I18*$C$16/J$16 -> 7.8144025 | K18: ='Raw counts'!J18*$C$16/K$16 -> 20.314615 | L18: ='Raw counts'!K18*$C$16/L$16 -> 20.500306 | M18: ='Raw counts'!L18*$C$16/M$16 -> 69.646165 | ... AT18: ='Raw counts'!AS18*$C$16/AT$16 -> 8.440395
A19: 3 | B19: Ross's Goose | C19: =AVERAGE(F19:AT19) -> 5.656579 | D19: =IF(C19=0,"",F19/C19*100) -> 0 | E19: =IF(C19=0,"",AVERAGE(F19:J19)/C19*100) -> 0 | F19: ='Raw counts'!E19*$C$16/F$16 -> 0 | G19: ='Raw counts'!F19*$C$16/G$16 -> 0 | H19: ='Raw counts'!G19*$C$16/H$16 -> 0 | I19: ='Raw counts'!H19*$C$16/I$16 -> 0 | J19: ='Raw counts'!I19*$C$16/J$16 -> 0 | K19: ='Raw counts'!J19*$C$16/K$16 -> 0.67715384 | L19: ='Raw counts'!K19*$C$16/L$16 -> 0 | M19: ='Raw counts'!L19*$C$16/M$16 -> 114.71133 | ... AT19: ='Raw counts'!AS19*$C$16/AT$16 -> 0
A20: 4 | B20: Greater White-fronted Goose | C20: =AVERAGE(F20:AT20) -> 7.454994 | D20: =IF(C20=0,"",F20/C20*100) -> 47.525497 | E20: =IF(C20=0,"",AVERAGE(F20:J20)/C20*100) -> 19.241406 | F20: ='Raw counts'!E20*$C$16/F$16 -> 3.5430229 | G20: ='Raw counts'!F20*$C$16/G$16 -> 0 | H20: ='Raw counts'!G20*$C$16/H$16 -> 0.76283453 | I20: ='Raw counts'!H20*$C$16/I$16 -> 1.5639704 | J20: ='Raw counts'!I20*$C$16/J$16 -> 1.3024004 | K20: ='Raw counts'!J20*$C$16/K$16 -> 0.67715384 | L20: ='Raw counts'!K20*$C$16/L$16 -> 1.8636642 | M20: ='Raw counts'!L20*$C$16/M$16 -> 0 | ... AT20: ='Raw counts'!AS20*$C$16/AT$16 -> 13.263478
A21: 5 | B21: Cackling Goose | C21: =AVERAGE(F21:AT21) -> 0.1255029 | D21: =IF(C21=0,"",F21/C21*100) -> 0 | E21: =IF(C21=0,"",AVERAGE(F21:J21)/C21*100) -> 415.09811 | F21: ='Raw counts'!E21*$C$16/F$16 -> 0 | G21: ='Raw counts'!F21*$C$16/G$16 -> 0 | H21: ='Raw counts'!G21*$C$16/H$16 -> 0 | I21: ='Raw counts'!H21*$C$16/I$16 -> 0 | J21: ='Raw counts'!I21*$C$16/J$16 -> 2.6048008 | K21: ='Raw counts'!J21*$C$16/K$16 -> 0.67715384 | L21: ='Raw counts'!K21*$C$16/L$16 -> 1.8636642 | M21: ='Raw counts'!L21*$C$16/M$16 -> 0 | ... AT21: ='Raw counts'!AS21*$C$16/AT$16 -> 0
A22: 6 | B22: Canada Goose | C22: =AVERAGE(F22:AT22) -> 882.51076 | D22: =IF(C22=0,"",F22/C22*100) -> 109.90263 | E22: =IF(C22=0,"",AVERAGE(F22:J22)/C22*100) -> 127.5503 | F22: ='Raw counts'!E22*$C$16/F$16 -> 969.90253 | G22: ='Raw counts'!F22*$C$16/G$16 -> 1171.2053 | H22: ='Raw counts'!G22*$C$16/H$16 -> 742.238 | I22: ='Raw counts'!H22*$C$16/I$16 -> 1409.9193 | J22: ='Raw counts'!I22*$C$16/J$16 -> 1334.9604 | K22: ='Raw counts'!J22*$C$16/K$16 -> 1839.827 | L22: ='Raw counts'!K22*$C$16/L$16 -> 1383.7707 | M22: ='Raw counts'!L22*$C$16/M$16 -> 1007.821 | ... AT22: ='Raw counts'!AS22*$C$16/AT$16 -> 253.21185
A23: 7 | B23: Trumpeter Swan | C23: =AVERAGE(F23:AT23) -> 0.044851249 | D23: =IF(C23=0,"",F23/C23*100) -> 0 | E23: =IF(C23=0,"",AVERAGE(F23:J23)/C23*100) -> 348.70163 | F23: ='Raw counts'!E23*$C$16/F$16 -> 0 | G23: ='Raw counts'!F23*$C$16/G$16 -> 0 | H23: ='Raw counts'!G23*$C$16/H$16 -> 0 | I23: ='Raw counts'!H23*$C$16/I$16 -> 0.78198519 | J23: ='Raw counts'!I23*$C$16/J$16 -> 0 | K23: ='Raw counts'!J23*$C$16/K$16 -> 0 | L23: ='Raw counts'!K23*$C$16/L$16 -> 0 | M23: ='Raw counts'!L23*$C$16/M$16 -> 0 | ... AT23: ='Raw counts'!AS23*$C$16/AT$16 -> 0
A24: 8 | B24: Tundra Swan | C24: =AVERAGE(F24:AT24) -> 10.278429 | D24: =IF(C24=0,"",F24/C24*100) -> 0 | E24: =IF(C24=0,"",AVERAGE(F24:J24)/C24*100) -> 0 | F24: ='Raw counts'!E24*$C$16/F$16 -> 0 | G24: ='Raw counts'!F24*$C$16/G$16 -> 0 | H24: ='Raw counts'!G24*$C$16/H$16 -> 0 | I24: ='Raw counts'!H24*$C$16/I$16 -> 0 | J24: ='Raw counts'!I24*$C$16/J$16 -> 0 | K24: ='Raw counts'!J24*$C$16/K$16 -> 0 | L24: ='Raw counts'!K24*$C$16/L$16 -> 0 | M24: ='Raw counts'!L24*$C$16/M$16 -> 0 | ... AT24: ='Raw counts'!AS24*$C$16/AT$16 -> 0
A25: 9 | B25: • Duck sp. • | C25: =AVERAGE(F25:AT25) -> 173.72358 | D25: =IF(C25=0,"",F25/C25*100) -> 653.13706 | E25: =IF(C25=0,"",AVERAGE(F25:J25)/C25*100) -> 218.16336 | F25: ='Raw counts'!E25*$C$16/F$16 -> 1134.6531 | G25: ='Raw counts'!F25*$C$16/G$16 -> 4.7921656 | H25: ='Raw counts'!G25*$C$16/H$16 -> 457.70072 | I25: ='Raw counts'!H25*$C$16/I$16 -> 1.5639704 | J25: ='Raw counts'!I25*$C$16/J$16 -> 296.2961 | K25: ='Raw counts'!J25*$C$16/K$16 -> 247.83831 | L25: ='Raw counts'!K25*$C$16/L$16 -> 2.7954963 | M25: ='Raw counts'!L25*$C$16/M$16 -> 76.815623 | ... AT25: ='Raw counts'!AS25*$C$16/AT$16 -> 0
A26: 10 | B26: Wood Duck | C26: =AVERAGE(F26:AT26) -> 0.92013664 | D26: =IF(C26=0,"",F26/C26*100) -> 96.2635 | E26: =IF(C26=0,"",AVERAGE(F26:J26)/C26*100) -> 190.73381 | F26: ='Raw counts'!E26*$C$16/F$16 -> 0.88575574 | G26: ='Raw counts'!F26*$C$16/G$16 -> 1.9168663 | H26: ='Raw counts'!G26*$C$16/H$16 -> 0.76283453 | I26: ='Raw counts'!H26*$C$16/I$16 -> 0 | J26: ='Raw counts'!I26*$C$16/J$16 -> 5.2096017 | K26: ='Raw counts'!J26*$C$16/K$16 -> 4.062923 | L26: ='Raw counts'!K26*$C$16/L$16 -> 6.5228248 | M26: ='Raw counts'!L26*$C$16/M$16 -> 0 | ... AT26: ='Raw counts'!AS26*$C$16/AT$16 -> 0
A27: 11 | B27: Blue-winged Teal | C27: =AVERAGE(F27:AT27) -> 421.11306 | D27: =IF(C27=0,"",F27/C27*100) -> 121.99535 | E27: =IF(C27=0,"",AVERAGE(F27:J27)/C27*100) -> 95.047998 | F27: ='Raw counts'!E27*$C$16/F$16 -> 513.73833 | G27: ='Raw counts'!F27*$C$16/G$16 -> 545.34845 | H27: ='Raw counts'!G27*$C$16/H$16 -> 342.5127 | I27: ='Raw counts'!H27*$C$16/I$16 -> 291.68048 | J27: ='Raw counts'!I27*$C$16/J$16 -> 308.0177 | K27: ='Raw counts'!J27*$C$16/K$16 -> 367.01738 | L27: ='Raw counts'!K27*$C$16/L$16 -> 427.71094 | M27: ='Raw counts'!L27*$C$16/M$16 -> 710.80057 | ... AT27: ='Raw counts'!AS27*$C$16/AT$16 -> 306.26576
A28: 12 | B28: Cinnamon Teal | C28: =AVERAGE(F28:AT28) -> 1.580816 | D28: =IF(C28=0,"",F28/C28*100) -> 56.031551 | E28: =IF(C28=0,"",AVERAGE(F28:J28)/C28*100) -> 21.099747 | F28: ='Raw counts'!E28*$C$16/F$16 -> 0.88575574 | G28: ='Raw counts'!F28*$C$16/G$16 -> 0 | H28: ='Raw counts'!G28*$C$16/H$16 -> 0 | I28: ='Raw counts'!H28*$C$16/I$16 -> 0.78198519 | J28: ='Raw counts'!I28*$C$16/J$16 -> 0 | K28: ='Raw counts'!J28*$C$16/K$16 -> 0.67715384 | L28: ='Raw counts'!K28*$C$16/L$16 -> 0 | M28: ='Raw counts'!L28*$C$16/M$16 -> 1.0242083 | ... AT28: ='Raw counts'!AS28*$C$16/AT$16 -> 8.440395
... A324: 309 | B324: Indigo Bunting | C324: =AVERAGE(F324:AT324) -> 0.015882932 | D324: =IF(C324=0,"",F324/C324*100) -> 0 | E324: =IF(C324=0,"",AVERAGE(F324:J324)/C324*100) -> 820 | F324: ='Raw counts'!E324*$C$16/F$16 -> 0 | G324: ='Raw counts'!F324*$C$16/G$16 -> 0 | H324: ='Raw counts'!G324*$C$16/H$16 -> 0 | I324: ='Raw counts'!H324*$C$16/I$16 -> 0 | J324: ='Raw counts'!I324*$C$16/J$16 -> 0.65120021 | K324: ='Raw counts'!J324*$C$16/K$16 -> 0 | L324: ='Raw counts'!K324*$C$16/L$16 -> 0 | M324: ='Raw counts'!L324*$C$16/M$16 -> 0 | ... AT324: ='Raw counts'!AS324*$C$16/AT$16 -> 0
B325: Total Birds | C325: =AVERAGE(F325:AT325) -> 33872.962 | D325: =IF(C325=0,"",F325/C325*100) -> 92.68635 | E325: =IF(C325=0,"",AVERAGE(F325:J325)/C325*100) -> 83.504042 | F325: ='Raw counts'!E325*$C$16/F$16 -> 31395.612 | G325: ='Raw counts'!F325*$C$16/G$16 -> 38787.789 | H325: ='Raw counts'!G325*$C$16/H$16 -> 23975.126 | I325: ='Raw counts'!H325*$C$16/I$16 -> 22493.022 | J325: ='Raw counts'!I325*$C$16/J$16 -> 24774.912 | K325: ='Raw counts'!J325*$C$16/K$16 -> 28762.787 | L325: ='Raw counts'!K325*$C$16/L$16 -> 30391.704 | M325: ='Raw counts'!L325*$C$16/M$16 -> 30958.745 | ... AT325: ='Raw counts'!AS325*$C$16/AT$16 -> 43507.825

Sheet #Sectors under-reported
B1: The Historical Record of the Saskatoon Nature Society Spring Bird Count, number of sectors under-counted - 1968-2025
B3: NOTE - To reduce fatigue, observers were historically given the option, for selected species, of counting only to 25 and recording flocks of 50 or more thereafter. From 1968 to 1981 there were short lists of species to be fully counted. Since then, observers have been asked to fully count an ever-increasing list of species. The under-count is less significant than it may appear because any species with less than 25 individuals counted per sector, has been fully counted, and regardless of the options, some sector leaders chose to fully count. The cells have been color-coded to give an idea of the extent of the under-counting. | Z3: There was no significant under-reporting | AL3: The count was under-reported in three or more sectors
Z5: The count was under-reported in one sector | AL5: The sector counts are unavailable, but are assumed to be under-reported if the count is >25 and the counts immediately before or after were under-reported
Z7: The count was under-reported in two sectors
Y9: 1968 | Z9: Species fully counted - Mallard, American Coot, Willet, Marbled Godwit, Franklin's Gull,Black Tern, Rock Pigeon, Eastern Kingbird, Western Kingbird, Black-billed Magpie, American Crow, Mountain Bluebird, Loggerhead Shrike, Yellow Warbler, Western Meadowlark, Yellow-headed Blackbird, Red-winged Blackbird and Clay-colored Sparrow. All others were counted to 25 in each sector.
Y10: 1969-81 | Z10: Species fully counted - Mountain Bluebird, American Crow, Eastern Kingbird, Western Kingbird, Black-billed Magpie, Western Meadowlark, American Robin, Short-eared Owl and Loggerhead Shrike. All other species were counted only to 25 in each sector
Z11: In all years, some sector leaders fully counted in their sector regardless of the options. Today, the option to under-count only applies to Canada Goose, Blue-winged Teal, Northern Shoveller, GadwallAmerican Wigeon and Mallard.
A14: Current Taxonomic Order | B14: Species | C14: 2025 | D14: 2024 | E14: 2023 | F14: 2022 | G14: 2021 | H14: 2020 | I14: 2019 | J14: 2018 | K14: 2017 | L14: 2016 | M14: 2015 | N14: 2014 | O14: 2013 | P14: 2012 | Q14: 2011 | R14: 2010 | S14: 2009 | T14: 2008 | U14: 2007 | V14: 2006 | W14: 2005 | X14: 2004 | Y14: 2003 | Z14: 2002 | AA14: 2001 | AB14: 2000 | AC14: 1999 | AD14: 1998 | AE14: 1997 | AF14: 1996 | AG14: 1995 | AH14: 1994 | AI14: 1993 | AJ14: 1992 | AK14: 1991 | AL14: 1990 | AM14: 1989 | AN14: 1988 | AO14: 1987 | AP14: 1986 | AQ14: 1985 | AR14: 1984 | AS14: 1983 | AT14: 1982 | AU14: 1981 | AV14: 1980 | AW14: 1979 | AX14: 1978 | AY14: 1977 | AZ14: 1976 | BA14: 1975 | BB14: 1974 | BC14: 1973 | BD14: 1972 | BE14: 1971 | BF14: 1970 | BG14: 1969 | BH14: 1968
A15: 1 | B15: • Goose sp. •
A16: 2 | B16: Snow Goose
A17: 3 | B17: Ross's Goose
A18: 4 | B18: Greater White-fronted Goose
A19: 5 | B19: Cackling Goose
A20: 6 | B20: Canada Goose | C20: 1 | D20: 1 | F20: 1 | G20: 3 | H20: 1 | I20: 2 | J20: 3 | K20: 3 | L20: 3 | M20: 5 | N20: 2 | O20: 3 | P20: 2 | Q20: 2 | R20: 3 | S20: 6 | T20: 3 | U20: 5 | V20: 5 | W20: 2 | X20: 4 | Y20: 4 | Z20: 3 | AA20: 5 | AB20: 6 | AC20: 4 | AD20: 4 | AE20: 3 | AF20: 5 | AG20: 3 | AH20: 2 | AI20: 1 | AJ20: 2 | AK20: 5 | AL20: 3 | AP20: 2 | AQ20: ? | AU20: 1 | AZ20: 1
A21: 7 | B21: Trumpeter Swan
A22: 8 | B22: Tundra Swan | BC22: 1
A23: 9 | B23: • Duck sp. •
A24: 10 | B24: Wood Duck
A25: 11 | B25: Blue-winged Teal | C25: 1 | D25: 1 | E25: 1 | F25: 1 | G25: 3 | H25: 2 | I25: 3 | J25: 1 | K25: 2 | L25: 3 | M25: 3 | N25: 2 | O25: 5 | P25: 3 | Q25: 2 | R25: 2 | S25: 6 | T25: 3 | U25: 7 | V25: 5 | W25: 5 | X25: 3 | Y25: 2 | Z25: 2 | AA25: 3 | AB25: 4 | AC25: 4 | AD25: 3 | AE25: 4 | AF25: 6 | AG25: 3 | AH25: 1 | AI25: 5 | AJ25: 5 | AK25: 7 | AL25: 7 | AP25: 4 | AQ25: ? | AS25: 6 | AT25: 2 | AU25: 4 | AV25: 6 | AW25: 7 | AX25: 3 | AY25: 4 | AZ25: 5 | BB25: 6 | BC25: 7 | BF25: 8 | BG25: 4 | BH25: 5
A26: 12 | B26: Cinnamon Teal
A27: 13 | B27: Cinnamon/ Blue-winged Teal hybrid
A28: 14 | B28: Northern Shoveler | C28: 1 | D28: 1 | E28: 1 | F28: 1 | G28: 3 | H28: 2 | I28: 3 | J28: 1 | K28: 2 | L28: 2 | M28: 3 | N28: 3 | O28: 4 | P28: 3 | Q28: 2 | R28: 5 | S28: 5 | T28: 3 | U28: 7 | V28: 5 | W28: 4 | X28: 2 | Y28: 3 | Z28: 1 | AA28: 2 | AB28: 4 | AC28: 5 | AD28: 3 | AE28: 4 | AF28: 6 | AG28: 4 | AH28: 1 | AI28: 2 | AJ28: 4 | AK28: 5 | AL28: 5 | AP28: 4 | AQ28: ? | AS28: 6 | AT28: 1 | AU28: 1 | AV28: 6 | AW28: 7 | AX28: 4 | AY28: 4 | AZ28: 3 | BB28: 6 | BC28: 7 | BF28: 7 | BG28: 7 | BH28: 5
A29: 15 | B29: Gadwall | D29: 1 | F29: 4 | G29: 3 | H29: 2 | I29: 3 | J29: 1 | K29: 2 | L29: 3 | M29: 2 | N29: 3 | O29: 3 | P29: 3 | Q29: 2 | R29: 5 | S29: 3 | T29: 3 | U29: 5 | V29: 2 | W29: 1 | X29: 2 | Y29: 1 | Z29: 1 | AA29: 4 | AB29: 3 | AC29: 2 | AD29: 4 | AE29: 3 | AF29: 5 | AG29: 3 | AH29: 1 | AI29: 3 | AJ29: 4 | AK29: 5 | AL29: 5 | AP29: 4 | AQ29: ? | AS29: 4 | AT29: 1 | AU29: 2 | AV29: 2 | AW29: 2 | AX29: 1 | AY29: 2 | AZ29: 3 | BB29: 3 | BC29: 3 | BF29: 1 | BG29: 1 | BH29: 1
A30: 16 | B30: Eurasian Wigeon
A31: 17 | B31: American Wigeon | H31: 2 | I31: 1 | L31: 2 | M31: 2 | N31: 1 | O31: 1 | P31: 3 | Q31: 2 | R31: 1 | S31: 2 | T31: 5 | U31: 1 | V31: 1 | Z31: 1 | AB31: 1 | AC31: 4 | AD31: 3 | AE31: 2 | AF31: 2 | AG31: 3 | AH31: 1 | AI31: 3 | AJ31: 1 | AK31: 4 | AL31: 3 | AP31: 4 | AS31: 4 | AV31: 4 | AW31: 5 | AX31: 4 | AY31: 3 | AZ31: 2 | BB31: 5 | BC31: 7 | BF31: 5 | BG31: 4 | BH31: 4
A32: 18 | B32: Mallard | C32: 1 | D32: 1 | E32: 2 | F32: 4 | G32: 3 | H32: 2 | I32: 2 | J32: 1 | K32: 2 | L32: 3 | M32: 4 | N32: 2 | O32: 4 | P32: 4 | Q32: 2 | R32: 3 | S32: 5 | T32: 5 | U32: 6 | V32: 5 | W32: 5 | X32: 3 | Y32: 4 | Z32: 1 | AA32: 5 | AB32: 6 | AC32: 5 | AD32: 4 | AE32: 4 | AF32: 6 | AG32: 4 | AH32: 1 | AI32: 2 | AJ32: 4 | AK32: 7 | AL32: 6 | AP32: 4 | AQ32: ? | AS32: 5 | AT32: 3 | AU32: 6 | AV32: 8 | AW32: 8 | AX32: 8 | AY32: 7 | AZ32: 5 | BB32: 7 | BC32: 7 | BF32: 9 | BG32: 8
A33: 19 | B33: American Black Duck
A34: 20 | B34: Northern Pintail | M34: 2 | N34: 1 | P34: 1 | Q34: 1 | R34: 1 | S34: 2 | T34: 5 | U34: 3 | V34: 5 | W34: 4 | Y34: 1 | AA34: 2 | AB34: 2 | AC34: 1 | AE34: 3 | AF34: 2 | AG34: 4 | AH34: 1 | AI34: 2 | AJ34: 3 | AK34: 1 | AL34: 5 | AP34: 3 | AQ34: ? | AS34: 6 | AU34: 3 | AV34: 6 | AW34: 6 | AX34: 6 | AY34: 3 | AZ34: 6 | BB34: 7 | BC34: 6 | BF34: 8 | BG34: 7 | BH34: 3
A35: 21 | B35: Green-winged Teal | M35: 1 | O35: 1 | S35: 1 | W35: 1 | AG35: 1 | AL35: 1 | BC35: 1 | BG35: 1 | BH35: 1
A36: 22 | B36: Canvasback | U36: 1 | AC36: 1 | AD36: 1 | AE36: 2 | AF36: 1 | AI36: 1 | AJ36: 2 | AK36: 3 | AL36: 6 | AP36: 2 | AQ36: ? | AS36: 6 | AT36: 1 | AU36: 2 | AV36: 3 | AW36: 2 | AX36: 3 | AY36: 4 | AZ36: 3 | BB36: 6 | BC36: 7 | BF36: 2 | BG36: 3 | BH36: 4
A37: 23 | B37: Redhead | U37: 1 | AC37: 1 | AE37: 1 | AF37: 1 | AI37: 1 | AJ37: 2 | AK37: 3 | AL37: 3 | AP37: 2 | AQ37: ? | AS37: 2 | AT37: 1 | AU37: 1 | AV37: 4 | AW37: 2 | AX37: 1 | AY37: 5 | AZ37: 4 | BB37: 3 | BC37: 7 | BF37: 2 | BH37: 2
A38: 24 | B38: Ring-necked Duck
A39: 25 | B39: Greater Scaup
A40: 26 | B40: Lesser Scaup | U40: 1 | V40: 1 | AF40: 1 | AG40: 1 | AJ40: 3 | AK40: 3 | AL40: 4 | AP40: 2 | AQ40: ? | AS40: 5 | AT40: 2 | AU40: 3 | AV40: 5 | AW40: 6 | AX40: 6 | AY40: 4 | AZ40: 6 | BB40: 5 | BC40: 5 | BF40: 5 | BG40: 5 | BH40: 2
A41: 27 | B41: Surf Scoter
A42: 28 | B42: White-winged Scoter
A43: 29 | B43: Long-tailed Duck
A44: 30 | B44: Bufflehead | AK44: 1
A45: 31 | B45: Common Goldeneye
A46: 32 | B46: Barrow's Goldeneye
A47: 33 | B47: • Merganser sp. •
A48: 34 | B48: Hooded Merganser
A49: 35 | B49: Common Merganser
A50: 36 | B50: Red-breasted Merganser
A51: 37 | B51: Ruddy Duck | U51: 1 | AK51: 2 | AL51: 3 | AP51: 4 | AS51: 2 | AT51: 1 | AU51: 1 | AV51: 3 | AW51: 1 | AX51: 1 | AY51: 2 | AZ51: 1 | BB51: 3 | BC51: 3 | BF51: 4 | BG51: 2 | BH51: 3
A52: 38 | B52: Chukar
A53: 39 | B53: Ruffed Grouse
A54: 40 | B54: Sharp-tailed Grouse | AP54: 1 | BG54: 1
A55: 41 | B55: Gray Partridge
A56: 42 | B56: Ring-necked Pheasant
A57: 43 | B57: Pied-billed Grebe
A58: 44 | B58: Horned Grebe | W58: 1 | AE58: 1 | AL58: 1 | AP58: 1 | AQ58: ? | AS58: 1 | AU58: 2 | AV58: 2 | AW58: 2 | AX58: 1 | AY58: 2 | AZ58: 1 | BB58: 3 | BC58: 4 | BF58: 2 | BG58: 1 | BH58: 1
A59: 45 | B59: Red-necked Grebe
A60: 46 | B60: Eared Grebe | AJ60: 1 | AK60: 3 | AL60: 2 | AP60: 3 | AQ60: ? | AS60: 3 | AT60: 1 | AU60: 2 | AV60: 3 | AW60: 3 | AX60: 3 | AY60: 4 | AZ60: 2 | BB60: 4 | BC60: 3 | BF60: 1
A61: 47 | B61: Western Grebe | AJ61: 1 | AK61: 1
A62: 48 | B62: Clark's Grebe
A63: 49 | B63: Rock Pigeon | X63: 1 | Y63: 1 | AE63: 1 | AF63: 2 | AG63: 2 | AK63: 3 | AL63: 2 | AQ63: ? | AS63: 1 | AU63: 1 | AV63: 1 | AW63: 4 | AX63: 2 | AY63: 2 | AZ63: 1 | BB63: 1 | BC63: 3 | BF63: 1 | BG63: 1
A64: 50 | B64: Eurasian Collared-Dove
A65: 51 | B65: Mourning Dove | U65: 1 | Z65: 1 | AB65: 2 | AJ65: 1 | AK65: 2 | AL65: 2 | AP65: 2 | AU65: 1 | AV65: 2 | AW65: 2 | AX65: 2 | AY65: 2 | BB65: 2 | BC65: 1 | BF65: 3 | BG65: 1 | BH65: 1
A66: 52 | B66: Black-billed Cuckoo
A67: 53 | B67: Common Nighthawk
A68: 54 | B68: Chimney Swift
A69: 55 | B69: Ruby-throated Hummingbird
A70: 56 | B70: Black-chinned Hummingbird
A71: 57 | B71: Virginia Rail
A72: 58 | B72: Sora | AZ72: 1
A73: 59 | B73: American Coot | U73: 1 | W73: 2 | AB73: 1 | AD73: 1 | AF73: 1 | AH73: 3 | AI73: 2 | AJ73: 4 | AK73: 4 | AL73: 5 | AP73: 3 | AQ73: ? | AS73: 6 | AT73: 1 | AU73: 6 | AV73: 6 | AW73: 5 | AX73: 2 | AY73: 3 | AZ73: 4 | BB73: 7 | BC73: 5 | BF73: 5 | BG73: 4 | BH73: 1
A74: 60 | B74: Yellow Rail
A75: 61 | B75: Sandhill Crane
A76: 62 | B76: • Shorebird sp. •
A77: 63 | B77: Black-necked Stilt
A78: 64 | B78: American Avocet | U78: 1 | AF78: 1 | AI78: 1 | AJ78: 1 | AK78: 3 | AL78: 2 | AP78: 4 | AS78: 1 | AV78: 1 | AW78: 1 | AY78: 1 | BB78: 1 | BF78: 1 | BH78: 1
A79: 65 | B79: Black-bellied Plover | AK79: 1 | AS79: 2 | BF79: 1 | BG79: 2
A80: 66 | B80: American Golden-Plover | AB80: 1 | AP80: 1 | AS80: 2 | AX80: 2
A81: 67 | B81: Semipalmated Plover | BC81: 1
A82: 68 | B82: Piping Plover
A83: 69 | B83: Killdeer | X83: 1 | AI83: 1 | AP83: 2 | AQ83: ? | AS83: 2 | AT83: 2 | AU83: 1 | AV83: 2 | AX83: 5 | AY83: 5 | AZ83: 2 | BB83: 2 | BC83: 2 | BF83: 2 | BG83: 1
A84: 70 | B84: Upland Sandpiper
A85: 71 | B85: Whimbrel
A86: 72 | B86: Long-billed Curlew
A87: 73 | B87: Hudsonian Godwit
A88: 74 | B88: Marbled Godwit | AK88: 1 | AP88: 1 | AS88: 2 | AU88: 1 | AX88: 1 | AY88: 1 | BB88: 1 | BC88: 1
A89: 75 | B89: Ruddy Turnstone | BG89: 1
A90: 76 | B90: • Large Sandpiper sp. •
A91: 77 | B91: Red Knot
A92: 78 | B92: Stilt Sandpiper | U92: 1 | AK92: 1 | AL92: 2 | AP92: 1 | AS92: 1 | AT92: 1 | AV92: 2 | AW92: 2 | AX92: 1 | AY92: 1 | BB92: 3 | BC92: 1 | BF92: 1 | BG92: 1 | BH92: 1
A93: 79 | B93: Sanderling | AI93: 1 | AK93: 1 | AL93: 1 | AP93: 1 | AQ93: ? | AW93: 1 | AY93: 1 | AZ93: 2 | BC93: 2 | BG93: 1 | BH93: 1
A94: 80 | B94: Dunlin | BG94: 1
A95: 81 | B95: • Peep sp. •
A96: 82 | B96: Baird's Sandpiper | X96: 1 | AA96: 1 | AK96: 1 | AL96: 1 | AP96: 1 | AQ96: 1 | AS96: 3 | AT96: 1 | AX96: 1 | AY96: 2 | BB96: 1 | BC96: 2 | BF96: 1 | BG96: 1 | BH96: 1
A97: 83 | B97: Least Sandpiper | AK97: 1 | AT97: 1 | AX97: 1 | AY97: 2 | BC97: 1 | BG97: 1 | BH97: 1
A98: 84 | B98: White-rumped Sandpiper | AK98: 1 | AU98: 2 | AX98: 1 | BF98: 1 | BG98: 1 | BH98: 1
A99: 85 | B99: Buff-breasted Sandpiper | BF99: 1 | BG99: 1
A100: 86 | B100: Pectoral Sandpiper | AA100: 1 | AD100: 1 | AU100: 1 | AX100: 2 | BC100: 1 | BF100: 1 | BH100: 1
A101: 87 | B101: Semipalmated Sandpiper | X101: 1 | AD101: 1 | AE101: 1 | AJ101: 1 | AK101: 4 | AL101: 2 | AS101: 3 | AT101: 1 | AU101: 3 | AV101: 1 | AW101: 3 | AX101: 1 | AZ101: 1 | BB101: 2 | BC101: 1 | BF101: 1 | BH101: 1
A102: 88 | B102: Western Sandpiper
A103: 89 | B103: • Dowitcher sp. • | AY103: 1 | BB103: 1
A104: 90 | B104: Short-billed Dowitcher
A105: 91 | B105: Long-billed Dowitcher
A106: 92 | B106: Wilson's Snipe
...
