Workbook

Sheet Raw counts
B1: The Historical Record of the Saskatoon Nature Society Spring Bird Count - Raw Counts - 1957 to 2025
B3: NOTE - To reduce fatigue, observers were historically given the option, for selected species, of counting only to 25 and recording flocks of 50 or more thereafter. From 1968 to 1981 there were short lists of species to be fully counted. Since then, observers have been asked to fully count an ever-increasing list of species. The under-count is less significant than it may appear because any species with less than 25 individuals counted per sector, has been fully counted, and regardless of the options, some sector leaders chose to fully count. The cells have been color-coded to give an idea of the extent of the under-counting. | P3: There was no significant under-reporting | X3: The count was under-reported in three or more sectors
P5: The count was under-reported in one sector | X5: The sector counts are unavailable, but are assumed to be under-reported if the count is >25 and the counts immediately before or after were under-reported
P7: The count was under-reported in two sectors
O9: 1968 | P9: Species fully counted - Mallard, American Coot, Willet, Marbled Godwit, Franklin's Gull,Black Tern, Rock Pigeon, Eastern Kingbird, Western Kingbird, Black-billed Magpie, American Crow, Mountain Bluebird, Loggerhead Shrike, Yellow Warbler,
P10: Western Meadowlark, Yellow-headed Blackbird, Red-winged Blackbird and Clay-colored Sparrow. All others were counted to 25 in each sector.
O11: 1969-81 | P11: Species fully counted - Mountain Bluebird, American Crow, Eastern Kingbird, Western Kingbird, Black-billed Magpie, Western Meadowlark, American Robin, Short-eared Owl and Loggerhead Shrike.
P12: All other species were counted only to 25 in each sector. In all years, some sector leaders fully counted in their sector regardless of the options.
A15: Current Taxonomic Order | B15: Species | C15: #Yrs Observed 1968-2025 | D15: #Yrs Observed 1957-1967 | E15: 2025 | F15: 2024 | G15: 2023 | H15: 2022 | I15: 2021 | J15: 2020 | K15: 2019 | L15: 2018 | M15: 2017 | N15: 2016 | O15: 2015 | P15: 2014 | Q15: 2013 | R15: 2012 | S15: 2011 | T15: 2010 | U15: 2009 | V15: 2008 | W15: 2007 | X15: 2006 | Y15: 2005 | Z15: 2004 | AA15: 2003 | AB15: 2002 | AC15: 2001 | AD15: 2000 | AE15: 1999 | AF15: 1998 | AG15: 1997 | AH15: 1996 | AI15: 1995 | AJ15: 1994 | AK15: 1993 | AL15: 1992 | AM15: 1991 | AN15: 1990 | AO15: 1989 | AP15: 1988 | AQ15: 1987 | AR15: 1986 | AS15: 1985 | AT15: 1984 | AU15: 1983 | AV15: 1982 | AW15: 1981 | AX15: 1980 | AY15: 1979 | AZ15: 1978 | BA15: 1977 | BB15: 1976 | BC15: 1975 | BD15: 1974 | BE15: 1973 | BF15: 1972 | BG15: 1971 | BH15: 1970 | BI15: 1969 | BJ15: 1968 | BK15: 1967 | BL15: 1966 | BM15: 1965 | BN15: 1964 | BO15: 1963 | BP15: 1962 | BQ15: 1961 | BR15: 1960 | BS15: 1959 | BT15: 1958 | BU15: 1957
A17: 1 | B17: • Goose sp. • | C17: 1 | D17: 0 | E17: 0 | F17: 0 | G17: 0 | H17: 0 | I17: 0 | J17: 0 | K17: 0 | L17: 0 | M17: 0 | N17: 0 | O17: 0 | P17: 0 | Q17: 0 | R17: 0 | S17: 0 | T17: 0 | U17: 0 | V17: 0 | W17: 0 | X17: 0 | Y17: 0 | Z17: 0 | AA17: 0 | AB17: 0 | AC17: 0 | AD17: 0 | AE17: 0 | AF17: 0 | AG17: 0 | AH17: 0 | AI17: 0 | AJ17: 0 | AK17: 0 | AL17: 0 | AM17: 0 | AN17: 0 | AO17: 0 | AP17: 101 | AQ17: 0 | AR17: 0 | AS17: 0 | AT17: 0 | AU17: 0 | AV17: 0 | AW17: 0 | AX17: 0 | AY17: 0 | AZ17: 0 | BA17: 0 | BB17: 0 | BC17: 0 | BD17: 0 | BE17: 0 | BF17: 0 | BG17: 0 | BH17: 0 | BI17: 0
A18: 2 | B18: Snow Goose | C18: =COUNTIF(E18:BJ18,">0") -> 42 | D18: =COUNTA(BK18:BU18) -> 0 | E18: 27 | F18: 21 | G18: 5 | H18: 17 | I18: 12 | J18: 30 | K18: 22 | L18: 68 | M18: 32 | N18: 65 | O18: 20 | P18: 6 | Q18: 8 | R18: 27 | S18: 9 | T18: 1 | U18: 8 | V18: 21 | W18: 3 | X18: 7 | Y18: 11 | Z18: 1 | AA18: 1 | AB18: 22 | AC18: 2 | AD18: 15 | AE18: 0 | AF18: 1 | AG18: 0 | AH18: 0 | AI18: 23 | AJ18: 2 | AK18: 1 | AL18: 4 | AM18: 12 | AN18: 0 | AO18: 0 | AP18: 0 | AQ18: 2 | AR18: 202 | AS18: 7 | AT18: 1 | AU18: 0 | AV18: 0 | AW18: 0 | AX18: 0 | AY18: 1 | AZ18: 2 | BA18: 3 | BB18: 0 | BC18: 0 | BD18: 46 | BE18: 284 | BF18: 0 | BG18: 68 | BH18: 0 | BI18: 0 | BJ18: 0
A19: 3 | B19: Ross's Goose | C19: =COUNTIF(E19:BJ19,">0") -> 16 | D19: =COUNTA(BK19:BU19) -> 0 | E19: 0 | F19: 0 | G19: 0 | I19: 0 | J19: 1 | K19: 0 | L19: 112 | M19: 3 | N19: 2 | O19: 0 | P19: 3 | Q19: 0 | R19: 2 | S19: 0 | T19: 0 | U19: 30 | V19: 0 | W19: 0 | X19: 0 | Y19: 0 | Z19: 0 | AA19: 0 | AB19: 10 | AC19: 0 | AD19: 2 | AE19: 0 | AF19: 0 | AG19: 15 | AH19: 0 | AI19: 12 | AJ19: 1 | AK19: 0 | AL19: 24 | AM19: 0 | AN19: 0 | AO19: 0 | AP19: 0 | AQ19: 0 | AR19: 0 | AS19: 0 | AT19: 1 | AU19: 0 | AV19: 0 | AW19: 35 | AX19: 0 | AY19: 0 | AZ19: 0 | BA19: 0 | BB19: 0 | BC19: 0 | BD19: 0 | BE19: 1 | BF19: 0 | BG19: 0 | BH19: 0 | BI19: 0 | BJ19: 0
A20: 4 | B20: Greater White-fronted Goose | C20: =COUNTIF(E20:BJ20,">0") -> 41 | D20: =COUNTA(BK20:BU20) -> 2 | E20: 4 | F20: 0 | G20: 1 | H20: 2 | I20: 2 | J20: 1 | K20: 2 | L20: 0 | M20: 5 | N20: 0 | O20: 1 | P20: 0 | Q20: 3 | R20: 0 | S20: 1 | T20: 1 | U20: 36 | V20: 0 | W20: 1 | X20: 1 | Y20: 0 | Z20: 1 | AA20: 0 | AB20: 47 | AC20: 17 | AD20: 1 | AE20: 0 | AF20: 1 | AG20: 20 | AH20: 1 | AI20: 1 | AJ20: 1 | AK20: 1 | AL20: 7 | AM20: 11 | AN20: 3 | AO20: 2 | AP20: 57 | AQ20: 0 | AR20: 30 | AS20: 11 | AT20: 2 | AU20: 2 | AV20: 0 | AW20: 7 | AX20: 1 | AY20: 6 | AZ20: 1 | BA20: 4 | BB20: 0 | BC20: 0 | BD20: 0 | BE20: 17 | BF20: 0 | BG20: 45 | BH20: 3 | BI20: 0 | BJ20: 0 | BL20: 1x | BM20: +
A21: 5 | B21: Cackling Goose | C21: =COUNTIF(E21:BJ21,">0") -> 3 | D21: =COUNTA(BK21:BU21) -> 0 | E21: 0 | F21: 0 | G21: 0 | H21: 0 | I21: 4 | J21: 1 | K21: 2 | L21: 0 | M21: 0 | N21: 0 | O21: 0 | P21: 0 | Q21: 0 | R21: 0 | S21: 0 | T21: 0 | U21: 0 | V21: 0 | W21: 0 | X21: 0 | Y21: 0 | Z21: 0 | AA21: 0 | AB21: 0 | AC21: 0 | AD21: 0 | AE21: 0 | AF21: 0 | AG21: 0 | AH21: 0 | AI21: 0 | AJ21: 0 | AK21: 0 | AL21: 0 | AM21: 0 | AN21: 0 | AO21: 0 | AP21: 0 | AQ21: 0 | AR21: 0 | AS21: 0 | AT21: 0 | AU21: 0 | AV21: 0 | AW21: 0 | AX21: 0 | AY21: 0 | AZ21: 0 | BA21: 0 | BB21: 0 | BC21: 0 | BD21: 0 | BE21: 0 | BF21: 0 | BG21: 0 | BH21: 0 | BI21: 0 | BJ21: 0
A22: 6 | B22: Canada Goose | C22: =COUNTIF(E22:BJ22,">0") -> 58 | D22: =COUNTA(BK22:BU22) -> 5 | E22: 1095 | F22: 1222 | G22: 973 | H22: 1803 | I22: 2050 | J22: 2717 | K22: 1485 | L22: 984 | M22: 1327 | N22: 1359 | O22: 880 | P22: 939 | Q22: 653 | R22: 942 | S22: 672 | T22: 793 | U22: 974 | V22: 702 | W22: 665 | X22: 720 | Y22: 769 | Z22: 683 | AA22: 1089 | AB22: 1130 | AC22: 865 | AD22: 1210 | AE22: 599 | AF22: 458 | AG22: 397 | AH22: 401 | AI22: 381 | AJ22: 433 | AK22: 1645 | AL22: 536 | AM22: 665 | AN22: 621 | AO22: 649 | AP22: 1093 | AQ22: 540 | AR22: 333 | AS22: 210 | AT22: 317 | AU22: 90 | AV22: 29 | AW22: 82 | AX22: 50 | AY22: 49 | AZ22: 37 | BA22: 116 | BB22: 25 | BC22: 28 | BD22: 20 | BE22: 11 | BF22: 3 | BG22: 8 | BH22: 8 | BI22: 5 | BJ22: 3 | BK22: 1x | BL22: 1x | BM22: + | BN22: + | BO22: +
A23: 7 | B23: Trumpeter Swan | C23: =COUNTIF(E23:BJ23,">0") -> 2 | D23: =COUNTA(BK23:BU23) -> 0 | E23: 0 | F23: 0 | G23: 0 | H23: 1 | I23: 0 | J23: 0 | K23: 0 | L23: 0 | M23: 0 | N23: 0 | O23: 0 | P23: 0 | Q23: 0 | R23: 0 | S23: 0 | T23: 0 | U23: 0 | V23: 0 | W23: 0 | X23: 0 | Y23: 1 | Z23: 0 | AA23: 0 | AB23: 0 | AC23: 0 | AD23: 0 | AE23: 0 | AF23: 0 | AG23: 0 | AH23: 0 | AI23: 0 | AJ23: 0 | AK23: 0 | AL23: 0 | AM23: 0 | AN23: 0 | AO23: 0 | AP23: 0 | AQ23: 0 | AR23: 0 | AS23: 0 | AT23: 0 | AU23: 0 | AV23: 0 | AW23: 0 | AX23: 0 | AY23: 0 | AZ23: 0 | BA23: 0 | BB23: 0 | BC23: 0 | BD23: 0 | BE23: 0 | BF23: 0 | BG23: 0 | BH23: 0 | BI23: 0 | BJ23: 0
A24: 8 | B24: Tundra Swan | C24: =COUNTIF(E24:BJ24,">0") -> 32 | D24: =COUNTA(BK24:BU24) -> 3 | E24: 0 | F24: 0 | G24: 0 | H24: 0 | I24: 0 | J24: 0 | K24: 0 | L24: 0 | M24: 1 | N24: 0 | O24: 0 | P24: 0 | Q24: 3 | R24: 5 | S24: 0 | T24: 0 | U24: 0 | V24: 5 | W24: 1 | X24: 6 | Y24: 2 | Z24: 0 | AA24: 5 | AB24: 6 | AC24: 6 | AD24: 0 | AE24: 0 | AF24: 1 | AG24: 0 | AH24: 0 | AI24: 1 | AJ24: 0 | AK24: 0 | AL24: 21 | AM24: 0 | AN24: 0 | AO24: 5 | AP24: 11 | AQ24: 192 | AR24: 54 | AS24: 0 | AT24: 13 | AU24: 1 | AV24: 1 | AW24: 1 | AX24: 0 | AY24: 22 | AZ24: 42 | BA24: 2 | BB24: 0 | BC24: 9 | BD24: 1 | BE24: 159 | BF24: 3 | BG24: 21 | BH24: 2 | BI24: 1 | BJ24: 3 | BK24: 2x | BL24: 3x | BM24: +
A25: 9 | B25: • Duck sp. • | C25: =COUNTIF(E25:BJ25,">0") -> 17 | D25: =COUNTA(BK25:BU25) -> 0 | E25: 1281 | F25: 5 | G25: 600 | H25: 2 | I25: 455 | J25: 366 | K25: 3 | L25: 75 | M25: 4 | N25: 32 | O25: 1255 | P25: 215 | Q25: 24 | R25: 0 | S25: 8 | T25: 6 | U25: 0 | V25: 0 | W25: 0 | X25: 0 | Y25: 33 | Z25: 0 | AA25: 0 | AB25: 0 | AC25: 0 | AD25: 0 | AE25: 0 | AF25: 0 | AG25: 0 | AH25: 0 | AI25: 0 | AJ25: 0 | AK25: 0 | AL25: 0 | AM25: 0 | AN25: 0 | AO25: 0 | AP25: 3020 | AQ25: 0 | AR25: 0 | AS25: 0 | AT25: 0 | AU25: 0 | AV25: 0 | AW25: 0 | AX25: 0 | AY25: 0 | AZ25: 0 | BA25: 0 | BB25: 0 | BC25: 0 | BD25: 0 | BE25: 0 | BF25: 0 | BG25: 0 | BH25: 0 | BI25: 0
A26: 10 | B26: Wood Duck | C26: =COUNTIF(E26:BJ26,">0") -> 14 | D26: =COUNTA(BK26:BU26) -> 1 | E26: 1 | F26: 2 | G26: 1 | H26: 0 | I26: 8 | J26: 6 | K26: 7 | L26: 0 | M26: 0 | N26: 2 | O26: 0 | P26: 0 | Q26: 0 | R26: 0 | S26: 0 | T26: 1 | U26: 2 | V26: 0 | W26: 0 | X26: 1 | Y26: 0 | Z26: 0 | AA26: 0 | AB26: 1 | AC26: 2 | AD26: 0 | AE26: 0 | AF26: 0 | AG26: 0 | AH26: 0 | AI26: 0 | AJ26: 5 | AK26: 0 | AL26: 5 | AM26: 0 | AN26: 0 | AO26: 0 | AP26: 0 | AQ26: 0 | AR26: 0 | AS26: 0 | AT26: 0 | AU26: 0 | AV26: 0 | AW26: 0 | AX26: 0 | AY26: 0 | AZ26: 0 | BA26: 0 | BB26: 0 | BC26: 0 | BD26: 0 | BE26: 0 | BF26: 0 | BG26: 0 | BH26: 0 | BI26: 0 | BJ26: 0 | BS26: 1
A27: 11 | B27: Blue-winged Teal | C27: =COUNTIF(E27:BJ27,">0") -> 58 | D27: =COUNTA(BK27:BU27) -> 11 | E27: 580 | F27: 569 | G27: 449 | H27: 373 | I27: 473 | J27: 542 | K27: 459 | L27: 694 | M27: 866 | N27: 494 | O27: 509 | P27: 439 | Q27: 543 | R27: 589 | S27: 432 | T27: 302 | U27: 406 | V27: 633 | W27: 356 | X27: 554 | Y27: 293 | Z27: 274 | AA27: 192 | AB27: 478 | AC27: 226 | AD27: 417 | AE27: 240 | AF27: 291 | AG27: 186 | AH27: 240 | AI27: 236 | AJ27: 306 | AK27: 270 | AL27: 825 | AM27: 585 | AN27: 437 | AO27: 301 | AP27: 548 | AQ27: 218 | AR27: 225 | AS27: 254 | AT27: 262 | AU27: 206 | AV27: 139 | AW27: 180 | AX27: 258 | AY27: 194 | AZ27: 139 | BA27: 288 | BB27: 234 | BC27: 284 | BD27: 220 | BE27: 188 | BF27: 199 | BG27: 264 | BH27: 220 | BI27: 170 | BJ27: 220 | BK27: 4x | BL27: 4x | BM27: + | BN27: + | BO27: + | BP27: + | BQ27: 78 | BR27: 10 | BS27: 72 | BT27: 85 | BU27: 97
A28: 12 | B28: Cinnamon Teal | C28: =COUNTIF(E28:BJ28,">0") -> 32 | D28: =COUNTA(BK28:BU28) -> 0 | E28: 1 | F28: 0 | G28: 0 | H28: 1 | I28: 0 | J28: 1 | K28: 0 | L28: 1 | M28: 0 | N28: 1 | O28: 1 | P28: 3 | Q28: 5 | R28: 0 | S28: 0 | T28: 2 | U28: 0 | V28: 0 | W28: 1 | X28: 2 | Y28: 2 | Z28: 0 | AA28: 0 | AB28: 2 | AC28: 0 | AD28: 1 | AE28: 2 | AF28: 2 | AG28: 0 | AH28: 3 | AI28: 2 | AJ28: 1 | AK28: 1 | AL28: 10 | AM28: 0 | AN28: 4 | AO28: 0 | AP28: 0 | AQ28: 2 | AR28: 2 | AS28: 7 | AT28: 2 | AU28: 0 | AV28: 0 | AW28: 0 | AX28: 3 | AY28: 1 | AZ28: 0 | BA28: 2 | BB28: 1 | BC28: 4 | BD28: 0 | BE28: 0 | BF28: 1 | BG28: 0 | BH28: 0 | BI28: 0 | BJ28: 0
A29: 13 | B29: Cinnamon/ Blue-winged Teal hybrid | C29: =COUNTIF(E29:BJ29,">0") -> 1 | D29: =COUNTA(BK29:BU29) -> 0 | E29: 0 | F29: 0 | G29: 0 | H29: 0 | I29: 0 | J29: 0 | K29: 0 | L29: 0 | M29: 0 | N29: 0 | O29: 0 | P29: 0 | Q29: 0 | R29: 0 | S29: 0 | T29: 0 | U29: 0 | V29: 0 | W29: 0 | X29: 0 | Y29: 0 | Z29: 0 | AA29: 0 | AB29: 0 | AC29: 0 | AD29: 0 | AE29: 1 | AF29: 0 | AG29: 0 | AH29: 0 | AI29: 0 | AJ29: 0 | AK29: 0 | AL29: 0 | AM29: 0 | AN29: 0 | AO29: 0 | AP29: 0 | AQ29: 0 | AR29: 0 | AS29: 0 | AT29: 0 | AU29: 0 | AV29: 0 | AW29: 0 | AX29: 0 | AY29: 0 | AZ29: 0 | BA29: 0 | BB29: 0 | BC29: 0 | BD29: 0 | BE29: 0 | BF29: 0 | BG29: 0 | BH29: 0 | BI29: 0 | BJ29: 0
A30: 14 | B30: Northern Shoveler | C30: =COUNTIF(E30:BJ30,">0") -> 58 | D30: =COUNTA(BK30:BU30) -> 11 | E30: 1476 | F30: 987 | G30: 738 | H30: 518 | I30: 610 | J30: 1173 | K30: 649 | L30: 649 | M30: 1086 | N30: 584 | O30: 456 | P30: 484 | Q30: 548 | R30: 632 | S30: 396 | T30: 319 | U30: 331 | V30: 815 | W30: 367 | X30: 1357 | Y30: 339 | Z30: 806 | AA30: 198 | AB30: 243 | AC30: 373 | AD30: 451 | AE30: 241 | AF30: 272 | AG30: 202 | AH30: 217 | AI30: 223 | AJ30: 222 | AK30: 393 | AL30: 658 | AM30: 757 | AN30: 512 | AO30: 267 | AP30: 971 | AQ30: 352 | AR30: 254 | AS30: 404 | AT30: 237 | AU30: 196 | AV30: 113 | AW30: 289 | AX30: 270 | AY30: 195 | AZ30: 208 | BA30: 300 | BB30: 558 | BC30: 239 | BD30: 211 | BE30: 201 | BF30: 307 | BG30: 358 | BH30: 213 | BI30: 203 | BJ30: 306 | BK30: 4x | BL30: 4x | BM30: + | BN30: + | BO30: + | BP30: + | BQ30: 38 | BR30: 25 | BS30: 32 | BT30: 33 | BU30: 59
A31: 15 | B31: Gadwall | C31: =COUNTIF(E31:BJ31,">0") -> 58 | D31: =COUNTA(BK31:BU31) -> 11 | E31: 556 | F31: 886 | G31: 317 | H31: 372 | I31: 462 | J31: 578 | K31: 573 | L31: 504 | M31: 397 | N31: 364 | O31: 414 | P31: 245 | Q31: 251 | R31: 399 | S31: 275 | T31: 297 | U31: 327 | V31: 717 | W31: 245 | X31: 265 | Y31: 169 | Z31: 247 | AA31: 153 | AB31: 425 | AC31: 239 | AD31: 335 | AE31: 165 | AF31: 223 | AG31: 157 | AH31: 168 | AI31: 187 | AJ31: 221 | AK31: 495 | AL31: 936 | AM31: 647 | AN31: 401 | AO31: 314 | AP31: 406 | AQ31: 268 | AR31: 181 | AS31: 203 | AT31: 303 | AU31: 160 | AV31: 103 | AW31: 149 | AX31: 210 | AY31: 140 | AZ31: 106 | BA31: 184 | BB31: 134 | BC31: 152 | BD31: 221 | BE31: 161 | BF31: 148 | BG31: 90 | BH31: 85 | BI31: 82 | BJ31: 143 | BK31: 4x | BL31: 4x | BM31: + | BN31: + | BO31: + | BP31: + | BQ31: 11 | BR31: 5 | BS31: 15 | BT31: 8 | BU31: 2
A32: 16 | B32: Eurasian Wigeon | C32: =COUNTIF(E32:BJ32,">0") -> 1 | D32: =COUNTA(BK32:BU32) -> 0 | E32: 0 | F32: 0 | G32: 0 | H32: 0 | I32: 0 | J32: 0 | K32: 0 | L32: 0 | M32: 0 | N32: 0 | O32: 0 | P32: 0 | Q32: 0 | R32: 0 | S32: 0 | T32: 0 | U32: 0 | V32: 0 | W32: 0 | X32: 0 | Y32: 0 | Z32: 0 | AA32: 0 | AB32: 0 | AC32: 0 | AD32: 0 | AE32: 1 | AF32: 0 | AG32: 0 | AH32: 0 | AI32: 0 | AJ32: 0 | AK32: 0 | AL32: 0 | AM32: 0 | AN32: 0 | AO32: 0 | AP32: 0 | AQ32: 0 | AR32: 0 | AS32: 0 | AT32: 0 | AU32: 0 | AV32: 0 | AW32: 0 | AX32: 0 | AY32: 0 | AZ32: 0 | BA32: 0 | BB32: 0 | BC32: 0 | BD32: 0 | BE32: 0 | BF32: 0 | BG32: 0 | BH32: 0 | BI32: 0 | BJ32: 0
A33: 17 | B33: American Wigeon | C33: =COUNTIF(E33:BJ33,">0") -> 58 | D33: =COUNTA(BK33:BU33) -> 11 | E33: 155 | F33: 139 | G33: 97 | H33: 133 | I33: 192 | J33: 167 | K33: 200 | L33: 214 | M33: 190 | N33: 207 | O33: 231 | P33: 124 | Q33: 159 | R33: 201 | S33: 161 | T33: 175 | U33: 195 | V33: 277 | W33: 145 | X33: 213 | Y33: 106 | Z33: 134 | AA33: 132 | AB33: 545 | AC33: 112 | AD33: 179 | AE33: 182 | AF33: 158 | AG33: 135 | AH33: 120 | AI33: 161 | AJ33: 156 | AK33: 222 | AL33: 367 | AM33: 256 | AN33: 256 | AO33: 178 | AP33: 344 | AQ33: 231 | AR33: 154 | AS33: 153 | AT33: 199 | AU33: 159 | AV33: 84 | AW33: 110 | AX33: 207 | AY33: 171 | AZ33: 147 | BA33: 209 | BB33: 171 | BC33: 221 | BD33: 167 | BE33: 198 | BF33: 189 | BG33: 241 | BH33: 196 | BI33: 142 | BJ33: 241 | BK33: 4x | BL33: 4x | BM33: + | BN33: + | BO33: + | BP33: + | BQ33: 32 | BR33: 19 | BS33: 15 | BT33: 50 | BU33: 55
A34: 18 | B34: Mallard | C34: =COUNTIF(E34:BJ34,">0") -> 58 | D34: =COUNTA(BK34:BU34) -> 11 | E34: 798 | F34: 708 | G34: 791 | H34: 771 | I34: 941 | J34: 1213 | K34: 1296 | L34: 927 | M34: 1029 | N34: 857 | O34: 725 | P34: 589 | Q34: 667 | R34: 723 | S34: 577 | T34: 594 | U34: 455 | V34: 610 | W34: 365 | X34: 386 | Y34: 389 | Z34: 861 | AA34: 419 | AB34: 811 | AC34: 606 | AD34: 1767 | AE34: 401 | AF34: 381 | AG34: 244 | AH34: 295 | AI34: 326 | AJ34: 519 | AK34: 749 | AL34: 920 | AM34: 762 | AN34: 537 | AO34: 397 | AP34: 1235 | AQ34: 294 | AR34: 319 | AS34: 291 | AT34: 304 | AU34: 226 | AV34: 257 | AW34: 355 | AX34: 200 | AY34: 200 | AZ34: 200 | BA34: 330 | BB34: 220 | BC34: 752 | BD34: 216 | BE34: 250 | BF34: 525 | BG34: 450 | BH34: 225 | BI34: 222 | BJ34: 671 | BK34: 4x | BL34: 4x | BM34: + | BN34: + | BO34: + | BP34: + | BQ34: 165 | BR34: 92 | BS34: 114 | BT34: 130 | BU34: 120
A35: 19 | B35: American Black Duck | C35: =COUNTIF(E35:BJ35,">0") -> 2 | D35: =COUNTA(BK35:BU35) -> 0 | E35: 0 | F35: 0 | G35: 0 | H35: 0 | I35: 0 | J35: 0 | K35: 0 | L35: 0 | M35: 0 | N35: 0 | O35: 0 | P35: 0 | Q35: 0 | R35: 0 | S35: 0 | T35: 0 | U35: 0 | V35: 0 | W35: 0 | X35: 0 | Y35: 0 | Z35: 0 | AA35: 0 | AB35: 0 | AC35: 0 | AD35: 0 | AE35: 0 | AF35: 0 | AG35: 0 | AH35: 1 | AI35: 0 | AJ35: 0 | AK35: 0 | AL35: 0 | AM35: 0 | AN35: 0 | AO35: 0 | AP35: 0 | AQ35: 0 | AR35: 0 | AS35: 0 | AT35: 0 | AU35: 0 | AV35: 0 | AW35: 0 | AX35: 1 | AY35: 0 | AZ35: 0 | BA35: 0 | BB35: 0 | BC35: 0 | BD35: 0 | BE35: 0 | BF35: 0 | BG35: 0 | BH35: 0 | BI35: 0 | BJ35: 0
A36: 20 | B36: Northern Pintail | C36: =COUNTIF(E36:BJ36,">0") -> 58 | D36: =COUNTA(BK36:BU36) -> 11 | E36: 187 | F36: 200 | G36: 163 | H36: 40 | I36: 44 | J36: 71 | K36: 114 | L36: 124 | M36: 140 | N36: 79 | O36: 120 | P36: 153 | Q36: 141 | R36: 170 | S36: 163 | T36: 96 | U36: 147 | V36: 231 | W36: 186 | X36: 325 | Y36: 254 | Z36: 86 | AA36: 100 | AB36: 95 | AC36: 92 | AD36: 172 | AE36: 121 | AF36: 85 | AG36: 119 | AH36: 146 | AI36: 168 | AJ36: 193 | AK36: 239 | AL36: 438 | AM36: 195 | AN36: 308 | AO36: 202 | AP36: 165 | AQ36: 162 | AR36: 180 | AS36: 219 | AT36: 187 | AU36: 173 | AV36: 88 | AW36: 167 | AX36: 374 | AY36: 189 | AZ36: 262 | BA36: 236 | BB36: 193 | BC36: 355 | BD36: 225 | BE36: 334 | BF36: 744 | BG36: 634 | BH36: 224 | BI36: 220 | BJ36: 294 | BK36: 4x | BL36: 4x | BM36: + | BN36: + | BO36: + | BP36: + | BQ36: 23 | BR36: 23 | BS36: 48 | BT36: 73 | BU36: 61
A37: 21 | B37: Green-winged Teal | C37: =COUNTIF(E37:BJ37,">0") -> 58 | D37: =COUNTA(BK37:BU37) -> 11 | E37: 126 | F37: 87 | G37: 142 | H37: 74 | I37: 104 | J37: 140 | K37: 106 | L37: 116 | M37: 162 | N37: 114 | O37: 88 | P37: 102 | Q37: 90 | R37: 131 | S37: 74 | T37: 94 | U37: 118 | V37: 143 | W37: 77 | X37: 88 | Y37: 54 | Z37: 30 | AA37: 41 | AB37: 33 | AC37: 24 | AD37: 39 | AE37: 39 | AF37: 53 | AG37: 32 | AH37: 64 | AI37: 103 | AJ37: 77 | AK37: 59 | AL37: 93 | AM37: 83 | AN37: 65 | AO37: 92 | AP37: 240 | AQ37: 68 | AR37: 39 | AS37: 32 | AT37: 50 | AU37: 57 | AV37: 18 | AW37: 29 | AX37: 64 | AY37: 19 | AZ37: 60 | BA37: 67 | BB37: 42 | BC37: 54 | BD37: 25 | BE37: 96 | BF37: 59 | BG37: 42 | BH37: 82 | BI37: 53 | BJ37: 51 | BK37: 4x | BL37: 4x | BM37: + | BN37: + | BO37: + | BP37: + | BQ37: 17 | BR37: 4 | BS37: 2 | BT37: 6 | BU37: 3
A38: 22 | B38: Canvasback | C38: =COUNTIF(E38:BJ38,">0") -> 58 | D38: =COUNTA(BK38:BU38) -> 11 | E38: 596 | F38: 273 | G38: 406 | H38: 196 | I38: 227 | J38: 655 | K38: 304 | L38: 301 | M38: 443 | N38: 532 | O38: 360 | P38: 365 | Q38: 412 | R38: 433 | S38: 437 | T38: 260 | U38: 331 | V38: 386 | W38: 487 | X38: 462 | Y38: 280 | Z38: 134 | AA38: 134 | AB38: 193 | AC38: 304 | AD38: 403 | AE38: 252 | AF38: 1095 | AG38: 249 | AH38: 322 | AI38: 541 | AJ38: 366 | AK38: 493 | AL38: 452 | AM38: 584 | AN38: 735 | AO38: 369 | AP38: 662 | AQ38: 300 | AR38: 280 | AS38: 301 | AT38: 232 | AU38: 174 | AV38: 109 | AW38: 474 | AX38: 258 | AY38: 271 | AZ38: 153 | BA38: 449 | BB38: 437 | BC38: 561 | BD38: 216 | BE38: 196 | BF38: 218 | BG38: 330 | BH38: 183 | BI38: 106 | BJ38: 267 | BK38: 4x | BL38: 4x | BM38: + | BN38: + | BO38: + | BP38: + | BQ38: 30 | BR38: 17 | BS38: 16 | BT38: 23 | BU38: 6
A39: 23 | B39: Redhead | C39: =COUNTIF(E39:BJ39,">0") -> 58 | D39: =COUNTA(BK39:BU39) -> 10 | E39: 403 | F39: 223 | G39: 130 | H39: 118 | I39: 153 | J39: 244 | K39: 101 | L39: 289 | M39: 434 | N39: 468 | O39: 307 | P39: 307 | Q39: 230 | R39: 384 | S39: 393 | T39: 145 | U39: 195 | V39: 379 | W39: 472 | X39: 367 | Y39: 208 | Z39: 284 | AA39: 154 | AB39: 298 | AC39: 170 | AD39: 333 | AE39: 210 | AF39: 304 | AG39: 182 | AH39: 303 | AI39: 392 | AJ39: 285 | AK39: 418 | AL39: 410 | AM39: 332 | AN39: 320 | AO39: 268 | AP39: 432 | AQ39: 277 | AR39: 219 | AS39: 221 | AT39: 192 | AU39: 159 | AV39: 84 | AW39: 150 | AX39: 156 | AY39: 108 | AZ39: 106 | BA39: 246 | BB39: 171 | BC39: 183 | BD39: 153 | BE39: 190 | BF39: 123 | BG39: 140 | BH39: 115 | BI39: 84 | BJ39: 109 | BK39: 4x | BL39: 4x | BM39: + | BN39: + | BO39: + | BP39: + | BQ39: 16 | BR39: 2 | BS39: 1 | BU39: 4
A40: 24 | B40: Ring-necked Duck | C40: =COUNTIF(E40:BJ40,">0") -> 58 | D40: =COUNTA(BK40:BU40) -> 6 | E40: 19 | F40: 20 | G40: 13 | H40: 7 | I40: 22 | J40: 32 | K40: 18 | L40: 24 | M40: 1 | N40: 45 | O40: 31 | P40: 34 | Q40: 21 | R40: 38 | S40: 70 | T40: 38 | U40: 26 | V40: 41 | W40: 66 | X40: 75 | Y40: 35 | Z40: 19 | AA40: 6 | AB40: 4 | AC40: 16 | AD40: 28 | AE40: 20 | AF40: 23 | AG40: 10 | AH40: 29 | AI40: 50 | AJ40: 23 | AK40: 41 | AL40: 43 | AM40: 51 | AN40: 31 | AO40: 36 | AP40: 31 | AQ40: 30 | AR40: 23 | AS40: 18 | AT40: 26 | AU40: 25 | AV40: 4 | AW40: 24 | AX40: 20 | AY40: 5 | AZ40: 11 | BA40: 9 | BB40: 19 | BC40: 13 | BD40: 49 | BE40: 20 | BF40: 32 | BG40: 13 | BH40: 20 | BI40: 22 | BJ40: 4 | BK40: 3x | BL40: 4x | BM40: + | BN40: + | BO40: + | BP40: +
A41: 25 | B41: Greater Scaup | C41: =COUNTIF(E41:BJ41,">0") -> 9 | D41: =COUNTA(BK41:BU41) -> 0 | E41: 0 | F41: 0 | G41: 2 | H41: 0 | I41: 0 | J41: 2 | K41: 3 | L41: 0 | M41: 0 | N41: 0 | O41: 0 | P41: 3 | Q41: 2 | R41: 0 | S41: 2 | T41: 0 | U41: 0 | V41: 0 | W41: 0 | X41: 0 | Y41: 0 | Z41: 0 | AA41: 0 | AB41: 0 | AC41: 0 | AD41: 2 | AE41: 0 | AF41: 0 | AG41: 0 | AH41: 0 | AI41: 0 | AJ41: 0 | AK41: 0 | AL41: 0 | AM41: 0 | AN41: 1 | AO41: 0 | AP41: 0 | AQ41: 0 | AR41: 1 | AS41: 0 | AT41: 0 | AU41: 0 | AV41: 0 | AW41: 0 | AX41: 0 | AY41: 0 | AZ41: 0 | BA41: 0 | BB41: 0 | BC41: 0 | BD41: 0 | BE41: 0 | BF41: 0 | BG41: 0 | BH41: 0 | BI41: 0 | BJ41: 0
A42: 26 | B42: Lesser Scaup | C42: =COUNTIF(E42:BJ42,">0") -> 58 | D42: =COUNTA(BK42:BU42) -> 11 | E42: 349 | F42: 354 | G42: 458 | H42: 515 | I42: 479 | J42: 641 | K42: 449 | L42: 527 | M42: 616 | N42: 544 | O42: 552 | P42: 515 | Q42: 514 | R42: 432 | S42: 516 | T42: 439 | U42: 514 | V42: 294 | W42: 358 | X42: 573 | Y42: 269 | Z42: 216 | AA42: 184 | AB42: 163 | AC42: 323 | AD42: 341 | AE42: 389 | AF42: 465 | AG42: 343 | AH42: 511 | AI42: 632 | AJ42: 550 | AK42: 849 | AL42: 756 | AM42: 811 | AN42: 469 | AO42: 286 | AP42: 307 | AQ42: 249 | AR42: 351 | AS42: 336 | AT42: 216 | AU42: 218 | AV42: 191 | AW42: 184 | AX42: 201 | AY42: 159 | AZ42: 192 | BA42: 311 | BB42: 431 | BC42: 423 | BD42: 195 | BE42: 377 | BF42: 225 | BG42: 499 | BH42: 238 | BI42: 165 | BJ42: 91 | BK42: 4x | BL42: 4x | BM42: + | BN42: + | BO42: + | BP42: + | BQ42: 52 | BR42: 50 | BS42: 22 | BT42: 32 | BU42: 79
A43: 27 | B43: Surf Scoter | C43: =COUNTIF(E43:BJ43,">0") -> 0 | D43: =COUNTA(BK43:BU43) -> 1 | E43: 0 | F43: 0 | G43: 0 | H43: 0 | I43: 0 | J43: 0 | K43: 0 | L43: 0 | M43: 0 | N43: 0 | O43: 0 | P43: 0 | Q43: 0 | R43: 0 | S43: 0 | T43: 0 | U43: 0 | V43: 0 | W43: 0 | X43: 0 | Y43: 0 | Z43: 0 | AA43: 0 | AB43: 0 | AC43: 0 | AD43: 0 | AE43: 0 | AF43: 0 | AG43: 0 | AH43: 0 | AI43: 0 | AJ43: 0 | AK43: 0 | AL43: 0 | AM43: 0 | AN43: 0 | AO43: 0 | AP43: 0 | AQ43: 0 | AR43: 0 | AS43: 0 | AT43: 0 | AU43: 0 | AV43: 0 | AW43: 0 | AX43: 0 | AY43: 0 | AZ43: 0 | BA43: 0 | BB43: 0 | BC43: 0 | BD43: 0 | BE43: 0 | BF43: 0 | BG43: 0 | BH43: 0 | BI43: 0 | BJ43: 0 | BO43: +
A44: 28 | B44: White-winged Scoter | C44: =COUNTIF(E44:BJ44,">0") -> 25 | D44: =COUNTA(BK44:BU44) -> 2 | E44: 0 | F44: 0 | G44: 0 | H44: 0 | I44: 1 | J44: 0 | K44: 0 | L44: 0 | M44: 3 | N44: 0 | O44: 0 | P44: 0 | Q44: 0 | R44: 1 | S44: 0 | T44: 0 | U44: 3 | V44: 0 | W44: 0 | X44: 0 | Y44: 0 | Z44: 0 | AA44: 1 | AB44: 0 | AC44: 0 | AD44: 6 | AE44: 0 | AF44: 0 | AG44: 2 | AH44: 0 | AI44: 11 | AJ44: 2 | AK44: 0 | AL44: 2 | AM44: 0 | AN44: 2 | AO44: 4 | AP44: 1 | AQ44: 0 | AR44: 1 | AS44: 2 | AT44: 1 | AU44: 2 | AV44: 1 | AW44: 0 | AX44: 0 | AY44: 0 | AZ44: 9 | BA44: 0 | BB44: 2 | BC44: 0 | BD44: 8 | BE44: 7 | BF44: 4 | BG44: 2 | BH44: 0 | BI44: 0 | BJ44: 3 | BN44: + | BO44: +
A45: 29 | B45: Long-tailed Duck | C45: =COUNTIF(E45:BJ45,">0") -> 1 | D45: =COUNTA(BK45:BU45) -> 0 | E45: 0 | F45: 0 | G45: 0 | H45: 0 | I45: 0 | J45: 0 | K45: 0 | L45: 0 | M45: 0 | N45: 0 | O45: 0 | P45: 0 | Q45: 0 | R45: 0 | S45: 0 | T45: 0 | U45: 0 | V45: 0 | W45: 0 | X45: 0 | Y45: 0 | Z45: 0 | AA45: 0 | AB45: 0 | AC45: 0 | AD45: 0 | AE45: 0 | AF45: 0 | AG45: 0 | AH45: 0 | AI45: 0 | AJ45: 0 | AK45: 0 | AL45: 0 | AM45: 0 | AN45: 0 | AO45: 0 | AP45: 0 | AQ45: 0 | AR45: 1 | AS45: 0 | AT45: 0 | AU45: 0 | AV45: 0 | AW45: 0 | AX45: 0 | AY45: 0 | AZ45: 0 | BA45: 0 | BB45: 0 | BC45: 0 | BD45: 0 | BE45: 0 | BF45: 0 | BG45: 0 | BH45: 0 | BI45: 0 | BJ45: 0
A46: 30 | B46: Bufflehead | C46: =COUNTIF(E46:BJ46,">0") -> 58 | D46: =COUNTA(BK46:BU46) -> 7 | E46: 119 | F46: 114 | G46: 164 | H46: 207 | I46: 177 | J46: 315 | K46: 224 | L46: 117 | M46: 105 | N46: 226 | O46: 116 | P46: 44 | Q46: 125 | R46: 114 | S46: 177 | T46: 162 | U46: 70 | V46: 72 | W46: 146 | X46: 305 | Y46: 151 | Z46: 70 | AA46: 55 | AB46: 100 | AC46: 99 | AD46: 141 | AE46: 91 | AF46: 146 | AG46: 74 | AH46: 181 | AI46: 203 | AJ46: 136 | AK46: 172 | AL46: 186 | AM46: 112 | AN46: 84 | AO46: 72 | AP46: 79 | AQ46: 62 | AR46: 51 | AS46: 61 | AT46: 60 | AU46: 62 | AV46: 15 | AW46: 36 | AX46: 63 | AY46: 54 | AZ46: 28 | BA46: 59 | BB46: 55 | BC46: 38 | BD46: 68 | BE46: 23 | BF46: 49 | BG46: 39 | BH46: 22 | BI46: 23 | BJ46: 8 | BK46: 3x | BL46: 3x | BM46: + | BN46: + | BO46: + | BP46: + | BQ46: 3
A47: 31 | B47: Common Goldeneye | C47: =COUNTIF(E47:BJ47,">0") -> 58 | D47: =COUNTA(BK47:BU47) -> 7 | E47: 14 | F47: 16 | G47: 28 | H47: 17 | I47: 31 | J47: 33 | K47: 38 | L47: 9 | M47: 11 | N47: 12 | O47: 51 | P47: 6 | Q47: 27 | R47: 16 | S47: 53 | T47: 5 | U47: 2 | V47: 7 | W47: 42 | X47: 30 | Y47: 54 | Z47: 9 | AA47: 34 | AB47: 12 | AC47: 3 | AD47: 15 | AE47: 13 | AF47: 20 | AG47: 3 | AH47: 62 | AI47: 16 | AJ47: 14 | AK47: 6 | AL47: 13 | AM47: 20 | AN47: 9 | AO47: 19 | AP47: 2 | AQ47: 5 | AR47: 15 | AS47: 4 | AT47: 13 | AU47: 1 | AV47: 12 | AW47: 9 | AX47: 10 | AY47: 20 | AZ47: 4 | BA47: 12 | BB47: 27 | BC47: 33 | BD47: 20 | BE47: 28 | BF47: 51 | BG47: 21 | BH47: 14 | BI47: 6 | BJ47: 11 | BK47: 2x | BL47: 3x | BM47: + | BN47: + | BO47: + | BQ47: 5 | BS47: 3
...

Sheet Corrected Counts
B1: The Historical Record of the Saskatoon Nature Society Spring Bird Count, Counts Corrected for Effort - 1985 - 2025
B3: NOTE - To reduce fatigue, observers were historically given the option, for selected species, of counting only to 25 and recording flocks of 50 or more thereafter. From 1968 to 1981 there were short lists of species to be fully counted. Since then, observers have been asked to fully count an ever-increasing list of species. The under-count is less significant than it may appear because any species with less than 25 individuals counted per sector, has been fully counted, and regardless of the options, some sector leaders chose to fully count. The cells have been color-coded to give an idea of the extent of the under-counting. | R3: There was no significant under-reporting | AA3: The count was under-reported in three or more sectors
R5: The count was under-reported in one sector | AA5: The sector counts are unavailable, but are assumed to be under-reported if the count is >25 and the counts immediately before or after were under-reported
R7: The count was under-reported in two sectors
Q9: 1968 | R9: Species fully counted - Mallard, American Coot, Willet, Marbled Godwit, Franklin's Gull,Black Tern, Rock Pigeon, Eastern Kingbird, Western Kingbird, Black-billed Magpie, American Crow, Mountain Bluebird, Loggerhead Shrike, Yellow Warbler,
R10: Western Meadowlark, Yellow-headed Blackbird, Red-winged Blackbird and Clay-colored Sparrow. All others were counted to 25 in each sector.
Q11: 1969-81 | R11: Species fully counted - Mountain Bluebird, American Crow, Eastern Kingbird, Western Kingbird, Black-billed Magpie, Western Meadowlark, American Robin, Short-eared Owl and Loggerhead Shrike.
R12: All other species were counted only to 25 in each sector. In all years, some sector leaders fully counted in their sector regardless of the options.
A15: Current Taxonomic Order | B15: Species | C15: Long-term Average | D15: 2025 as %LTA | E15: 2021-25 as %LTA | F15: 2025 | G15: 2024 | H15: 2023 | I15: 2022 | J15: 2021 | K15: 2020 | L15: 2019 | M15: 2018 | N15: 2017 | O15: 2016 | P15: 2015 | Q15: 2014 | R15: 2013 | S15: 2012 | T15: 2011 | U15: 2010 | V15: 2009 | W15: 2008 | X15: 2007 | Y15: 2006 | Z15: 2005 | AA15: 2004 | AB15: 2003 | AC15: 2002 | AD15: 2001 | AE15: 2000 | AF15: 1999 | AG15: 1998 | AH15: 1997 | AI15: 1996 | AJ15: 1995 | AK15: 1994 | AL15: 1993 | AM15: 1992 | AN15: 1991 | AO15: 1990 | AP15: 1989 | AQ15: 1988 | AR15: 1987 | AS15: 1986 | AT15: 1985
B16: Hours of effort | C16: =AVERAGE(F16:AT16) -> 186.89446 | F16: 211 | G16: 195 | H16: 245 | I16: 239 | J16: 287 | K16: 276 | L16: 200.56667 | M16: 182.477 | N16: 202.9 | O16: 184.46 | P16: 181.85 | Q16: 184 | R16: 184.88 | S16: 201.54 | T16: 176 | U16: 166 | V16: 181.21 | W16: 183.752 | X16: 206.31 | Y16: 186.52 | Z16: 176.83 | AA16: 198.9902 | AB16: 222.267 | AC16: 216.83 | AD16: 179.62 | AE16: 204.77 | AF16: 161.7 | AG16: 150.9 | AH16: 102.3 | AI16: 137 | AJ16: 136 | AK16: 190 | AL16: 197 | AM16: 218 | AN16: 183 | AO16: 148 | AP16: 177 | AQ16: 172 | AR16: 136 | AS16: 124 | AT16: 155
A17: 1 | B17: • Goose sp. • | C17: =AVERAGE(F17:AT17) -> 2.6767357 | D17: =IF(C17=0,"",F17/C17*100) -> 0 | E17: =IF(C17=0,"",AVERAGE(F17:J17)/C17*100) -> 0 | F17: ='Raw counts'!E17*$C$16/F$16 -> 0 | G17: ='Raw counts'!F17*$C$16/G$16 -> 0 | H17: ='Raw counts'!G17*$C$16/H$16 -> 0 | I17: ='Raw counts'!H17*$C$16/I$16 -> 0 | J17: ='Raw counts'!I17*$C$16/J$16 -> 0 | K17: ='Raw counts'!J17*$C$16/K$16 -> 0 | L17: ='Raw counts'!K17*$C$16/L$16 -> 0 | M17: ='Raw counts'!L17*$C$16/M$16 -> 0 | ... AT17: ='Raw counts'!AS17*$C$16/AT$16 -> 0
A18: 2 | B18: Snow Goose | C18: =AVERAGE(F18:AT18) -> 19.507103 | D18: =IF(C18=0,"",F18/C18*100) -> 122.59844 | E18: =IF(C18=0,"",AVERAGE(F18:J18)/C18*100) -> 70.707395 | F18: ='Raw counts'!E18*$C$16/F$16 -> 23.915405 | G18: ='Raw counts'!F18*$C$16/G$16 -> 20.127096 | H18: ='Raw counts'!G18*$C$16/H$16 -> 3.8141727 | I18: ='Raw counts'!H18*$C$16/I$16 -> 13.293748 | J18: ='Raw counts'!I18*$C$16/J$16 -> 7.8144025 | K18: ='Raw counts'!J18*$C$16/K$16 -> 20.314615 | L18: ='Raw counts'!K18*$C$16/L$16 -> 20.500306 | M18: ='Raw counts'!L18*$C$16/M$16 -> 69.646165 | ... AT18: ='Raw counts'!AS18*$C$16/AT$16 -> 8.440395
A19: 3 | B19: Ross's Goose | C19: =AVERAGE(F19:AT19) -> 5.656579 | D19: =IF(C19=0,"",F19/C19*100) -> 0 | E19: =IF(C19=0,"",AVERAGE(F19:J19)/C19*100) -> 0 | F19: ='Raw counts'!E19*$C$16/F$16 -> 0 | G19: ='Raw counts'!F19*$C$16/G$16 -> 0 | H19: ='Raw counts'!G19*$C$16/H$16 -> 0 | I19: ='Raw counts'!H19*$C$16/I$16 -> 0 | J19: ='Raw counts'!I19*$C$16/J$16 -> 0 | K19: ='Raw counts'!J19*$C$16/K$16 -> 0.67715384 | L19: ='Raw counts'!K19*$C$16/L$16 -> 0 | M19: ='Raw counts'!L19*$C$16/M$16 -> 114.71133 | ... AT19: ='Raw counts'!AS19*$C$16/AT$16 -> 0
A20: 4 | B20: Greater White-fronted Goose | C20: =AVERAGE(F20:AT20) -> 7.454994 | D20: =IF(C20=0,"",F20/C20*100) -> 47.525497 | E20: =IF(C20=0,"",AVERAGE(F20:J20)/C20*100) -> 19.241406 | F20: ='Raw counts'!E20*$C$16/F$16 -> 3.5430229 | G20: ='Raw counts'!F20*$C$16/G$16 -> 0 | H20: ='Raw counts'!G20*$C$16/H$16 -> 0.76283453 | I20: ='Raw counts'!H20*$C$16/I$16 -> 1.5639704 | J20: ='Raw counts'!I20*$C$16/J$16 -> 1.3024004 | K20: ='Raw counts'!J20*$C$16/K$16 -> 0.67715384 | L20: ='Raw counts'!K20*$C$16/L$16 -> 1.8636642 | M20: ='Raw counts'!L20*$C$16/M$16 -> 0 | ... AT20: ='Raw counts'!AS20*$C$16/AT$16 -> 13.263478
A21: 5 | B21: Cackling Goose | C21: =AVERAGE(F21:AT21) -> 0.1255029 | D21: =IF(C21=0,"",F21/C21*100) -> 0 | E21: =IF(C21=0,"",AVERAGE(F21:J21)/C21*100) -> 415.09811 | F21: ='Raw counts'!E21*$C$16/F$16 -> 0 | G21: ='Raw counts'!F21*$C$16/G$16 -> 0 | H21: ='Raw counts'!G21*$C$16/H$16 -> 0 | I21: ='Raw counts'!H21*$C$16/I$16 -> 0 | J21: ='Raw counts'!I21*$C$16/J$16 -> 2.6048008 | K21: ='Raw counts'!J21*$C$16/K$16 -> 0.67715384 | L21: ='Raw counts'!K21*$C$16/L$16 -> 1.8636642 | M21: ='Raw counts'!L21*$C$16/M$16 -> 0 | ... AT21: ='Raw counts'!AS21*$C$16/AT$16 -> 0
A22: 6 | B22: Canada Goose | C22: =AVERAGE(F22:AT22) -> 882.51076 | D22: =IF(C22=0,"",F22/C22*100) -> 109.90263 | E22: =IF(C22=0,"",AVERAGE(F22:J22)/C22*100) -> 127.5503 | F22: ='Raw counts'!E22*$C$16/F$16 -> 969.90253 | G22: ='Raw counts'!F22*$C$16/G$16 -> 1171.2053 | H22: ='Raw counts'!G22*$C$16/H$16 -> 742.238 | I22: ='Raw counts'!H22*$C$16/I$16 -> 1409.9193 | J22: ='Raw counts'!I22*$C$16/J$16 -> 1334.9604 | K22: ='Raw counts'!J22*$C$16/K$16 -> 1839.827 | L22: ='Raw counts'!K22*$C$16/L$16 -> 1383.7707 | M22: ='Raw counts'!L22*$C$16/M$16 -> 1007.821 | ... AT22: ='Raw counts'!AS22*$C$16/AT$16 -> 253.21185
A23: 7 | B23: Trumpeter Swan | C23: =AVERAGE(F23:AT23) -> 0.044851249 | D23: =IF(C23=0,"",F23/C23*100) -> 0 | E23: =IF(C23=0,"",AVERAGE(F23:J23)/C23*100) -> 348.70163 | F23: ='Raw counts'!E23*$C$16/F$16 -> 0 | G23: ='Raw counts'!F23*$C$16/G$16 -> 0 | H23: ='Raw counts'!G23*$C$16/H$16 -> 0 | I23: ='Raw counts'!H23*$C$16/I$16 -> 0.78198519 | J23: ='Raw counts'!I23*$C$16/J$16 -> 0 | K23: ='Raw counts'!J23*$C$16/K$16 -> 0 | L23: ='Raw counts'!K23*$C$16/L$16 -> 0 | M23: ='Raw counts'!L23*$C$16/M$16 -> 0 | ... AT23: ='Raw counts'!AS23*$C$16/AT$16 -> 0
A24: 8 | B24: Tundra Swan | C24: =AVERAGE(F24:AT24) -> 10.278429 | D24: =IF(C24=0,"",F24/C24*100) -> 0 | E24: =IF(C24=0,"",AVERAGE(F24:J24)/C24*100) -> 0 | F24: ='Raw counts'!E24*$C$16/F$16 -> 0 | G24: ='Raw counts'!F24*$C$16/G$16 -> 0 | H24: ='Raw counts'!G24*$C$16/H$16 -> 0 | I24: ='Raw counts'!H24*$C$16/I$16 -> 0 | J24: ='Raw counts'!I24*$C$16/J$16 -> 0 | K24: ='Raw counts'!J24*$C$16/K$16 -> 0 | L24: ='Raw counts'!K24*$C$16/L$16 -> 0 | M24: ='Raw counts'!L24*$C$16/M$16 -> 0 | ... AT24: ='Raw counts'!AS24*$C$16/AT$16 -> 0
A25: 9 | B25: • Duck sp. • | C25: =AVERAGE(F25:AT25) -> 173.72358 | D25: =IF(C25=0,"",F25/C25*100) -> 653.13706 | E25: =IF(C25=0,"",AVERAGE(F25:J25)/C25*100) -> 218.16336 | F25: ='Raw counts'!E25*$C$16/F$16 -> 1134.6531 | G25: ='Raw counts'!F25*$C$16/G$16 -> 4.7921656 | H25: ='Raw counts'!G25*$C$16/H$16 -> 457.70072 | I25: ='Raw counts'!H25*$C$16/I$16 -> 1.5639704 | J25: ='Raw counts'!I25*$C$16/J$16 -> 296.2961 | K25: ='Raw counts'!J25*$C$16/K$16 -> 247.83831 | L25: ='Raw counts'!K25*$C$16/L$16 -> 2.7954963 | M25: ='Raw counts'!L25*$C$16/M$16 -> 76.815623 | ... AT25: ='Raw counts'!AS25*$C$16/AT$16 -> 0
A26: 10 | B26: Wood Duck | C26: =AVERAGE(F26:AT26) -> 0.92013664 | D26: =IF(C26=0,"",F26/C26*100) -> 96.2635 | E26: =IF(C26=0,"",AVERAGE(F26:J26)/C26*100) -> 190.73381 | F26: ='Raw counts'!E26*$C$16/F$16 -> 0.88575574 | G26: ='Raw counts'!F26*$C$16/G$16 -> 1.9168663 | H26: ='Raw counts'!G26*$C$16/H$16 -> 0.76283453 | I26: ='Raw counts'!H26*$C$16/I$16 -> 0 | J26: ='Raw counts'!I26*$C$16/J$16 -> 5.2096017 | K26: ='Raw counts'!J26*$C$16/K$16 -> 4.062923 | L26: ='Raw counts'!K26*$C$16/L$16 -> 6.5228248 | M26: ='Raw counts'!L26*$C$16/M$16 -> 0 | ... AT26: ='Raw counts'!AS26*$C$16/AT$16 -> 0
A27: 11 | B27: Blue-winged Teal | C27: =AVERAGE(F27:AT27) -> 421.11306 | D27: =IF(C27=0,"",F27/C27*100) -> 121.99535 | E27: =IF(C27=0,"",AVERAGE(F27:J27)/C27*100) -> 95.047998 | F27: ='Raw counts'!E27*$C$16/F$16 -> 513.73833 | G27: ='Raw counts'!F27*$C$16/G$16 -> 545.34845 | H27: ='Raw counts'!G27*$C$16/H$16 -> 342.5127 | I27: ='Raw counts'!H27*$C$16/I$16 -> 291.68048 | J27: ='Raw counts'!I27*$C$16/J$16 -> 308.0177 | K27: ='Raw counts'!J27*$C$16/K$16 -> 367.01738 | L27: ='Raw counts'!K27*$C$16/L$16 -> 427.71094 | M27: ='Raw counts'!L27*$C$16/M$16 -> 710.80057 | ... AT27: ='Raw counts'!AS27*$C$16/AT$16 -> 306.26576
A28: 12 | B28: Cinnamon Teal | C28: =AVERAGE(F28:AT28) -> 1.580816 | D28: =IF(C28=0,"",F28/C28*100) -> 56.031551 | E28: =IF(C28=0,"",AVERAGE(F28:J28)/C28*100) -> 21.099747 | F28: ='Raw counts'!E28*$C$16/F$16 -> 0.88575574 | G28: ='Raw counts'!F28*$C$16/G$16 -> 0 | H28: ='Raw counts'!G28*$C$16/H$16 -> 0 | I28: ='Raw counts'!H28*$C$16/I$16 -> 0.78198519 | J28: ='Raw counts'!I28*$C$16/J$16 -> 0 | K28: ='Raw counts'!J28*$C$16/K$16 -> 0.67715384 | L28: ='Raw counts'!K28*$C$16/L$16 -> 0 | M28: ='Raw counts'!L28*$C$16/M$16 -> 1.0242083 | ... AT28: ='Raw counts'!AS28*$C$16/AT$16 -> 8.440395
... A324: 309 | B324: Indigo Bunting | C324: =AVERAGE(F324:AT324) -> 0.015882932 | D324: =IF(C324=0,"",F324/C324*100) -> 0 | E324: =IF(C324=0,"",AVERAGE(F324:J324)/C324*100) -> 820 | F324: ='Raw counts'!E324*$C$16/F$16 -> 0 | G324: ='Raw counts'!F324*$C$16/G$16 -> 0 | H324: ='Raw counts'!G324*$C$16/H$16 -> 0 | I324: ='Raw counts'!H324*$C$16/I$16 -> 0 | J324: ='Raw counts'!I324*$C$16/J$16 -> 0.65120021 | K324: ='Raw counts'!J324*$C$16/K$16 -> 0 | L324: ='Raw counts'!K324*$C$16/L$16 -> 0 | M324: ='Raw counts'!L324*$C$16/M$16 -> 0 | ... AT324: ='Raw counts'!AS324*$C$16/AT$16 -> 0
B325: Total Birds | C325: =AVERAGE(F325:AT325) -> 33872.962 | D325: =IF(C325=0,"",F325/C325*100) -> 92.68635 | E325: =IF(C325=0,"",AVERAGE(F325:J325)/C325*100) -> 83.504042 | F325: ='Raw counts'!E325*$C$16/F$16 -> 31395.612 | G325: ='Raw counts'!F325*$C$16/G$16 -> 38787.789 | H325: ='Raw counts'!G325*$C$16/H$16 -> 23975.126 | I325: ='Raw counts'!H325*$C$16/I$16 -> 22493.022 | J325: ='Raw counts'!I325*$C$16/J$16 -> 24774.912 | K325: ='Raw counts'!J325*$C$16/K$16 -> 28762.787 | L325: ='Raw counts'!K325*$C$16/L$16 -> 30391.704 | M325: ='Raw counts'!L325*$C$16/M$16 -> 30958.745 | ... AT325: ='Raw counts'!AS325*$C$16/AT$16 -> 43507.825

Sheet #Sectors under-reported
B1: The Historical Record of the Saskatoon Nature Society Spring Bird Count, number of sectors under-counted - 1968-2025
B3: NOTE - To reduce fatigue, observers were historically given the option, for selected species, of counting only to 25 and recording flocks of 50 or more thereafter. From 1968 to 1981 there were short lists of species to be fully counted. Since then, observers have been asked to fully count an ever-increasing list of species. The under-count is less significant than it may appear because any species with less than 25 individuals counted per sector, has been fully counted, and regardless of the options, some sector leaders chose to fully count. The cells have been color-coded to give an idea of the extent of the under-counting. | Z3: There was no significant under-reporting | AL3: The count was under-reported in three or more sectors
Z5: The count was under-reported in one sector | AL5: The sector counts are unavailable, but are assumed to be under-reported if the count is >25 and the counts immediately before or after were under-reported
Z7: The count was under-reported in two sectors
Y9: 1968 | Z9: Species fully counted - Mallard, American Coot, Willet, Marbled Godwit, Franklin's Gull,Black Tern, Rock Pigeon, Eastern Kingbird, Western Kingbird, Black-billed Magpie, American Crow, Mountain Bluebird, Loggerhead Shrike, Yellow Warbler, Western Meadowlark, Yellow-headed Blackbird, Red-winged Blackbird and Clay-colored Sparrow. All others were counted to 25 in each sector.
Y10: 1969-81 | Z10: Species fully counted - Mountain Bluebird, American Crow, Eastern Kingbird, Western Kingbird, Black-billed Magpie, Western Meadowlark, American Robin, Short-eared Owl and Loggerhead Shrike. All other species were counted only to 25 in each sector
Z11: In all years, some sector leaders fully counted in their sector regardless of the options. Today, the option to under-count only applies to Canada Goose, Blue-winged Teal, Northern Shoveller, GadwallAmerican Wigeon and Mallard.
A14: Current Taxonomic Order | B14: Species | C14: 2025 | D14: 2024 | E14: 2023 | F14: 2022 | G14: 2021 | H14: 2020 | I14: 2019 | J14: 2018 | K14: 2017 | L14: 2016 | M14: 2015 | N14: 2014 | O14: 2013 | P14: 2012 | Q14: 2011 | R14: 2010 | S14: 2009 | T14: 2008 | U14: 2007 | V14: 2006 | W14: 2005 | X14: 2004 | Y14: 2003 | Z14: 2002 | AA14: 2001 | AB14: 2000 | AC14: 1999 | AD14: 1998 | AE14: 1997 | AF14: 1996 | AG14: 1995 | AH14: 1994 | AI14: 1993 | AJ14: 1992 | AK14: 1991 | AL14: 1990 | AM14: 1989 | AN14: 1988 | AO14: 1987 | AP14: 1986 | AQ14: 1985 | AR14: 1984 | AS14: 1983 | AT14: 1982 | AU14: 1981 | AV14: 1980 | AW14: 1979 | AX14: 1978 | AY14: 1977 | AZ14: 1976 | BA14: 1975 | BB14: 1974 | BC14: 1973 | BD14: 1972 | BE14: 1971 | BF14: 1970 | BG14: 1969 | BH14: 1968
A15: 1 | B15: • Goose sp. •
A16: 2 | B16: Snow Goose
A17: 3 | B17: Ross's Goose
A18: 4 | B18: Greater White-fronted Goose
A19: 5 | B19: Cackling Goose
A20: 6 | B20: Canada Goose | C20: 1 | D20: 1 | F20: 1 | G20: 3 | H20: 1 | I20: 2 | J20: 3 | K20: 3 | L20: 3 | M20: 5 | N20: 2 | O20: 3 | P20: 2 | Q20: 2 | R20: 3 | S20: 6 | T20: 3 | U20: 5 | V20: 5 | W20: 2 | X20: 4 | Y20: 4 | Z20: 3 | AA20: 5 | AB20: 6 | AC20: 4 | AD20: 4 | AE20: 3 | AF20: 5 | AG20: 3 | AH20: 2 | AI20: 1 | AJ20: 2 | AK20: 5 | AL20: 3 | AP20: 2 | AQ20: ? | AU20: 1 | AZ20: 1
A21: 7 | B21: Trumpeter Swan
A22: 8 | B22: Tundra Swan | BC22: 1
A23: 9 | B23: • Duck sp. •
A24: 10 | B24: Wood Duck
A25: 11 | B25: Blue-winged Teal | C25: 1 | D25: 1 | E25: 1 | F25: 1 | G25: 3 | H25: 2 | I25: 3 | J25: 1 | K25: 2 | L25: 3 | M25: 3 | N25: 2 | O25: 5 | P25: 3 | Q25: 2 | R25: 2 | S25: 6 | T25: 3 | U25: 7 | V25: 5 | W25: 5 | X25: 3 | Y25: 2 | Z25: 2 | AA25: 3 | AB25: 4 | AC25: 4 | AD25: 3 | AE25: 4 | AF25: 6 | AG25: 3 | AH25: 1 | AI25: 5 | AJ25: 5 | AK25: 7 | AL25: 7 | AP25: 4 | AQ25: ? | AS25: 6 | AT25: 2 | AU25: 4 | AV25: 6 | AW25: 7 | AX25: 3 | AY25: 4 | AZ25: 5 | BB25: 6 | BC25: 7 | BF25: 8 | BG25: 4 | BH25: 5
A26: 12 | B26: Cinnamon Teal
A27: 13 | B27: Cinnamon/ Blue-winged Teal hybrid
A28: 14 | B28: Northern Shoveler | C28: 1 | D28: 1 | E28: 1 | F28: 1 | G28: 3 | H28: 2 | I28: 3 | J28: 1 | K28: 2 | L28: 2 | M28: 3 | N28: 3 | O28: 4 | P28: 3 | Q28: 2 | R28: 5 | S28: 5 | T28: 3 | U28: 7 | V28: 5 | W28: 4 | X28: 2 | Y28: 3 | Z28: 1 | AA28: 2 | AB28: 4 | AC28: 5 | AD28: 3 | AE28: 4 | AF28: 6 | AG28: 4 | AH28: 1 | AI28: 2 | AJ28: 4 | AK28: 5 | AL28: 5 | AP28: 4 | AQ28: ? | AS28: 6 | AT28: 1 | AU28: 1 | AV28: 6 | AW28: 7 | AX28: 4 | AY28: 4 | AZ28: 3 | BB28: 6 | BC28: 7 | BF28: 7 | BG28: 7 | BH28: 5
A29: 15 | B29: Gadwall | D29: 1 | F29: 4 | G29: 3 | H29: 2 | I29: 3 | J29: 1 | K29: 2 | L29: 3 | M29: 2 | N29: 3 | O29: 3 | P29: 3 | Q29: 2 | R29: 5 | S29: 3 | T29: 3 | U29: 5 | V29: 2 | W29: 1 | X29: 2 | Y29: 1 | Z29: 1 | AA29: 4 | AB29: 3 | AC29: 2 | AD29: 4 | AE29: 3 | AF29: 5 | AG29: 3 | AH29: 1 | AI29: 3 | AJ29: 4 | AK29: 5 | AL29: 5 | AP29: 4 | AQ29: ? | AS29: 4 | AT29: 1 | AU29: 2 | AV29: 2 | AW29: 2 | AX29: 1 | AY29: 2 | AZ29: 3 | BB29: 3 | BC29: 3 | BF29: 1 | BG29: 1 | BH29: 1
A30: 16 | B30: Eurasian Wigeon
A31: 17 | B31: American Wigeon | H31: 2 | I31: 1 | L31: 2 | M31: 2 | N31: 1 | O31: 1 | P31: 3 | Q31: 2 | R31: 1 | S31: 2 | T31: 5 | U31: 1 | V31: 1 | Z31: 1 | AB31: 1 | AC31: 4 | AD31: 3 | AE31: 2 | AF31: 2 | AG31: 3 | AH31: 1 | AI31: 3 | AJ31: 1 | AK31: 4 | AL31: 3 | AP31: 4 | AS31: 4 | AV31: 4 | AW31: 5 | AX31: 4 | AY31: 3 | AZ31: 2 | BB31: 5 | BC31: 7 | BF31: 5 | BG31: 4 | BH31: 4
A32: 18 | B32: Mallard | C32: 1 | D32: 1 | E32: 2 | F32: 4 | G32: 3 | H32: 2 | I32: 2 | J32: 1 | K32: 2 | L32: 3 | M32: 4 | N32: 2 | O32: 4 | P32: 4 | Q32: 2 | R32: 3 | S32: 5 | T32: 5 | U32: 6 | V32: 5 | W32: 5 | X32: 3 | Y32: 4 | Z32: 1 | AA32: 5 | AB32: 6 | AC32: 5 | AD32: 4 | AE32: 4 | AF32: 6 | AG32: 4 | AH32: 1 | AI32: 2 | AJ32: 4 | AK32: 7 | AL32: 6 | AP32: 4 | AQ32: ? | AS32: 5 | AT32: 3 | AU32: 6 | AV32: 8 | AW32: 8 | AX32: 8 | AY32: 7 | AZ32: 5 | BB32: 7 | BC32: 7 | BF32: 9 | BG32: 8
A33: 19 | B33: American Black Duck
A34: 20 | B34: Northern Pintail | M34: 2 | N34: 1 | P34: 1 | Q34: 1 | R34: 1 | S34: 2 | T34: 5 | U34: 3 | V34: 5 | W34: 4 | Y34: 1 | AA34: 2 | AB34: 2 | AC34: 1 | AE34: 3 | AF34: 2 | AG34: 4 | AH34: 1 | AI34: 2 | AJ34: 3 | AK34: 1 | AL34: 5 | AP34: 3 | AQ34: ? | AS34: 6 | AU34: 3 | AV34: 6 | AW34: 6 | AX34: 6 | AY34: 3 | AZ34: 6 | BB34: 7 | BC34: 6 | BF34: 8 | BG34: 7 | BH34: 3
A35: 21 | B35: Green-winged Teal | M35: 1 | O35: 1 | S35: 1 | W35: 1 | AG35: 1 | AL35: 1 | BC35: 1 | BG35: 1 | BH35: 1
A36: 22 | B36: Canvasback | U36: 1 | AC36: 1 | AD36: 1 | AE36: 2 | AF36: 1 | AI36: 1 | AJ36: 2 | AK36: 3 | AL36: 6 | AP36: 2 | AQ36: ? | AS36: 6 | AT36: 1 | AU36: 2 | AV36: 3 | AW36: 2 | AX36: 3 | AY36: 4 | AZ36: 3 | BB36: 6 | BC36: 7 | BF36: 2 | BG36: 3 | BH36: 4
A37: 23 | B37: Redhead | U37: 1 | AC37: 1 | AE37: 1 | AF37: 1 | AI37: 1 | AJ37: 2 | AK37: 3 | AL37: 3 | AP37: 2 | AQ37: ? | AS37: 2 | AT37: 1 | AU37: 1 | AV37: 4 | AW37: 2 | AX37: 1 | AY37: 5 | AZ37: 4 | BB37: 3 | BC37: 7 | BF37: 2 | BH37: 2
A38: 24 | B38: Ring-necked Duck
A39: 25 | B39: Greater Scaup
A40: 26 | B40: Lesser Scaup | U40: 1 | V40: 1 | AF40: 1 | AG40: 1 | AJ40: 3 | AK40: 3 | AL40: 4 | AP40: 2 | AQ40: ? | AS40: 5 | AT40: 2 | AU40: 3 | AV40: 5 | AW40: 6 | AX40: 6 | AY40: 4 | AZ40: 6 | BB40: 5 | BC40: 5 | BF40: 5 | BG40: 5 | BH40: 2
A41: 27 | B41: Surf Scoter
A42: 28 | B42: White-winged Scoter
A43: 29 | B43: Long-tailed Duck
A44: 30 | B44: Bufflehead | AK44: 1
A45: 31 | B45: Common Goldeneye
A46: 32 | B46: Barrow's Goldeneye
...
